{"text_format":"1","workbook":"xlsx","n_sheets":9,"sheets":["CampbellDiagram","0 RPM","2 RPM","4 RPM","6 RPM","8 RPM","10 RPM","12 RPM","14 RPM"],"not_rendered":{"charts":1,"images":0,"macros":0,"external_links":0,"defined_names":0,"comments":8,"pivot_tables":0},"unopened":[],"bounds":{"document_bytes":16777216,"sheet_cells":100000,"rows_first":2000,"rows_last":500,"rows_between":2000,"halvings":0,"cell_chars":16384,"cell_head_chars":4096},"cells_cut":0,"cells_raw":0,"read":"whole","date_system":"1900"}

{"sheet":"CampbellDiagram","index":0,"n_rows":23,"n_cols":49,"rows_kept":23,"cut":false,"hidden":false,"merged":[]}
[null,null,null,null,null,null,null,null,null,null,null,null,null,1,{"$f":"N1+1","v":2},3,4,5,6,7,8,9,10,11,12,13,14,15,16,17,18,19,20,21,22,23,24,25,26,27,28,29,30,31,32,33,34,35,36]
[null,"Natural Frequencies (Hz) as a Function of Rotor Speed",null,null,null,null,null,null,null,null,null,2,600,{"$f":"M2+(1/36)/($L2/60)","v":600.83333333333337},601.66666666666674,602.50000000000011,603.33333333333348,604.16666666666686,605.00000000000023,605.8333333333336,606.66666666666697,607.50000000000034,608.33333333333371,609.16666666666708,610.00000000000045,610.83333333333383,611.6666666666672,612.50000000000057,613.33333333333394,614.16666666666731,615.00000000000068,615.83333333333405,616.66666666666742,617.5000000000008,618.33333333333417,619.16666666666754,620.00000000000091,620.83333333333428,621.66666666666765,622.50000000000102,623.33333333333439,624.16666666666777,625.00000000000114,625.83333333333451,626.66666666666788,627.50000000000125,628.33333333333462,629.16666666666799,630.00000000000136]
[null,"Rotor Speed (rpm)",0,{"$f":"C3+2","v":2},4,6,8,10,12,14,null,{"$f":"L2+2","v":4},600,{"$f":"M3+(1/36)/($L3/60)","v":600.41666666666663},600.83333333333326,601.24999999999989,601.66666666666652,602.08333333333314,602.49999999999977,602.9166666666664,603.33333333333303,603.74999999999966,604.16666666666629,604.58333333333292,604.99999999999955,605.41666666666617,605.8333333333328,606.24999999999943,606.66666666666606,607.08333333333269,607.49999999999932,607.91666666666595,608.33333333333258,608.7499999999992,609.16666666666583,609.58333333333246,609.99999999999909,610.41666666666572,610.83333333333235,611.24999999999898,611.66666666666561,612.08333333333223,612.49999999999886,612.91666666666549,613.33333333333212,613.74999999999875,614.16666666666538,614.58333333333201,614.99999999999864]
[1,"1st Tower FA",{"$f":"'0 RPM'!$BO17","v":3.6140238077019902E-2},{"$f":"'2 RPM'!$BO17","v":3.6122406595298237E-2},{"$f":"'4 RPM'!$BO17","v":3.6130377473582387E-2},{"$f":"'6 RPM'!$BO17","v":3.6111583310311203E-2},{"$f":"'8 RPM'!$BO17","v":3.6192387791171413E-2},{"$f":"'10 RPM'!$BO17","v":3.6207325232479617E-2},{"$f":"'12 RPM'!$BO17","v":3.62227389599327E-2},{"$f":"'14 RPM'!$BO17","v":3.6238238953591052E-2},null,6,600,{"$f":"M4+(1/36)/($L4/60)","v":600.27777777777783},600.55555555555566,600.83333333333348,601.11111111111131,601.38888888888914,601.66666666666697,601.9444444444448,602.22222222222263,602.50000000000045,602.77777777777828,603.05555555555611,603.33333333333394,603.61111111111177,603.8888888888896,604.16666666666742,604.44444444444525,604.72222222222308,605.00000000000091,605.27777777777874,605.55555555555657,605.83333333333439,606.11111111111222,606.38888888889005,606.66666666666788,606.94444444444571,607.22222222222354,607.50000000000136,607.77777777777919,608.05555555555702,608.33333333333485,608.61111111111268,608.88888888889051,609.16666666666833,609.44444444444616,609.72222222222399,610.00000000000182]
[{"$f":"A4+1","v":2},"1st Tower SS",{"$f":"'0 RPM'!$BO18","v":3.6173867487825938E-2},{"$f":"'2 RPM'!$BO18","v":3.6227132310338597E-2},{"$f":"'4 RPM'!$BO18","v":3.6190268820279897E-2},{"$f":"'6 RPM'!$BO18","v":3.6179054180370492E-2},{"$f":"'8 RPM'!$BO18","v":3.6192387791171413E-2},{"$f":"'10 RPM'!$BO18","v":3.6075583027220942E-2},{"$f":"'12 RPM'!$BO18","v":3.6064335327527293E-2},{"$f":"'14 RPM'!$BO18","v":3.6054406586347253E-2},null,8,600,{"$f":"M5+(1/36)/($L5/60)","v":600.20833333333337},600.41666666666674,600.62500000000011,600.83333333333348,601.04166666666686,601.25000000000023,601.4583333333336,601.66666666666697,601.87500000000034,602.08333333333371,602.29166666666708,602.50000000000045,602.70833333333383,602.9166666666672,603.12500000000057,603.33333333333394,603.54166666666731,603.75000000000068,603.95833333333405,604.16666666666742,604.3750000000008,604.58333333333417,604.79166666666754,605.00000000000091,605.20833333333428,605.41666666666765,605.62500000000102,605.83333333333439,606.04166666666777,606.25000000000114,606.45833333333451,606.66666666666788,606.87500000000125,607.08333333333462,607.29166666666799,607.50000000000136]
[3,"2nd Tower FA",{"$f":"'0 RPM'!$BO19","v":3.6140238077019902E-2},{"$f":"'2 RPM'!$BO19","v":3.6122406595298237E-2},{"$f":"'4 RPM'!$BO19","v":3.6130377473582387E-2},{"$f":"'6 RPM'!$BO19","v":3.6111583310311203E-2},{"$f":"'8 RPM'!$BO19","v":3.6192387791171413E-2},{"$f":"'10 RPM'!$BO19","v":3.6207325232479617E-2},{"$f":"'12 RPM'!$BO19","v":3.62227389599327E-2},{"$f":"'14 RPM'!$BO19","v":3.6238238953591052E-2},null,10,600,{"$f":"M6+(1/36)/($L6/60)","v":600.16666666666663},600.33333333333326,600.49999999999989,600.66666666666652,600.83333333333314,600.99999999999977,601.1666666666664,601.33333333333303,601.49999999999966,601.66666666666629,601.83333333333292,601.99999999999955,602.16666666666617,602.3333333333328,602.49999999999943,602.66666666666606,602.83333333333269,602.99999999999932,603.16666666666595,603.33333333333258,603.4999999999992,603.66666666666583,603.83333333333246,603.99999999999909,604.16666666666572,604.33333333333235,604.49999999999898,604.66666666666561,604.83333333333223,604.99999999999886,605.16666666666549,605.33333333333212,605.49999999999875,605.66666666666538,605.83333333333201,605.99999999999864]
[4,"2nd Tower SS",{"$f":"'0 RPM'!$BO20","v":3.6173867487825938E-2},{"$f":"'2 RPM'!$BO20","v":3.6227132310338597E-2},{"$f":"'4 RPM'!$BO20","v":3.6190268820279897E-2},{"$f":"'6 RPM'!$BO20","v":3.6179054180370492E-2},{"$f":"'8 RPM'!$BO20","v":3.6192387791171413E-2},{"$f":"'10 RPM'!$BO20","v":3.6207325232479617E-2},{"$f":"'12 RPM'!$BO20","v":3.62227389599327E-2},{"$f":"'14 RPM'!$BO20","v":3.6238238953591052E-2},null,12,600,{"$f":"M7+(1/36)/($L7/60)","v":600.13888888888891},600.27777777777783,600.41666666666674,600.55555555555566,600.69444444444457,600.83333333333348,600.9722222222224,601.11111111111131,601.25000000000023,601.38888888888914,601.52777777777806,601.66666666666697,601.80555555555588,601.9444444444448,602.08333333333371,602.22222222222263,602.36111111111154,602.50000000000045,602.63888888888937,602.77777777777828,602.9166666666672,603.05555555555611,603.19444444444503,603.33333333333394,603.47222222222285,603.61111111111177,603.75000000000068,603.8888888888896,604.02777777777851,604.16666666666742,604.30555555555634,604.44444444444525,604.58333333333417,604.72222222222308,604.861111111112,605.00000000000091]
[5,"1st Blade Flap (Regressive)",{"$f":"'0 RPM'!$BO22","v":3.6140238077019902E-2},{"$f":"'2 RPM'!$BO22","v":3.6122406595298237E-2},{"$f":"'4 RPM'!$BO22","v":3.6130377473582387E-2},{"$f":"'6 RPM'!$BO22","v":3.6179054180370492E-2},{"$f":"'8 RPM'!$BO22","v":3.6192387791171413E-2},{"$f":"'10 RPM'!$BO22","v":3.6207325232479617E-2},{"$f":"'12 RPM'!$BO22","v":3.62227389599327E-2},{"$f":"'14 RPM'!$BO22","v":3.6238238953591052E-2},null,14,600,{"$f":"M8+(1/36)/($L8/60)","v":600.11904761904759},600.23809523809518,600.35714285714278,600.47619047619037,600.59523809523796,600.71428571428555,600.83333333333314,600.95238095238074,601.07142857142833,601.19047619047592,601.30952380952351,601.4285714285711,601.5476190476187,601.66666666666629,601.78571428571388,601.90476190476147,602.02380952380906,602.14285714285666,602.26190476190425,602.38095238095184,602.49999999999943,602.61904761904702,602.73809523809462,602.85714285714221,602.9761904761898,603.09523809523739,603.21428571428498,603.33333333333258,603.45238095238017,603.57142857142776,603.69047619047535,603.80952380952294,603.92857142857054,604.04761904761813,604.16666666666572,604.28571428571331]
[6,"1st Blade Flap (Collective)",{"$f":"'0 RPM'!$BO23","v":0.42848404196226142},{"$f":"'2 RPM'!$BO23","v":1.191542338505136E-2},{"$f":"'4 RPM'!$BO23","v":1.191062716661517E-2},{"$f":"'6 RPM'!$BO23","v":1.1923831735100809E-2},{"$f":"'8 RPM'!$BO23","v":1.1918418470759451E-2},{"$f":"'10 RPM'!$BO23","v":1.1913094189272109E-2},{"$f":"'12 RPM'!$BO23","v":1.190840197260667E-2},{"$f":"'14 RPM'!$BO23","v":1.190350511136487E-2}]
[7,"1st Blade Flap (Progressive)",{"$f":"'0 RPM'!$BO24","v":0.5502457647293294},{"$f":"'2 RPM'!$BO24","v":0.52995244295507349},{"$f":"'4 RPM'!$BO24","v":3.6130377473582387E-2},{"$f":"'6 RPM'!$BO24","v":3.6111583310311203E-2},{"$f":"'8 RPM'!$BO24","v":3.60897727930009E-2},{"$f":"'10 RPM'!$BO24","v":3.6075583027220942E-2},{"$f":"'12 RPM'!$BO24","v":3.6064335327527293E-2},{"$f":"'14 RPM'!$BO24","v":3.6054406586347253E-2}]
[8,"1st Blade Edge (Regressive)",{"$f":"'0 RPM'!$BO25","v":0.42544736669972733},{"$f":"'2 RPM'!$BO25","v":0.4251044379729485},{"$f":"'4 RPM'!$BO25","v":0.67718967159381704},{"$f":"'6 RPM'!$BO25","v":0.42627664964985301},{"$f":"'8 RPM'!$BO25","v":0.4261490362502578},{"$f":"'10 RPM'!$BO25","v":0.68782880904150701},{"$f":"'12 RPM'!$BO25","v":0.69323826807030886},{"$f":"'14 RPM'!$BO25","v":0.69968034938871071}]
[9,"1st Blade Edge (Progressive)",{"$f":"'0 RPM'!$BO27","v":0.65354682695253197},{"$f":"'2 RPM'!$BO27","v":0.62141158995660262},{"$f":"'4 RPM'!$BO27","v":0.5899839245078311},{"$f":"'6 RPM'!$BO27","v":0.55864311635259112},{"$f":"'8 RPM'!$BO27","v":0.53095178719055802},{"$f":"'10 RPM'!$BO27","v":0.50607749496363985},{"$f":"'12 RPM'!$BO27","v":0.46198617722285279},{"$f":"'14 RPM'!$BO27","v":0.44232833027582319},"<--With too high of perturbation size"]
[10,"2nd Blade Flap (Regressive)",{"$f":"'0 RPM'!$BO28","v":3.6140238077019902E-2},{"$f":"'2 RPM'!$BO28","v":3.6122406595298237E-2},{"$f":"'4 RPM'!$BO28","v":3.6130377473582387E-2},{"$f":"'6 RPM'!$BO28","v":3.6179054180370492E-2},{"$f":"'8 RPM'!$BO28","v":3.6192387791171413E-2},{"$f":"'10 RPM'!$BO28","v":3.6207325232479617E-2},{"$f":"'12 RPM'!$BO28","v":3.62227389599327E-2},{"$f":"'14 RPM'!$BO28","v":3.6238238953591052E-2},"<--With too high of perturbation size"]
[11,"2nd Blade Flap (Collective)",{"$f":"'0 RPM'!$BO29","v":2.4020999195213739},{"$f":"'2 RPM'!$BO29","v":1.191542338505136E-2},{"$f":"'4 RPM'!$BO29","v":1.191062716661517E-2},{"$f":"'6 RPM'!$BO29","v":1.1923831735100809E-2},{"$f":"'8 RPM'!$BO29","v":1.1918418470759451E-2},{"$f":"'10 RPM'!$BO29","v":1.1913094189272109E-2},{"$f":"'12 RPM'!$BO29","v":1.190840197260667E-2},{"$f":"'14 RPM'!$BO29","v":1.190350511136487E-2}]
[12,"2nd Blade Flap (Progressive)",{"$f":"'0 RPM'!$BO26","v":3.6173867487825938E-2},{"$f":"'2 RPM'!$BO26","v":3.6227132310338597E-2},{"$f":"'4 RPM'!$BO26","v":3.6190268820279897E-2},{"$f":"'6 RPM'!$BO26","v":3.6179054180370492E-2},{"$f":"'8 RPM'!$BO26","v":0.53095178719055802},{"$f":"'10 RPM'!$BO26","v":0.50607749496363985},{"$f":"'12 RPM'!$BO26","v":0.42520049370191132},{"$f":"'14 RPM'!$BO26","v":0.42314648558624129}]
[13,"1st Drivetrain Torsion",{"$f":"'0 RPM'!$BO17","v":3.6140238077019902E-2},{"$f":"'2 RPM'!$BO17","v":3.6122406595298237E-2},{"$f":"'4 RPM'!$BO17","v":3.6130377473582387E-2},{"$f":"'6 RPM'!$BO17","v":3.6111583310311203E-2},{"$f":"'8 RPM'!$BO17","v":3.6192387791171413E-2},{"$f":"'10 RPM'!$BO17","v":3.6207325232479617E-2},{"$f":"'12 RPM'!$BO17","v":3.62227389599327E-2},{"$f":"'14 RPM'!$BO17","v":3.6238238953591052E-2}]
[14,"Nacelle Yaw (Not Shown)",{"$f":"'0 RPM'!$BO15","v":3.6140238077019902E-2},{"$f":"'2 RPM'!$BO15","v":3.6122406595298237E-2},{"$f":"'4 RPM'!$BO15","v":3.6130377473582387E-2},{"$f":"'6 RPM'!$BO15","v":3.6111583310311203E-2},{"$f":"'8 RPM'!$BO15","v":3.6192387791171413E-2},{"$f":"'10 RPM'!$BO15","v":3.6207325232479617E-2},{"$f":"'12 RPM'!$BO15","v":3.62227389599327E-2},{"$f":"'14 RPM'!$BO15","v":3.6238238953591052E-2}]
[15,"Extra Edge (Not Shown)",{"$f":"'0 RPM'!$BO16","v":1.194648387096096E-2},{"$f":"'2 RPM'!$BO16","v":1.191542338505136E-2},{"$f":"'4 RPM'!$BO16","v":1.191062716661517E-2},{"$f":"'6 RPM'!$BO16","v":1.1923831735100809E-2},{"$f":"'8 RPM'!$BO16","v":1.1918418470759451E-2},{"$f":"'10 RPM'!$BO16","v":1.1913094189272109E-2},{"$f":"'12 RPM'!$BO16","v":1.190840197260667E-2},{"$f":"'14 RPM'!$BO16","v":1.190350511136487E-2}]
[null,"1P",{"$f":"C3/60","v":0},3.3333333333333333E-2,6.6666666666666666E-2,0.1,0.13333333333333333,0.16666666666666666,0.2,0.23333333333333334]
[null,"3P",{"$f":"3*C19","v":0},0.1,0.2,0.30000000000000004,0.4,0.5,0.60000000000000009,0.7]
[null,"6P",{"$f":"6*C19","v":0},0.2,0.4,0.60000000000000009,0.8,1,1.2000000000000002,1.4]
[null,"9P",{"$f":"9*C19","v":0},0.3,0.6,0.9,1.2,1.5,1.8,2.1]
[null,"12P",{"$f":"12*C19","v":0},0.4,0.8,1.2000000000000002,1.6,2,2.4000000000000004,2.8]

{"sheet":"0 RPM","index":1,"n_rows":77,"n_cols":98,"rows_kept":77,"cut":false,"hidden":false,"merged":[[5,56,5,57],[5,58,5,59],[5,60,5,61],[5,62,5,63],[5,48,5,49],[5,50,5,51],[5,52,5,53],[5,54,5,55],[5,40,5,41],[5,42,5,43],[5,44,5,45],[5,46,5,47],[5,32,5,33],[5,34,5,35],[5,36,5,37],[5,38,5,39],[5,24,5,25],[5,26,5,27],[5,28,5,29],[5,30,5,31],[8,62,8,63],[8,54,8,55],[8,56,8,57],[8,38,8,39],[8,40,8,41],[8,42,8,43],[8,44,8,45],[8,58,8,59],[8,60,8,61],[8,46,8,47],[8,48,8,49],[8,50,8,51],[8,52,8,53],[8,30,8,31],[8,32,8,33],[8,34,8,35],[8,22,8,23],[8,24,8,25],[8,26,8,27],[8,28,8,29],[8,14,8,15],[8,16,8,17],[8,18,8,19],[8,20,8,21],[5,6,5,7],[5,8,5,9],[5,10,5,11],[5,12,5,13],[5,14,5,15],[5,16,5,17],[5,18,5,19],[5,20,5,21],[5,22,5,23],[6,6,6,7],[6,8,6,9],[6,10,6,11],[6,12,6,13],[8,8,8,9],[8,10,8,11],[8,12,8,13],[7,32,7,33],[7,34,7,35],[7,36,7,37],[7,38,7,39],[7,24,7,25],[7,26,7,27],[7,28,7,29],[7,30,7,31],[8,36,8,37],[7,56,7,57],[7,58,7,59],[7,60,7,61],[7,62,7,63],[7,48,7,49],[7,50,7,51],[7,52,7,53],[7,54,7,55],[7,40,7,41],[7,42,7,43],[7,44,7,45],[7,46,7,47],[6,62,6,63],[7,6,7,7],[7,8,7,9],[7,10,7,11],[7,12,7,13],[7,14,7,15],[7,16,7,17],[7,18,7,19],[7,20,7,21],[7,22,7,23],[6,54,6,55],[6,56,6,57],[6,38,6,39],[6,40,6,41],[6,42,6,43],[6,44,6,45],[6,58,6,59],[6,60,6,61],[6,46,6,47],[6,48,6,49],[6,50,6,51],[6,52,6,53],[6,30,6,31],[6,32,6,33],[6,34,6,35],[6,36,6,37],[6,22,6,23],[6,24,6,25],[6,26,6,27],[6,28,6,29],[6,14,6,15],[6,16,6,17],[6,18,6,19],[6,20,6,21],[5,4,5,5],[6,4,6,5],[7,4,7,5],[8,4,8,5],[5,2,5,3],[6,2,6,3],[7,2,7,3],[8,2,8,3],[8,6,8,7]]}
["This worksheet is used to sort the mode shapes and frequencies and to help you determine which modes are which for up to 30 modes (up to 30 DOFs)."]
["To use this spreadsheet, paste the appropriate data output from MBC3 into the six gray cells marked with comments (DescStates, MBC_ModeShapeMagnitude, MBC_ModeShapePhaseDeg_MBC_DampingRatio, MBC_DampedFrequencyHz, MBC_NaturalFrequencyHz).  The Scaling should be calculated according to the comment, but is not output by MBC3.  Do not change any other cell!"]
["NOTE: This spreadsheet doesn't work if any natural (undamped) frequency is 0.0 or if any natural (undamped) frequency is in duplicate--to avoid the resulting error, in the cells where the frequencies are pasted-in, change the error-causing frequency (or frequencies) by a very small amount!"]
[null,null,null,"BladeLength",117,"TowerHt",144.495]
[null,null,"Mode Shapes and Frequencies"]
[null,null,"Mode Number",null,1,null,{"$f":"E6+1","v":2},null,{"$f":"G6+1","v":3},null,{"$f":"I6+1","v":4},null,{"$f":"K6+1","v":5},null,{"$f":"M6+1","v":6},null,{"$f":"O6+1","v":7},null,{"$f":"Q6+1","v":8},null,{"$f":"S6+1","v":9},null,{"$f":"U6+1","v":10},null,{"$f":"W6+1","v":11},null,{"$f":"Y6+1","v":12},null,{"$f":"AA6+1","v":13},null,{"$f":"AC6+1","v":14},null,{"$f":"AE6+1","v":15},null,{"$f":"AG6+1","v":16},null,{"$f":"AI6+1","v":17},null,{"$f":"AK6+1","v":18},null,{"$f":"AM6+1","v":19},null,{"$f":"AO6+1","v":20},null,{"$f":"AQ6+1","v":21},null,{"$f":"AS6+1","v":22},null,{"$f":"AU6+1","v":23},null,{"$f":"AW6+1","v":24},null,{"$f":"AY6+1","v":25},null,{"$f":"BA6+1","v":26},null,{"$f":"BC6+1","v":27},null,{"$f":"BE6+1","v":28},null,{"$f":"BG6+1","v":29},null,{"$f":"BI6+1","v":30}]
[null,null,"Natural (Undamped) Frequencies (Hz)",null,{"$f":"IF(VLOOKUP(E$6+$BO$47,$D$48:$BO$77,64,FALSE)=\"\",\"\",VLOOKUP(E$6+$BO$47,$D$48:$BO$77,64,FALSE))","v":7.7468122304738662E-3},null,{"$f":"IF(VLOOKUP(G$6+$BO$47,$D$48:$BO$77,64,FALSE)=\"\",\"\",VLOOKUP(G$6+$BO$47,$D$48:$BO$77,64,FALSE))","v":7.8177624664503269E-3},null,{"$f":"IF(VLOOKUP(I$6+$BO$47,$D$48:$BO$77,64,FALSE)=\"\",\"\",VLOOKUP(I$6+$BO$47,$D$48:$BO$77,64,FALSE))","v":1.194648387096096E-2},null,{"$f":"IF(VLOOKUP(K$6+$BO$47,$D$48:$BO$77,64,FALSE)=\"\",\"\",VLOOKUP(K$6+$BO$47,$D$48:$BO$77,64,FALSE))","v":3.6140238077019902E-2},null,{"$f":"IF(VLOOKUP(M$6+$BO$47,$D$48:$BO$77,64,FALSE)=\"\",\"\",VLOOKUP(M$6+$BO$47,$D$48:$BO$77,64,FALSE))","v":3.6173867487825938E-2},null,{"$f":"IF(VLOOKUP(O$6+$BO$47,$D$48:$BO$77,64,FALSE)=\"\",\"\",VLOOKUP(O$6+$BO$47,$D$48:$BO$77,64,FALSE))","v":5.0577036548763013E-2},null,{"$f":"IF(VLOOKUP(Q$6+$BO$47,$D$48:$BO$77,64,FALSE)=\"\",\"\",VLOOKUP(Q$6+$BO$47,$D$48:$BO$77,64,FALSE))","v":0.42544736669972733},null,{"$f":"IF(VLOOKUP(S$6+$BO$47,$D$48:$BO$77,64,FALSE)=\"\",\"\",VLOOKUP(S$6+$BO$47,$D$48:$BO$77,64,FALSE))","v":0.42848404196226142},null,{"$f":"IF(VLOOKUP(U$6+$BO$47,$D$48:$BO$77,64,FALSE)=\"\",\"\",VLOOKUP(U$6+$BO$47,$D$48:$BO$77,64,FALSE))","v":0.5502457647293294},null,{"$f":"IF(VLOOKUP(W$6+$BO$47,$D$48:$BO$77,64,FALSE)=\"\",\"\",VLOOKUP(W$6+$BO$47,$D$48:$BO$77,64,FALSE))","v":0.55775431399145847},null,{"$f":"IF(VLOOKUP(Y$6+$BO$47,$D$48:$BO$77,64,FALSE)=\"\",\"\",VLOOKUP(Y$6+$BO$47,$D$48:$BO$77,64,FALSE))","v":0.59117455480453496},null,{"$f":"IF(VLOOKUP(AA$6+$BO$47,$D$48:$BO$77,64,FALSE)=\"\",\"\",VLOOKUP(AA$6+$BO$47,$D$48:$BO$77,64,FALSE))","v":0.64802449094938597},null,{"$f":"IF(VLOOKUP(AC$6+$BO$47,$D$48:$BO$77,64,FALSE)=\"\",\"\",VLOOKUP(AC$6+$BO$47,$D$48:$BO$77,64,FALSE))","v":0.65354682695253197},null,{"$f":"IF(VLOOKUP(AE$6+$BO$47,$D$48:$BO$77,64,FALSE)=\"\",\"\",VLOOKUP(AE$6+$BO$47,$D$48:$BO$77,64,FALSE))","v":0.68591283461880825},null,{"$f":"IF(VLOOKUP(AG$6+$BO$47,$D$48:$BO$77,64,FALSE)=\"\",\"\",VLOOKUP(AG$6+$BO$47,$D$48:$BO$77,64,FALSE))","v":2.4020999195213739},null,{"$f":"IF(VLOOKUP(AI$6+$BO$47,$D$48:$BO$77,64,FALSE)=\"\",\"\",VLOOKUP(AI$6+$BO$47,$D$48:$BO$77,64,FALSE))","v":2.407209018826959},null,{"$f":"IF(VLOOKUP(AK$6+$BO$47,$D$48:$BO$77,64,FALSE)=\"\",\"\",VLOOKUP(AK$6+$BO$47,$D$48:$BO$77,64,FALSE))","v":2.4463374171871961},null,{"$f":"IF(VLOOKUP(AM$6+$BO$47,$D$48:$BO$77,64,FALSE)=\"\",\"\",VLOOKUP(AM$6+$BO$47,$D$48:$BO$77,64,FALSE))","v":2.584554957804662},null,{"$f":"IF(VLOOKUP(AO$6+$BO$47,$D$48:$BO$77,64,FALSE)=\"\",\"\",VLOOKUP(AO$6+$BO$47,$D$48:$BO$77,64,FALSE))","v":2.6709263326947021},null,{"$f":"IF(VLOOKUP(AQ$6+$BO$47,$D$48:$BO$77,64,FALSE)=\"\",\"\",VLOOKUP(AQ$6+$BO$47,$D$48:$BO$77,64,FALSE))","v":4.8080537966880117},null,{"$f":"IF(VLOOKUP(AS$6+$BO$47,$D$48:$BO$77,64,FALSE)=\"\",\"\",VLOOKUP(AS$6+$BO$47,$D$48:$BO$77,64,FALSE))","v":""},null,{"$f":"IF(VLOOKUP(AU$6+$BO$47,$D$48:$BO$77,64,FALSE)=\"\",\"\",VLOOKUP(AU$6+$BO$47,$D$48:$BO$77,64,FALSE))","v":""},null,{"$f":"IF(VLOOKUP(AW$6+$BO$47,$D$48:$BO$77,64,FALSE)=\"\",\"\",VLOOKUP(AW$6+$BO$47,$D$48:$BO$77,64,FALSE))","v":""},null,{"$f":"IF(VLOOKUP(AY$6+$BO$47,$D$48:$BO$77,64,FALSE)=\"\",\"\",VLOOKUP(AY$6+$BO$47,$D$48:$BO$77,64,FALSE))","v":""},null,{"$f":"IF(VLOOKUP(BA$6+$BO$47,$D$48:$BO$77,64,FALSE)=\"\",\"\",VLOOKUP(BA$6+$BO$47,$D$48:$BO$77,64,FALSE))","v":""},null,{"$f":"IF(VLOOKUP(BC$6+$BO$47,$D$48:$BO$77,64,FALSE)=\"\",\"\",VLOOKUP(BC$6+$BO$47,$D$48:$BO$77,64,FALSE))","v":""},null,{"$f":"IF(VLOOKUP(BE$6+$BO$47,$D$48:$BO$77,64,FALSE)=\"\",\"\",VLOOKUP(BE$6+$BO$47,$D$48:$BO$77,64,FALSE))","v":""},null,{"$f":"IF(VLOOKUP(BG$6+$BO$47,$D$48:$BO$77,64,FALSE)=\"\",\"\",VLOOKUP(BG$6+$BO$47,$D$48:$BO$77,64,FALSE))","v":""},null,{"$f":"IF(VLOOKUP(BI$6+$BO$47,$D$48:$BO$77,64,FALSE)=\"\",\"\",VLOOKUP(BI$6+$BO$47,$D$48:$BO$77,64,FALSE))","v":""},null,{"$f":"IF(VLOOKUP(BK$6+$BO$47,$D$48:$BO$77,64,FALSE)=\"\",\"\",VLOOKUP(BK$6+$BO$47,$D$48:$BO$77,64,FALSE))","v":""}]
[null,null,"Damped Frequencies (Hz)",null,{"$f":"IF(VLOOKUP(E$6+$BO$47,$D$48:$BO$77,63,FALSE)=\"\",\"\",VLOOKUP(E$6+$BO$47,$D$48:$BO$77,63,FALSE))","v":7.7436338389357314E-3},null,{"$f":"IF(VLOOKUP(G$6+$BO$47,$D$48:$BO$77,63,FALSE)=\"\",\"\",VLOOKUP(G$6+$BO$47,$D$48:$BO$77,63,FALSE))","v":7.8158451148469619E-3},null,{"$f":"IF(VLOOKUP(I$6+$BO$47,$D$48:$BO$77,63,FALSE)=\"\",\"\",VLOOKUP(I$6+$BO$47,$D$48:$BO$77,63,FALSE))","v":1.1563564867318051E-2},null,{"$f":"IF(VLOOKUP(K$6+$BO$47,$D$48:$BO$77,63,FALSE)=\"\",\"\",VLOOKUP(K$6+$BO$47,$D$48:$BO$77,63,FALSE))","v":3.6129660505717573E-2},null,{"$f":"IF(VLOOKUP(M$6+$BO$47,$D$48:$BO$77,63,FALSE)=\"\",\"\",VLOOKUP(M$6+$BO$47,$D$48:$BO$77,63,FALSE))","v":3.6163852110886803E-2},null,{"$f":"IF(VLOOKUP(O$6+$BO$47,$D$48:$BO$77,63,FALSE)=\"\",\"\",VLOOKUP(O$6+$BO$47,$D$48:$BO$77,63,FALSE))","v":5.0576234644988637E-2},null,{"$f":"IF(VLOOKUP(Q$6+$BO$47,$D$48:$BO$77,63,FALSE)=\"\",\"\",VLOOKUP(Q$6+$BO$47,$D$48:$BO$77,63,FALSE))","v":0.42543615044755512},null,{"$f":"IF(VLOOKUP(S$6+$BO$47,$D$48:$BO$77,63,FALSE)=\"\",\"\",VLOOKUP(S$6+$BO$47,$D$48:$BO$77,63,FALSE))","v":0.42846758221976478},null,{"$f":"IF(VLOOKUP(U$6+$BO$47,$D$48:$BO$77,63,FALSE)=\"\",\"\",VLOOKUP(U$6+$BO$47,$D$48:$BO$77,63,FALSE))","v":0.5500223517338545},null,{"$f":"IF(VLOOKUP(W$6+$BO$47,$D$48:$BO$77,63,FALSE)=\"\",\"\",VLOOKUP(W$6+$BO$47,$D$48:$BO$77,63,FALSE))","v":0.55751204586933467},null,{"$f":"IF(VLOOKUP(Y$6+$BO$47,$D$48:$BO$77,63,FALSE)=\"\",\"\",VLOOKUP(Y$6+$BO$47,$D$48:$BO$77,63,FALSE))","v":0.59094229251497199},null,{"$f":"IF(VLOOKUP(AA$6+$BO$47,$D$48:$BO$77,63,FALSE)=\"\",\"\",VLOOKUP(AA$6+$BO$47,$D$48:$BO$77,63,FALSE))","v":0.64774499021065357},null,{"$f":"IF(VLOOKUP(AC$6+$BO$47,$D$48:$BO$77,63,FALSE)=\"\",\"\",VLOOKUP(AC$6+$BO$47,$D$48:$BO$77,63,FALSE))","v":0.65325811073093676},null,{"$f":"IF(VLOOKUP(AE$6+$BO$47,$D$48:$BO$77,63,FALSE)=\"\",\"\",VLOOKUP(AE$6+$BO$47,$D$48:$BO$77,63,FALSE))","v":0.68563900700736224},null,{"$f":"IF(VLOOKUP(AG$6+$BO$47,$D$48:$BO$77,63,FALSE)=\"\",\"\",VLOOKUP(AG$6+$BO$47,$D$48:$BO$77,63,FALSE))","v":2.3931433527375678},null,{"$f":"IF(VLOOKUP(AI$6+$BO$47,$D$48:$BO$77,63,FALSE)=\"\",\"\",VLOOKUP(AI$6+$BO$47,$D$48:$BO$77,63,FALSE))","v":2.3892774277883961},null,{"$f":"IF(VLOOKUP(AK$6+$BO$47,$D$48:$BO$77,63,FALSE)=\"\",\"\",VLOOKUP(AK$6+$BO$47,$D$48:$BO$77,63,FALSE))","v":2.4253159803492119},null,{"$f":"IF(VLOOKUP(AM$6+$BO$47,$D$48:$BO$77,63,FALSE)=\"\",\"\",VLOOKUP(AM$6+$BO$47,$D$48:$BO$77,63,FALSE))","v":2.5802205605444608},null,{"$f":"IF(VLOOKUP(AO$6+$BO$47,$D$48:$BO$77,63,FALSE)=\"\",\"\",VLOOKUP(AO$6+$BO$47,$D$48:$BO$77,63,FALSE))","v":2.6705196978759531},null,{"$f":"IF(VLOOKUP(AQ$6+$BO$47,$D$48:$BO$77,63,FALSE)=\"\",\"\",VLOOKUP(AQ$6+$BO$47,$D$48:$BO$77,63,FALSE))","v":4.8055062893117908},null,{"$f":"IF(VLOOKUP(AS$6+$BO$47,$D$48:$BO$77,63,FALSE)=\"\",\"\",VLOOKUP(AS$6+$BO$47,$D$48:$BO$77,63,FALSE))","v":""},null,{"$f":"IF(VLOOKUP(AU$6+$BO$47,$D$48:$BO$77,63,FALSE)=\"\",\"\",VLOOKUP(AU$6+$BO$47,$D$48:$BO$77,63,FALSE))","v":""},null,{"$f":"IF(VLOOKUP(AW$6+$BO$47,$D$48:$BO$77,63,FALSE)=\"\",\"\",VLOOKUP(AW$6+$BO$47,$D$48:$BO$77,63,FALSE))","v":""},null,{"$f":"IF(VLOOKUP(AY$6+$BO$47,$D$48:$BO$77,63,FALSE)=\"\",\"\",VLOOKUP(AY$6+$BO$47,$D$48:$BO$77,63,FALSE))","v":""},null,{"$f":"IF(VLOOKUP(BA$6+$BO$47,$D$48:$BO$77,63,FALSE)=\"\",\"\",VLOOKUP(BA$6+$BO$47,$D$48:$BO$77,63,FALSE))","v":""},null,{"$f":"IF(VLOOKUP(BC$6+$BO$47,$D$48:$BO$77,63,FALSE)=\"\",\"\",VLOOKUP(BC$6+$BO$47,$D$48:$BO$77,63,FALSE))","v":""},null,{"$f":"IF(VLOOKUP(BE$6+$BO$47,$D$48:$BO$77,63,FALSE)=\"\",\"\",VLOOKUP(BE$6+$BO$47,$D$48:$BO$77,63,FALSE))","v":""},null,{"$f":"IF(VLOOKUP(BG$6+$BO$47,$D$48:$BO$77,63,FALSE)=\"\",\"\",VLOOKUP(BG$6+$BO$47,$D$48:$BO$77,63,FALSE))","v":""},null,{"$f":"IF(VLOOKUP(BI$6+$BO$47,$D$48:$BO$77,63,FALSE)=\"\",\"\",VLOOKUP(BI$6+$BO$47,$D$48:$BO$77,63,FALSE))","v":""},null,{"$f":"IF(VLOOKUP(BK$6+$BO$47,$D$48:$BO$77,63,FALSE)=\"\",\"\",VLOOKUP(BK$6+$BO$47,$D$48:$BO$77,63,FALSE))","v":""}]
[null,null,"Damping Ratio (-)",null,{"$f":"IF(VLOOKUP(E$6+$BO$47,$D$48:$BO$77,62,FALSE)=\"\",\"\",VLOOKUP(E$6+$BO$47,$D$48:$BO$77,62,FALSE))","v":2.8642612688285701E-2},null,{"$f":"IF(VLOOKUP(G$6+$BO$47,$D$48:$BO$77,62,FALSE)=\"\",\"\",VLOOKUP(G$6+$BO$47,$D$48:$BO$77,62,FALSE))","v":2.2146138569577339E-2},null,{"$f":"IF(VLOOKUP(I$6+$BO$47,$D$48:$BO$77,62,FALSE)=\"\",\"\",VLOOKUP(I$6+$BO$47,$D$48:$BO$77,62,FALSE))","v":0.25115401411484561},null,{"$f":"IF(VLOOKUP(K$6+$BO$47,$D$48:$BO$77,62,FALSE)=\"\",\"\",VLOOKUP(K$6+$BO$47,$D$48:$BO$77,62,FALSE))","v":2.4192496908243159E-2},null,{"$f":"IF(VLOOKUP(M$6+$BO$47,$D$48:$BO$77,62,FALSE)=\"\",\"\",VLOOKUP(M$6+$BO$47,$D$48:$BO$77,62,FALSE))","v":2.3529955892325032E-2},null,{"$f":"IF(VLOOKUP(O$6+$BO$47,$D$48:$BO$77,62,FALSE)=\"\",\"\",VLOOKUP(O$6+$BO$47,$D$48:$BO$77,62,FALSE))","v":5.6311580330845809E-3},null,{"$f":"IF(VLOOKUP(Q$6+$BO$47,$D$48:$BO$77,62,FALSE)=\"\",\"\",VLOOKUP(Q$6+$BO$47,$D$48:$BO$77,62,FALSE))","v":7.2612785642069766E-3},null,{"$f":"IF(VLOOKUP(S$6+$BO$47,$D$48:$BO$77,62,FALSE)=\"\",\"\",VLOOKUP(S$6+$BO$47,$D$48:$BO$77,62,FALSE))","v":8.7650625423455163E-3},null,{"$f":"IF(VLOOKUP(U$6+$BO$47,$D$48:$BO$77,62,FALSE)=\"\",\"\",VLOOKUP(U$6+$BO$47,$D$48:$BO$77,62,FALSE))","v":2.8493563791868869E-2},null,{"$f":"IF(VLOOKUP(W$6+$BO$47,$D$48:$BO$77,62,FALSE)=\"\",\"\",VLOOKUP(W$6+$BO$47,$D$48:$BO$77,62,FALSE))","v":2.947097471111039E-2},null,{"$f":"IF(VLOOKUP(Y$6+$BO$47,$D$48:$BO$77,62,FALSE)=\"\",\"\",VLOOKUP(Y$6+$BO$47,$D$48:$BO$77,62,FALSE))","v":2.802875593348526E-2},null,{"$f":"IF(VLOOKUP(AA$6+$BO$47,$D$48:$BO$77,62,FALSE)=\"\",\"\",VLOOKUP(AA$6+$BO$47,$D$48:$BO$77,62,FALSE))","v":2.936729419594843E-2},null,{"$f":"IF(VLOOKUP(AC$6+$BO$47,$D$48:$BO$77,62,FALSE)=\"\",\"\",VLOOKUP(AC$6+$BO$47,$D$48:$BO$77,62,FALSE))","v":2.9721058031695891E-2},null,{"$f":"IF(VLOOKUP(AE$6+$BO$47,$D$48:$BO$77,62,FALSE)=\"\",\"\",VLOOKUP(AE$6+$BO$47,$D$48:$BO$77,62,FALSE))","v":2.8253730841442871E-2},null,{"$f":"IF(VLOOKUP(AG$6+$BO$47,$D$48:$BO$77,62,FALSE)=\"\",\"\",VLOOKUP(AG$6+$BO$47,$D$48:$BO$77,62,FALSE))","v":8.6275013899638223E-2},null,{"$f":"IF(VLOOKUP(AI$6+$BO$47,$D$48:$BO$77,62,FALSE)=\"\",\"\",VLOOKUP(AI$6+$BO$47,$D$48:$BO$77,62,FALSE))","v":0.1218308352554997},null,{"$f":"IF(VLOOKUP(AK$6+$BO$47,$D$48:$BO$77,62,FALSE)=\"\",\"\",VLOOKUP(AK$6+$BO$47,$D$48:$BO$77,62,FALSE))","v":0.13081364036635679},null,{"$f":"IF(VLOOKUP(AM$6+$BO$47,$D$48:$BO$77,62,FALSE)=\"\",\"\",VLOOKUP(AM$6+$BO$47,$D$48:$BO$77,62,FALSE))","v":5.7890101393314693E-2},null,{"$f":"IF(VLOOKUP(AO$6+$BO$47,$D$48:$BO$77,62,FALSE)=\"\",\"\",VLOOKUP(AO$6+$BO$47,$D$48:$BO$77,62,FALSE))","v":1.7448969922433631E-2},null,{"$f":"IF(VLOOKUP(AQ$6+$BO$47,$D$48:$BO$77,62,FALSE)=\"\",\"\",VLOOKUP(AQ$6+$BO$47,$D$48:$BO$77,62,FALSE))","v":3.2548466307909023E-2},null,{"$f":"IF(VLOOKUP(AS$6+$BO$47,$D$48:$BO$77,62,FALSE)=\"\",\"\",VLOOKUP(AS$6+$BO$47,$D$48:$BO$77,62,FALSE))","v":""},null,{"$f":"IF(VLOOKUP(AU$6+$BO$47,$D$48:$BO$77,62,FALSE)=\"\",\"\",VLOOKUP(AU$6+$BO$47,$D$48:$BO$77,62,FALSE))","v":""},null,{"$f":"IF(VLOOKUP(AW$6+$BO$47,$D$48:$BO$77,62,FALSE)=\"\",\"\",VLOOKUP(AW$6+$BO$47,$D$48:$BO$77,62,FALSE))","v":""},null,{"$f":"IF(VLOOKUP(AY$6+$BO$47,$D$48:$BO$77,62,FALSE)=\"\",\"\",VLOOKUP(AY$6+$BO$47,$D$48:$BO$77,62,FALSE))","v":""},null,{"$f":"IF(VLOOKUP(BA$6+$BO$47,$D$48:$BO$77,62,FALSE)=\"\",\"\",VLOOKUP(BA$6+$BO$47,$D$48:$BO$77,62,FALSE))","v":""},null,{"$f":"IF(VLOOKUP(BC$6+$BO$47,$D$48:$BO$77,62,FALSE)=\"\",\"\",VLOOKUP(BC$6+$BO$47,$D$48:$BO$77,62,FALSE))","v":""},null,{"$f":"IF(VLOOKUP(BE$6+$BO$47,$D$48:$BO$77,62,FALSE)=\"\",\"\",VLOOKUP(BE$6+$BO$47,$D$48:$BO$77,62,FALSE))","v":""},null,{"$f":"IF(VLOOKUP(BG$6+$BO$47,$D$48:$BO$77,62,FALSE)=\"\",\"\",VLOOKUP(BG$6+$BO$47,$D$48:$BO$77,62,FALSE))","v":""},null,{"$f":"IF(VLOOKUP(BI$6+$BO$47,$D$48:$BO$77,62,FALSE)=\"\",\"\",VLOOKUP(BI$6+$BO$47,$D$48:$BO$77,62,FALSE))","v":""},null,{"$f":"IF(VLOOKUP(BK$6+$BO$47,$D$48:$BO$77,62,FALSE)=\"\",\"\",VLOOKUP(BK$6+$BO$47,$D$48:$BO$77,62,FALSE))","v":""}]
[null,null,"States","Scaling","Magnitude (rad)","Phase (deg)","Magnitude (rad)","Phase (deg)","Magnitude (rad)","Phase (deg)","Magnitude (rad)","Phase (deg)","Magnitude (rad)","Phase (deg)","Magnitude (rad)","Phase (deg)","Magnitude (rad)","Phase (deg)","Magnitude (rad)","Phase (deg)","Magnitude (rad)","Phase (deg)","Magnitude (rad)","Phase (deg)","Magnitude (rad)","Phase (deg)","Magnitude (rad)","Phase (deg)","Magnitude (rad)","Phase (deg)","Magnitude (rad)","Phase (deg)","Magnitude (rad)","Phase (deg)","Magnitude (rad)","Phase (deg)","Magnitude (rad)","Phase (deg)","Magnitude (rad)","Phase (deg)","Magnitude (rad)","Phase (deg)","Magnitude (rad)","Phase (deg)","Magnitude (rad)","Phase (deg)","Magnitude (rad)","Phase (deg)","Magnitude (rad)","Phase (deg)","Magnitude (rad)","Phase (deg)","Magnitude (rad)","Phase (deg)","Magnitude (rad)","Phase (deg)","Magnitude (rad)","Phase (deg)","Magnitude (rad)","Phase (deg)","Magnitude (rad)","Phase (deg)","Magnitude (rad)","Phase (deg)"]
[null,1,"ED Platform horizontal surge translation DOF (internal DOF index = DOF_Sg), m",1,{"$f":"IF(HLOOKUP(E$6+$BO$47,$E$47:$AH$77,$B11+1,FALSE)=\"\",\"\",HLOOKUP(E$6+$BO$47,$E$47:$AH$77,$B11+1,FALSE)*$D11)","v":0.99881643450254942},{"$f":"IF(HLOOKUP(E$6+$BO$47,$AI$47:$BL$77,$B11+1,FALSE)=\"\",\"\",HLOOKUP(E$6+$BO$47,$AI$47:$BL$77,$B11+1,FALSE))","v":0},{"$f":"IF(HLOOKUP(G$6+$BO$47,$E$47:$AH$77,$B11+1,FALSE)=\"\",\"\",HLOOKUP(G$6+$BO$47,$E$47:$AH$77,$B11+1,FALSE)*$D11)","v":1.110728395411153E-5},{"$f":"IF(HLOOKUP(G$6+$BO$47,$AI$47:$BL$77,$B11+1,FALSE)=\"\",\"\",HLOOKUP(G$6+$BO$47,$AI$47:$BL$77,$B11+1,FALSE))","v":80.982094294208537},{"$f":"IF(HLOOKUP(I$6+$BO$47,$E$47:$AH$77,$B11+1,FALSE)=\"\",\"\",HLOOKUP(I$6+$BO$47,$E$47:$AH$77,$B11+1,FALSE)*$D11)","v":9.2310314472888542E-3},{"$f":"IF(HLOOKUP(I$6+$BO$47,$AI$47:$BL$77,$B11+1,FALSE)=\"\",\"\",HLOOKUP(I$6+$BO$47,$AI$47:$BL$77,$B11+1,FALSE))","v":142.37047896628269},{"$f":"IF(HLOOKUP(K$6+$BO$47,$E$47:$AH$77,$B11+1,FALSE)=\"\",\"\",HLOOKUP(K$6+$BO$47,$E$47:$AH$77,$B11+1,FALSE)*$D11)","v":0.57456519172601905},{"$f":"IF(HLOOKUP(K$6+$BO$47,$AI$47:$BL$77,$B11+1,FALSE)=\"\",\"\",HLOOKUP(K$6+$BO$47,$AI$47:$BL$77,$B11+1,FALSE))","v":0},{"$f":"IF(HLOOKUP(M$6+$BO$47,$E$47:$AH$77,$B11+1,FALSE)=\"\",\"\",HLOOKUP(M$6+$BO$47,$E$47:$AH$77,$B11+1,FALSE)*$D11)","v":4.8249516254888922E-2},{"$f":"IF(HLOOKUP(M$6+$BO$47,$AI$47:$BL$77,$B11+1,FALSE)=\"\",\"\",HLOOKUP(M$6+$BO$47,$AI$47:$BL$77,$B11+1,FALSE))","v":35.207062776576308},{"$f":"IF(HLOOKUP(O$6+$BO$47,$E$47:$AH$77,$B11+1,FALSE)=\"\",\"\",HLOOKUP(O$6+$BO$47,$E$47:$AH$77,$B11+1,FALSE)*$D11)","v":1.780368028608168E-3},{"$f":"IF(HLOOKUP(O$6+$BO$47,$AI$47:$BL$77,$B11+1,FALSE)=\"\",\"\",HLOOKUP(O$6+$BO$47,$AI$47:$BL$77,$B11+1,FALSE))","v":2.959227165024533},{"$f":"IF(HLOOKUP(Q$6+$BO$47,$E$47:$AH$77,$B11+1,FALSE)=\"\",\"\",HLOOKUP(Q$6+$BO$47,$E$47:$AH$77,$B11+1,FALSE)*$D11)","v":1.200634082942394E-3},{"$f":"IF(HLOOKUP(Q$6+$BO$47,$AI$47:$BL$77,$B11+1,FALSE)=\"\",\"\",HLOOKUP(Q$6+$BO$47,$AI$47:$BL$77,$B11+1,FALSE))","v":-106.868320036763},{"$f":"IF(HLOOKUP(S$6+$BO$47,$E$47:$AH$77,$B11+1,FALSE)=\"\",\"\",HLOOKUP(S$6+$BO$47,$E$47:$AH$77,$B11+1,FALSE)*$D11)","v":3.727257545621439E-3},{"$f":"IF(HLOOKUP(S$6+$BO$47,$AI$47:$BL$77,$B11+1,FALSE)=\"\",\"\",HLOOKUP(S$6+$BO$47,$AI$47:$BL$77,$B11+1,FALSE))","v":-86.863289073886222},{"$f":"IF(HLOOKUP(U$6+$BO$47,$E$47:$AH$77,$B11+1,FALSE)=\"\",\"\",HLOOKUP(U$6+$BO$47,$E$47:$AH$77,$B11+1,FALSE)*$D11)","v":8.6137039776728361E-6},{"$f":"IF(HLOOKUP(U$6+$BO$47,$AI$47:$BL$77,$B11+1,FALSE)=\"\",\"\",HLOOKUP(U$6+$BO$47,$AI$47:$BL$77,$B11+1,FALSE))","v":-99.773653703835336},{"$f":"IF(HLOOKUP(W$6+$BO$47,$E$47:$AH$77,$B11+1,FALSE)=\"\",\"\",HLOOKUP(W$6+$BO$47,$E$47:$AH$77,$B11+1,FALSE)*$D11)","v":2.5655667256068853E-4},{"$f":"IF(HLOOKUP(W$6+$BO$47,$AI$47:$BL$77,$B11+1,FALSE)=\"\",\"\",HLOOKUP(W$6+$BO$47,$AI$47:$BL$77,$B11+1,FALSE))","v":-91.956112257364268},{"$f":"IF(HLOOKUP(Y$6+$BO$47,$E$47:$AH$77,$B11+1,FALSE)=\"\",\"\",HLOOKUP(Y$6+$BO$47,$E$47:$AH$77,$B11+1,FALSE)*$D11)","v":5.8745579703414893E-4},{"$f":"IF(HLOOKUP(Y$6+$BO$47,$AI$47:$BL$77,$B11+1,FALSE)=\"\",\"\",HLOOKUP(Y$6+$BO$47,$AI$47:$BL$77,$B11+1,FALSE))","v":-95.037051554318666},{"$f":"IF(HLOOKUP(AA$6+$BO$47,$E$47:$AH$77,$B11+1,FALSE)=\"\",\"\",HLOOKUP(AA$6+$BO$47,$E$47:$AH$77,$B11+1,FALSE)*$D11)","v":2.375686301142076E-5},{"$f":"IF(HLOOKUP(AA$6+$BO$47,$AI$47:$BL$77,$B11+1,FALSE)=\"\",\"\",HLOOKUP(AA$6+$BO$47,$AI$47:$BL$77,$B11+1,FALSE))","v":-93.266069959808135},{"$f":"IF(HLOOKUP(AC$6+$BO$47,$E$47:$AH$77,$B11+1,FALSE)=\"\",\"\",HLOOKUP(AC$6+$BO$47,$E$47:$AH$77,$B11+1,FALSE)*$D11)","v":1.4246435689037359E-4},{"$f":"IF(HLOOKUP(AC$6+$BO$47,$AI$47:$BL$77,$B11+1,FALSE)=\"\",\"\",HLOOKUP(AC$6+$BO$47,$AI$47:$BL$77,$B11+1,FALSE))","v":-95.064925673162918},{"$f":"IF(HLOOKUP(AE$6+$BO$47,$E$47:$AH$77,$B11+1,FALSE)=\"\",\"\",HLOOKUP(AE$6+$BO$47,$E$47:$AH$77,$B11+1,FALSE)*$D11)","v":3.2943606915164317E-5},{"$f":"IF(HLOOKUP(AE$6+$BO$47,$AI$47:$BL$77,$B11+1,FALSE)=\"\",\"\",HLOOKUP(AE$6+$BO$47,$AI$47:$BL$77,$B11+1,FALSE))","v":87.611653566936525},{"$f":"IF(HLOOKUP(AG$6+$BO$47,$E$47:$AH$77,$B11+1,FALSE)=\"\",\"\",HLOOKUP(AG$6+$BO$47,$E$47:$AH$77,$B11+1,FALSE)*$D11)","v":2.0878256538417931E-6},{"$f":"IF(HLOOKUP(AG$6+$BO$47,$AI$47:$BL$77,$B11+1,FALSE)=\"\",\"\",HLOOKUP(AG$6+$BO$47,$AI$47:$BL$77,$B11+1,FALSE))","v":143.64330390594651},{"$f":"IF(HLOOKUP(AI$6+$BO$47,$E$47:$AH$77,$B11+1,FALSE)=\"\",\"\",HLOOKUP(AI$6+$BO$47,$E$47:$AH$77,$B11+1,FALSE)*$D11)","v":1.7908937559228749E-8},{"$f":"IF(HLOOKUP(AI$6+$BO$47,$AI$47:$BL$77,$B11+1,FALSE)=\"\",\"\",HLOOKUP(AI$6+$BO$47,$AI$47:$BL$77,$B11+1,FALSE))","v":-125.05479937355631},{"$f":"IF(HLOOKUP(AK$6+$BO$47,$E$47:$AH$77,$B11+1,FALSE)=\"\",\"\",HLOOKUP(AK$6+$BO$47,$E$47:$AH$77,$B11+1,FALSE)*$D11)","v":1.834201044946055E-8},{"$f":"IF(HLOOKUP(AK$6+$BO$47,$AI$47:$BL$77,$B11+1,FALSE)=\"\",\"\",HLOOKUP(AK$6+$BO$47,$AI$47:$BL$77,$B11+1,FALSE))","v":-26.88488032862837},{"$f":"IF(HLOOKUP(AM$6+$BO$47,$E$47:$AH$77,$B11+1,FALSE)=\"\",\"\",HLOOKUP(AM$6+$BO$47,$E$47:$AH$77,$B11+1,FALSE)*$D11)","v":3.1622238569083468E-6},{"$f":"IF(HLOOKUP(AM$6+$BO$47,$AI$47:$BL$77,$B11+1,FALSE)=\"\",\"\",HLOOKUP(AM$6+$BO$47,$AI$47:$BL$77,$B11+1,FALSE))","v":27.650479821935541},{"$f":"IF(HLOOKUP(AO$6+$BO$47,$E$47:$AH$77,$B11+1,FALSE)=\"\",\"\",HLOOKUP(AO$6+$BO$47,$E$47:$AH$77,$B11+1,FALSE)*$D11)","v":1.3253964435401199E-7},{"$f":"IF(HLOOKUP(AO$6+$BO$47,$AI$47:$BL$77,$B11+1,FALSE)=\"\",\"\",HLOOKUP(AO$6+$BO$47,$AI$47:$BL$77,$B11+1,FALSE))","v":116.6428943130871},{"$f":"IF(HLOOKUP(AQ$6+$BO$47,$E$47:$AH$77,$B11+1,FALSE)=\"\",\"\",HLOOKUP(AQ$6+$BO$47,$E$47:$AH$77,$B11+1,FALSE)*$D11)","v":2.3094941334591519E-9},{"$f":"IF(HLOOKUP(AQ$6+$BO$47,$AI$47:$BL$77,$B11+1,FALSE)=\"\",\"\",HLOOKUP(AQ$6+$BO$47,$AI$47:$BL$77,$B11+1,FALSE))","v":-90.113906028333247},{"$f":"IF(HLOOKUP(AS$6+$BO$47,$E$47:$AH$77,$B11+1,FALSE)=\"\",\"\",HLOOKUP(AS$6+$BO$47,$E$47:$AH$77,$B11+1,FALSE)*$D11)","v":""},{"$f":"IF(HLOOKUP(AS$6+$BO$47,$AI$47:$BL$77,$B11+1,FALSE)=\"\",\"\",HLOOKUP(AS$6+$BO$47,$AI$47:$BL$77,$B11+1,FALSE))","v":""},{"$f":"IF(HLOOKUP(AU$6+$BO$47,$E$47:$AH$77,$B11+1,FALSE)=\"\",\"\",HLOOKUP(AU$6+$BO$47,$E$47:$AH$77,$B11+1,FALSE)*$D11)","v":""},{"$f":"IF(HLOOKUP(AU$6+$BO$47,$AI$47:$BL$77,$B11+1,FALSE)=\"\",\"\",HLOOKUP(AU$6+$BO$47,$AI$47:$BL$77,$B11+1,FALSE))","v":""},{"$f":"IF(HLOOKUP(AW$6+$BO$47,$E$47:$AH$77,$B11+1,FALSE)=\"\",\"\",HLOOKUP(AW$6+$BO$47,$E$47:$AH$77,$B11+1,FALSE)*$D11)","v":""},{"$f":"IF(HLOOKUP(AW$6+$BO$47,$AI$47:$BL$77,$B11+1,FALSE)=\"\",\"\",HLOOKUP(AW$6+$BO$47,$AI$47:$BL$77,$B11+1,FALSE))","v":""},{"$f":"IF(HLOOKUP(AY$6+$BO$47,$E$47:$AH$77,$B11+1,FALSE)=\"\",\"\",HLOOKUP(AY$6+$BO$47,$E$47:$AH$77,$B11+1,FALSE)*$D11)","v":""},{"$f":"IF(HLOOKUP(AY$6+$BO$47,$AI$47:$BL$77,$B11+1,FALSE)=\"\",\"\",HLOOKUP(AY$6+$BO$47,$AI$47:$BL$77,$B11+1,FALSE))","v":""},{"$f":"IF(HLOOKUP(BA$6+$BO$47,$E$47:$AH$77,$B11+1,FALSE)=\"\",\"\",HLOOKUP(BA$6+$BO$47,$E$47:$AH$77,$B11+1,FALSE)*$D11)","v":""},{"$f":"IF(HLOOKUP(BA$6+$BO$47,$AI$47:$BL$77,$B11+1,FALSE)=\"\",\"\",HLOOKUP(BA$6+$BO$47,$AI$47:$BL$77,$B11+1,FALSE))","v":""},{"$f":"IF(HLOOKUP(BC$6+$BO$47,$E$47:$AH$77,$B11+1,FALSE)=\"\",\"\",HLOOKUP(BC$6+$BO$47,$E$47:$AH$77,$B11+1,FALSE)*$D11)","v":""},{"$f":"IF(HLOOKUP(BC$6+$BO$47,$AI$47:$BL$77,$B11+1,FALSE)=\"\",\"\",HLOOKUP(BC$6+$BO$47,$AI$47:$BL$77,$B11+1,FALSE))","v":""},{"$f":"IF(HLOOKUP(BE$6+$BO$47,$E$47:$AH$77,$B11+1,FALSE)=\"\",\"\",HLOOKUP(BE$6+$BO$47,$E$47:$AH$77,$B11+1,FALSE)*$D11)","v":""},{"$f":"IF(HLOOKUP(BE$6+$BO$47,$AI$47:$BL$77,$B11+1,FALSE)=\"\",\"\",HLOOKUP(BE$6+$BO$47,$AI$47:$BL$77,$B11+1,FALSE))","v":""},{"$f":"IF(HLOOKUP(BG$6+$BO$47,$E$47:$AH$77,$B11+1,FALSE)=\"\",\"\",HLOOKUP(BG$6+$BO$47,$E$47:$AH$77,$B11+1,FALSE)*$D11)","v":""},{"$f":"IF(HLOOKUP(BG$6+$BO$47,$AI$47:$BL$77,$B11+1,FALSE)=\"\",\"\",HLOOKUP(BG$6+$BO$47,$AI$47:$BL$77,$B11+1,FALSE))","v":""},{"$f":"IF(HLOOKUP(BI$6+$BO$47,$E$47:$AH$77,$B11+1,FALSE)=\"\",\"\",HLOOKUP(BI$6+$BO$47,$E$47:$AH$77,$B11+1,FALSE)*$D11)","v":""},{"$f":"IF(HLOOKUP(BI$6+$BO$47,$AI$47:$BL$77,$B11+1,FALSE)=\"\",\"\",HLOOKUP(BI$6+$BO$47,$AI$47:$BL$77,$B11+1,FALSE))","v":""},{"$f":"IF(HLOOKUP(BK$6+$BO$47,$E$47:$AH$77,$B11+1,FALSE)=\"\",\"\",HLOOKUP(BK$6+$BO$47,$E$47:$AH$77,$B11+1,FALSE)*$D11)","v":""},{"$f":"IF(HLOOKUP(BK$6+$BO$47,$AI$47:$BL$77,$B11+1,FALSE)=\"\",\"\",HLOOKUP(BK$6+$BO$47,$AI$47:$BL$77,$B11+1,FALSE))","v":""},{"$f":"MAX(E11,G11,I11,K11,M11,O11,Q11,S11,U11,W11,Y11,AA11,AC11,AE11,AG11,AI11,AK11,AM11,AO11,AQ11,AS11,AU11,AW11,AY11,BA11,BC11,BE11,BG11,BI11,BK11)","v":0.99881643450254942},{"$f":"MATCH($BM11,E11:BK11,0)+4","v":5},{"$f":"INDIRECT(SUBSTITUTE(ADDRESS(1,$BN11,4),\"1\",\"7\"))","v":7.7468122304738662E-3}]
[null,{"$f":"B11+1","v":2},"ED Platform horizontal sway translation DOF (internal DOF index = DOF_Sw), m",1,2.9920571817008068E-6,166.8978250316147,0.99879515459269597,0,0.28570782715904319,-167.9722244600442,3.971759878906881E-2,-144.85666743425409,0.69436522372053178,0,2.9359390086264528E-7,5.8972270152911213,7.3214846225090127E-3,92.054919776760698,6.5225087717384652E-4,-106.539045696611,4.5785925708740853E-5,73.871985844694009,4.0961934089804613E-5,-97.214204982753898,5.0005146336336352E-5,85.889609488176518,1.9483834197305799E-4,92.071789930380646,1.976764598318686E-5,87.073521292849492,5.8636822408818169E-4,87.359563448399371,8.3672952838620301E-9,106.7888378687946,2.8058227176484398E-7,-45.811607483309487,7.4795779954208909E-8,-52.537012424963123,2.6540449250580201E-8,-56.965665210961959,2.0316059800599531E-5,41.130798805392303,1.2481065024037961E-7,-100.4607580986376,"","","","","","","","","","","","","","","","","","","","",0.99879515459269597,7,{"$f":"INDIRECT(SUBSTITUTE(ADDRESS(1,$BN12,4),\"1\",\"7\"))","v":7.8177624664503269E-3}]
[null,3,"ED Platform vertical heave translation DOF (internal DOF index = DOF_Hv), m",1,1.337639249169628E-4,1.837364772483403,1.130577647634148E-7,179.61641811621601,8.8675021998642085E-6,177.33243583730481,2.138759423548045E-2,-13.34031738194777,1.846952828653304E-3,21.39473026747909,0.95291169088215688,180,4.5236984620327571E-5,-101.592058148858,1.4533816899014361E-4,-81.408472831707215,3.750180295749353E-6,-90.340090229888531,8.7241747154079685E-6,77.137726555725095,3.3736690257704222E-5,-92.239046406619067,2.7869666016673908E-6,-97.368072651208266,4.0467903906013207E-5,88.168868581877959,1.7667081528513811E-6,90.614391926153829,4.0405364553810199E-7,-30.648628229213301,6.704404919453216E-9,-87.159239474972551,2.2938210454471419E-8,-105.69574772643981,6.706801298845814E-7,-149.14924142949269,4.4449047955481237E-8,-81.538383372486493,1.9688159999290099E-9,-84.289577019362071,"","","","","","","","","","","","","","","","","","","","",0.95291169088215688,15,{"$f":"INDIRECT(SUBSTITUTE(ADDRESS(1,$BN13,4),\"1\",\"7\"))","v":5.0577036548763013E-2}]
[null,4,"ED Platform roll tilt rotation DOF (internal DOF index = DOF_R), rad",1,6.8357014761393938E-8,-175.02923687173009,5.4373645513793533E-4,-1.096735381003062,2.6608681885615691E-2,15.96336315502578,6.8187072109552743E-3,35.466075710232339,0.119246421880527,-179.69031424531829,7.3922987513209321E-8,-175.51106279699681,4.3644082792457982E-4,-87.857331605487246,3.8820279510788143E-5,73.529325051773355,2.6306027705269751E-6,-105.43119913331959,2.1776143229804501E-6,82.487739388608901,2.7341506812735651E-6,-94.385154476681564,9.7077311509644799E-6,-87.853607058454969,1.0165575180748889E-6,-92.985417556190413,3.0540069064445788E-5,-92.804270003121758,3.5821452886450272E-10,-74.204004110155367,1.1929437779624771E-8,132.86360677409331,3.1506792373869501E-9,126.3717448309249,1.1118300476455109E-9,122.50505885037239,8.4423145361909825E-7,-138.90894739637761,4.4998634497077679E-9,79.093338795462728,"","","","","","","","","","","","","","","","","","","","",0.119246421880527,13,{"$f":"INDIRECT(SUBSTITUTE(ADDRESS(1,$BN14,4),\"1\",\"7\"))","v":3.6173867487825938E-2}]
[null,5,"ED Platform pitch tilt rotation DOF (internal DOF index = DOF_P), rad",1,5.3968837336777515E-4,178.79071320776339,8.5866754807130077E-8,-3.1569742712917872,2.0604393271109661E-4,-176.84767998840371,9.9075619243811988E-2,7.4735051827328147E-2,8.323321817064697E-3,35.265618670788847,2.8180452647804261E-4,3.346356860311015,7.127026852925737E-5,-106.771797947452,2.20975550711879E-4,-86.784807619256625,4.2567264111952061E-7,-99.833365581672737,1.309744468658107E-5,-91.968218834737499,3.2126700730303559E-5,-95.220832459984692,1.206927437258803E-6,-93.551355820004403,7.5476867282752458E-6,-95.218227987736171,1.76186545149001E-6,87.39564953573813,8.8277294866039835E-8,142.96377849105309,7.5563695808784245E-10,-126.10061342206819,7.8541331991723488E-10,-32.58546841360964,1.3212593338575561E-7,27.236736630407162,5.4965697516457442E-9,116.8385292435064,8.6965784435580341E-11,-90.184368482239449,"","","","","","","","","","","","","","","","","","","","",9.9075619243811988E-2,11,{"$f":"INDIRECT(SUBSTITUTE(ADDRESS(1,$BN15,4),\"1\",\"7\"))","v":3.6140238077019902E-2}]
[null,6,"ED Platform yaw rotation DOF (internal DOF index = DOF_Y), rad",1,8.5928661329715695E-7,-29.47049991546853,2.345092928175881E-5,-44.857270699036981,0.93008558315265166,0,2.8320922454395112E-4,-133.30719768322771,5.125422034647025E-3,9.8834355643406901,1.0900894960531319E-8,12.235440674729579,1.0036097432135831E-5,-86.826530007784825,9.2008225568291268E-7,74.832985089370069,3.9080308935346826E-6,89.510148558149297,1.5385360855316911E-7,-92.704907372836814,1.3378048360480681E-7,-95.499252220017581,9.3871696227069958E-7,-88.036423652960465,2.155227080335119E-7,87.36608096140408,8.8490437913269416E-7,-92.885243915021377,1.079761219312566E-10,-111.539102550042,4.6923284272917188E-9,-89.354483644573008,5.0320296209361659E-11,104.4615365252964,6.5933816703936716E-11,72.037294845925629,1.4189116473639669E-8,30.34102894052613,1.179589835630487E-8,77.720464645752656,"","","","","","","","","","","","","","","","","","","","",0.93008558315265166,9,{"$f":"INDIRECT(SUBSTITUTE(ADDRESS(1,$BN16,4),\"1\",\"7\"))","v":1.194648387096096E-2}]
[null,7,"ED 1st tower fore-aft bending mode DOF (internal DOF index = DOF_TFA1), m",6.9206546939340457E-3,5.744644355460448E-6,175.6529561013148,1.6111730469601272E-9,-1.7154843842786409,3.4279685005304816E-6,-172.97767793829959,3.2564461583696439E-3,1.421018714199527,2.7379897325025237E-4,36.579897593301062,4.6021996449369232E-6,171.2314797198118,1.358602731586466E-4,73.075714945297108,4.2550009735901163E-4,93.174229103612817,2.580237582571428E-7,78.853454568490903,1.5056834898031487E-5,89.294186399353606,8.193792125350115E-5,85.498748362656968,1.9088846552436905E-6,84.156445739543116,1.9000661677223905E-5,85.570947830110583,5.3994822735521504E-6,-92.245051430650705,7.0370220021874657E-8,-52.168447740674793,4.6512099422585007E-10,19.716694647124761,2.6984937699893729E-8,84.399994765045264,7.7435696023100999E-8,-165.97516133159399,1.1943149860612346E-8,42.806000468592849,1.2887564486795461E-9,-96.934335358348321,"","","","","","","","","","","","","","","","","","","","",3.2564461583696439E-3,11,{"$f":"INDIRECT(SUBSTITUTE(ADDRESS(1,$BN17,4),\"1\",\"7\"))","v":3.6140238077019902E-2}]
[null,8,"ED 1st tower side-to-side bending mode DOF (internal DOF index = DOF_TSS1), m",6.9206546939340457E-3,9.0509868519845587E-10,-167.0225071813374,5.7300416565706788E-6,-3.8360721395405202,9.4734970924005536E-4,22.447837194741862,2.2444982601216201E-4,36.59724948067938,3.9280300724132021E-3,-178.5898170843752,3.9194626004552509E-9,-175.09358601015271,8.4655069047309033E-4,91.98748067515352,7.5963014110314944E-5,-106.5198666096519,7.7072620994239389E-6,80.007842520000651,3.9242337746181947E-6,-98.176106486473998,6.9582997322509422E-6,85.750034377753323,1.0980728278816885E-5,95.063941915604275,1.918726071263748E-6,88.189322041147847,7.4154389688353304E-5,87.481016246751025,2.0940662294716611E-9,89.675652466454395,5.1465723504706031E-8,-74.928867371858829,1.9484874690753588E-9,-79.913558725666107,2.4468862973183364E-9,-84.090563042891688,5.5414895379074479E-7,36.567590154803511,4.2211395755560435E-7,79.952228263030861,"","","","","","","","","","","","","","","","","","","","",3.9280300724132021E-3,13,{"$f":"INDIRECT(SUBSTITUTE(ADDRESS(1,$BN18,4),\"1\",\"7\"))","v":3.6173867487825938E-2}]
[null,9,"ED 2nd tower fore-aft bending mode DOF (internal DOF index = DOF_TFA2), m",6.9206546939340457E-3,1.5749654646627176E-8,174.3696388527714,4.5470650658359733E-12,-1.7641210151770259,1.0806040388861746E-8,177.64113549217481,6.6003981057202039E-6,-1.297757006726334,5.5505122001461499E-7,33.858726259194597,3.6917898506418927E-7,0.67349950246765411,5.6632739617880817E-7,-106.92401972331351,1.7225414520074823E-6,-87.270743265012385,3.0162662550958591E-8,83.763403987109243,7.2593765345046537E-7,91.476491065130361,6.7438398885883836E-7,93.1066373458155,8.8325263240461331E-8,92.337423889755058,3.3452821643408862E-7,90.303045617450124,6.8532776204345683E-8,-85.535283160677565,9.6912639473629805E-8,-31.120425212921671,8.4324427064851381E-10,62.61373314600749,1.0575711103654458E-9,-148.01716134782041,1.5925755189418581E-7,-149.3281027152982,7.1107832654097233E-9,-65.947616067864402,2.2951201676429937E-10,88.965522546629558,"","","","","","","","","","","","","","","","","","","","",6.6003981057202039E-6,11,{"$f":"INDIRECT(SUBSTITUTE(ADDRESS(1,$BN19,4),\"1\",\"7\"))","v":3.6140238077019902E-2}]
[null,10,"ED 2nd tower side-to-side bending mode DOF (internal DOF index = DOF_TSS2), m",6.9206546939340457E-3,3.0997217355317902E-12,-173.67029876849321,1.5678984598882376E-8,-3.9993173652990128,1.7753513279941189E-6,21.09970374636055,4.3824503630782526E-7,35.985008738673578,7.6718099113121495E-6,-179.20856431081069,1.5800035613889759E-11,178.41116541328631,3.9407387085240581E-6,-88.193004209618607,3.4196524210496277E-7,72.865745431842058,1.8172110651880104E-8,-55.756944447661091,7.4805425368386243E-8,-89.539655032499212,5.8222888863726976E-8,96.251666571496273,8.5028019737344136E-7,94.561465486667913,6.6101197821274415E-8,90.851206194733663,1.8220137417576024E-6,92.208685565570917,3.3535842828008823E-10,115.58289031717,1.207822702472044E-8,-34.416029117062813,3.5834457331889631E-9,-44.52947637891095,1.2883540726263116E-9,-52.488265313999428,1.0537690794285628E-6,41.606414426442448,2.4762220531780619E-8,-99.710352572707066,"","","","","","","","","","","","","","","","","","","","",7.6718099113121495E-6,13,{"$f":"INDIRECT(SUBSTITUTE(ADDRESS(1,$BN20,4),\"1\",\"7\"))","v":3.6173867487825938E-2}]
[null,11,"ED Nacelle yaw DOF (internal DOF index = DOF_Yaw), rad",1,7.9040879904909511E-11,-148.62319968563801,4.9982185375179673E-7,-3.781039080115093,1.045847455305819E-4,24.066676233062498,1.9628325443327492E-5,36.754306965175132,3.4318364923987182E-4,-178.46002807440939,4.1750568856993078E-10,-0.55269859718569903,7.1747159124298742E-5,93.012958348861659,6.6568582814848954E-6,-105.175596858771,4.4149341293556303E-5,-88.010592712978465,1.753138656264574E-6,89.968000377761811,1.7975104455673969E-6,86.983193578156872,1.4937767509895429E-5,94.603444016560275,3.4152857697055112E-6,-89.958462771727525,1.6309365224517861E-5,89.651436039010292,2.3370248773749949E-8,77.476795296430865,1.0145254991827749E-6,103.6276579854801,1.2219591679224869E-8,-59.586170639894057,1.681618678149181E-8,-101.4971323541627,3.4641029896843858E-6,-149.62628056090071,1.020082644435004E-5,-100.08231487004581,"","","","","","","","","","","","","","","","","","","","",3.4318364923987182E-4,13,{"$f":"INDIRECT(SUBSTITUTE(ADDRESS(1,$BN21,4),\"1\",\"7\"))","v":3.6173867487825938E-2}]
[null,12,"ED 1st flapwise bending-mode DOF of blade 1 (internal DOF index = DOF_BF(1,1)), m",8.5470085470085479E-3,8.5542831157466242E-6,175.29424827349411,2.9619789809779875E-8,0.38916082337891311,1.2873730415116077E-5,-9.1260939106513153,4.9073118445996204E-3,0.79947267424992841,3.138713133226627E-4,48.560621062398774,4.4075920260584628E-5,1.64722342464688,8.7914262623996762E-4,79.895622402875134,1.1512979755948745E-3,89.768547182656121,7.9315182154171435E-5,82.954094908331186,1.4782975432913053E-3,86.253797297924137,1.1951422450514608E-3,-90.861408175363152,6.5266041921446208E-5,-90.490629774708722,1.0993070276143197E-4,-82.411500654329572,1.5060091048633035E-4,-92.346582926542652,8.0233555676792217E-6,70.022475272046492,2.3895171685944589E-6,-34.101171244532928,3.8044567734234653E-4,-97.50794074837286,6.9364373631317275E-6,-95.456820940313705,4.2762788841613133E-5,-75.666391284654026,8.3827561375273884E-7,97.467961495570066,"","","","","","","","","","","","","","","","","","","","",4.9073118445996204E-3,11,{"$f":"INDIRECT(SUBSTITUTE(ADDRESS(1,$BN22,4),\"1\",\"7\"))","v":3.6140238077019902E-2}]
[null,13,"ED 1st flapwise bending-mode DOF of blade 2 (internal DOF index = DOF_BF(2,1)), m",8.5470085470085479E-3,4.2244233715603233E-7,-178.2951878688757,3.8325972540918395E-7,-3.871321870344385,7.7821503956481918E-5,31.732488848778861,1.2145381555721325E-3,3.6770800846896958,1.9900353628814592E-4,163.3424914807301,1.1587865382416437E-5,178.33970765277519,1.0394846816220078E-3,72.912872400922041,2.6240728019661713E-3,89.497792478556008,1.1474521417050002E-4,-94.489083211463765,1.8084040181425198E-3,-91.688806994876643,1.8249477698904985E-3,-91.606139767041128,1.6264034207010892E-4,88.047092944561811,1.3520864012867771E-4,-100.7168843774176,1.4178157625452565E-4,-89.699055113427775,3.8613685289359909E-4,84.387541576905761,1.3849647515765335E-5,-117.9103028468258,1.2076601892964351E-5,64.406577954847577,3.6261900945109426E-4,-94.377596910484996,2.4654317594804156E-5,-60.542760566395003,2.2682662808131627E-6,-90.221909386065803,"","","","","","","","","","","","","","","","","","","","",2.6240728019661713E-3,19,{"$f":"INDIRECT(SUBSTITUTE(ADDRESS(1,$BN23,4),\"1\",\"7\"))","v":0.42848404196226142}]
[null,14,"ED 1st flapwise bending-mode DOF of blade 3 (internal DOF index = DOF_BF(3,1)), m",8.5470085470085479E-3,3.9975407052962832E-8,-1.3075774012646659,4.6536383235641056E-7,0.50422461268265906,1.1458169197409557E-3,26.867593722882251,2.0900516051004602E-5,134.85111779593649,4.5749964888053534E-4,-172.40696317513181,1.0675884937984242E-5,0.21836659256291319,7.9381388539240098E-4,92.635698886577146,1.2821527347403044E-4,-100.06440005712,2.3672370483998556E-3,-91.632781937436846,1.7459878805249412E-4,83.255132645880238,4.0596344332478807E-6,-46.031362771544899,8.7544046078931388E-5,-104.937951469271,2.025066264041331E-4,89.854230524503791,1.1819111085545891E-4,-93.953346651127887,1.4976015054629266E-5,73.347350554320244,3.8560330142053273E-4,82.903356992124557,5.497791114846932E-6,-25.812325985068341,1.1339438980612839E-5,-96.080207020419067,3.4714650773747636E-4,87.478857023944755,2.0293371164101592E-4,88.134780815663689,"","","","","","","","","","","","","","","","","","","","",2.3672370483998556E-3,21,{"$f":"INDIRECT(SUBSTITUTE(ADDRESS(1,$BN24,4),\"1\",\"7\"))","v":0.5502457647293294}]
[null,15,"ED 1st edgewise bending-mode DOF of blade 1 (internal DOF index = DOF_BE(1,1)), m",8.5470085470085479E-3,5.615641205719875E-7,175.30117558527391,1.3760740608064803E-7,-179.5426151726561,9.0776926878546082E-5,174.99566096005429,2.9356753947602858E-4,-3.5396741405766798,6.6269222897239865E-4,4.1784211524648844,2.8940966291947798E-6,1.7236433807594711,2.054590720763571E-3,-90.416044271722356,2.6391361865880968E-4,76.455741285873287,8.2969028407349618E-5,-83.781674194068046,6.4575891161483065E-5,86.384231500333712,5.4006273837279096E-5,-92.704598642289227,7.1111419801256153E-4,91.156949500703632,3.6521989395567893E-5,84.616086462036549,1.4549647471023806E-3,88.380965013144788,1.630110230780066E-8,-16.530926386745939,3.9751082962308168E-7,-174.18995693641551,1.547292834823966E-7,-163.21543104986611,5.623584169010457E-8,152.2235157312563,4.8782500632604499E-5,-137.24941593492611,4.5474791961826716E-6,80.426058959680262,"","","","","","","","","","","","","","","","","","","","",2.054590720763571E-3,17,{"$f":"INDIRECT(SUBSTITUTE(ADDRESS(1,$BN25,4),\"1\",\"7\"))","v":0.42544736669972733}]
[null,16,"ED 1st edgewise bending-mode DOF of blade 2 (internal DOF index = DOF_BE(2,1)), m",8.5470085470085479E-3,2.7015174421166295E-8,-173.37313656913091,4.173354483589628E-6,176.1220423184123,7.7929880781955419E-4,-151.78721569047849,1.0886057604316685E-4,-122.4389331288216,2.908940438144937E-3,1.308888610318764,9.0617444252567705E-7,178.32515250705401,1.0438519171247504E-3,-89.789135502470302,2.5613459598550713E-4,83.170050189266803,2.69501322456039E-5,-146.86870573944381,3.1533480326346227E-5,-80.645756642651861,1.7956232296236617E-5,-64.119701788284274,1.8928946115661874E-3,-91.682863966578594,1.1667776870974403E-4,-97.658535409403328,1.2370679771214251E-3,91.203364827447331,4.9523192357135666E-7,-11.28118376609117,2.3437835089980388E-7,109.49474437623149,1.5095729712968541E-8,-130.45393905430981,9.9336437736731112E-7,-141.0108516893612,3.1726480819008362E-6,-138.5731640920196,2.0844816773515572E-6,-99.693590809363982,"","","","","","","","","","","","","","","","","","","","",2.908940438144937E-3,13,{"$f":"INDIRECT(SUBSTITUTE(ADDRESS(1,$BN26,4),\"1\",\"7\"))","v":3.6173867487825938E-2}]
[null,17,"ED 1st edgewise bending-mode DOF of blade 3 (internal DOF index = DOF_BE(3,1)), m",8.5470085470085479E-3,4.4773255270766304E-7,-175.26094222048209,2.7164237831105757E-8,0.1629113587721415,6.89406457691545E-5,21.88316660589977,3.6089021713298406E-4,11.38963507076908,1.9320103636542183E-5,107.0025964729663,1.1978769369769813E-4,-179.77852203588759,1.309907755932031E-4,78.735602440691579,2.7107570538830101E-4,91.047902635319701,7.5755302599064562E-5,-91.719921519039303,3.4565690543085528E-5,162.85693912550801,3.1709519446252625E-4,84.477368527919083,1.3431833399029104E-4,84.738221200244425,1.9975546145065345E-3,-91.703141993271686,9.8421777926231887E-6,-82.761234154265821,9.8762676554060954E-7,-29.355740410320529,8.2652048277135092E-8,-22.998580068835391,4.038352805107307E-8,-106.43202794823701,1.6390452083864403E-6,-148.0138859274949,1.31121883634086E-6,37.821618042581903,1.9622177030965071E-6,80.626266097419901,"","","","","","","","","","","","","","","","","","","","",1.9975546145065345E-3,29,{"$f":"INDIRECT(SUBSTITUTE(ADDRESS(1,$BN27,4),\"1\",\"7\"))","v":0.65354682695253197}]
[null,18,"ED 2nd flapwise bending-mode DOF of blade 1 (internal DOF index = DOF_BF(1,2)), m",8.5470085470085479E-3,2.6797887461993782E-6,-4.7049026953813406,4.3368214755007238E-9,-179.74238402016809,8.417281713813419E-7,154.5593643890839,1.5309630117995112E-3,-179.23420762156681,1.1504446987865464E-4,-139.57980160154611,1.3772311034894505E-5,-178.39532432108709,1.1758562454162471E-4,-98.667532574695613,1.5913497239444652E-4,-87.398854767553729,1.2600009629207796E-6,-41.201037545030317,5.2711076676160745E-5,85.566213048859225,1.4501286132261726E-4,-93.541915928038819,3.3670015864833394E-5,91.316643969563003,3.0157128278528695E-5,-91.540963050369228,8.6429260048676761E-5,87.460879508068246,8.4622445269971458E-6,-109.5666463692686,2.4919841085164491E-6,145.01662960171629,4.0345582121038088E-4,82.483388001878211,7.2143776021387751E-6,85.291685287324157,4.9055012626197705E-5,97.1148814508295,1.5295202379663506E-6,-89.786467874860136,"","","","","","","","","","","","","","","","","","","","",1.5309630117995112E-3,11,{"$f":"INDIRECT(SUBSTITUTE(ADDRESS(1,$BN28,4),\"1\",\"7\"))","v":3.6140238077019902E-2}]
[null,19,"ED 2nd flapwise bending-mode DOF of blade 2 (internal DOF index = DOF_BF(2,2)), m",8.5470085470085479E-3,1.0059679488013248E-7,3.3279849412412381,4.1551498460667784E-7,-3.903569413690632,7.137813572457659E-5,21.9989658406333,3.1935018048361935E-4,-178.1515274398146,3.0908880827307635E-4,-175.65534341653361,3.9335041600505928E-6,-1.46285177387995,6.6081854977830402E-5,-119.5868032091947,3.2999053889222327E-4,-88.082792647914403,3.6634013654318362E-6,-110.34717721539261,6.7685542620894899E-5,-91.761788992271789,2.0693001358750566E-4,-94.306805047546518,9.5594658422985479E-5,-92.788545804765207,4.6228249802993841E-5,-98.04003870856819,1.000530850443654E-4,88.920736216033987,4.1179251138229026E-4,-94.949347149573384,1.4714310604456865E-5,61.988899174455412,1.2983072006613975E-5,-115.5442829894812,3.7959246910920297E-4,86.681286103810493,2.5832752436239616E-5,118.5963606206578,2.7410878389657315E-6,88.654275651821905,"","","","","","","","","","","","","","","","","","","","",4.1179251138229026E-4,33,{"$f":"INDIRECT(SUBSTITUTE(ADDRESS(1,$BN29,4),\"1\",\"7\"))","v":2.4020999195213739}]
[null,20,"ED 2nd flapwise bending-mode DOF of blade 3 (internal DOF index = DOF_BF(3,2)), m",8.5470085470085479E-3,4.5126987265802595E-8,9.1421141068636818,1.5265326255300566E-7,-179.96994685012189,3.3746441878234771E-4,-153.22034409728241,4.0559529599330952E-5,-157.67468101831599,1.4224135347467624E-4,6.1209090669117963,1.2105111345440873E-5,0.14113800462956269,1.132397528222659E-4,-86.848974214864668,4.8440213272681051E-6,47.646369914598239,5.5192872881210809E-5,-93.918952485263915,5.851798627821964E-6,100.7783815003619,6.367625484712228E-6,79.325535845840463,1.1401875845996274E-5,-90.454212281099629,9.7855116748160785E-5,-92.650078150856402,4.5540036237914322E-5,-93.177621442232621,1.5900290525560488E-5,-107.1648628210714,4.1089012818445916E-4,-96.997777081505632,5.8334458031653308E-6,154.0521212076203,1.2209508451162634E-5,82.977180913940714,3.606279909368305E-4,-90.999803072215727,1.9679849763522224E-4,-91.12426295540881,"","","","","","","","","","","","","","","","","","","","",4.1089012818445916E-4,35,{"$f":"INDIRECT(SUBSTITUTE(ADDRESS(1,$BN30,4),\"1\",\"7\"))","v":2.407209018826959}]
[null,21,null,{"$f":"1","v":1},"","","","","","","","","","","","","","","","","","","","","","","","","","","","","","","","","","","","","","","","","","","","","","","","","","","","","","","","","","","","",0,{"$error":"#N/A"},{"$f":"INDIRECT(SUBSTITUTE(ADDRESS(1,$BN31,4),\"1\",\"7\"))","v":{"$error":"#N/A"}}]
[null,22,null,{"$f":"1","v":1},"","","","","","","","","","","","","","","","","","","","","","","","","","","","","","","","","","","","","","","","","","","","","","","","","","","","","","","","","","","","",0,{"$error":"#N/A"},{"$f":"INDIRECT(SUBSTITUTE(ADDRESS(1,$BN32,4),\"1\",\"7\"))","v":{"$error":"#N/A"}}]
[null,23,null,{"$f":"1","v":1},"","","","","","","","","","","","","","","","","","","","","","","","","","","","","","","","","","","","","","","","","","","","","","","","","","","","","","","","","","","","",0,{"$error":"#N/A"},{"$f":"INDIRECT(SUBSTITUTE(ADDRESS(1,$BN33,4),\"1\",\"7\"))","v":{"$error":"#N/A"}}]
[null,24,null,{"$f":"1","v":1},"","","","","","","","","","","","","","","","","","","","","","","","","","","","","","","","","","","","","","","","","","","","","","","","","","","","","","","","","","","","",0,{"$error":"#N/A"},{"$f":"INDIRECT(SUBSTITUTE(ADDRESS(1,$BN34,4),\"1\",\"7\"))","v":{"$error":"#N/A"}}]
[null,25,null,{"$f":"1","v":1},"","","","","","","","","","","","","","","","","","","","","","","","","","","","","","","","","","","","","","","","","","","","","","","","","","","","","","","","","","","","",0,{"$error":"#N/A"},{"$f":"INDIRECT(SUBSTITUTE(ADDRESS(1,$BN35,4),\"1\",\"7\"))","v":{"$error":"#N/A"}}]
[null,26,null,{"$f":"1","v":1},"","","","","","","","","","","","","","","","","","","","","","","","","","","","","","","","","","","","","","","","","","","","","","","","","","","","","","","","","","","","",0,{"$error":"#N/A"},{"$f":"INDIRECT(SUBSTITUTE(ADDRESS(1,$BN36,4),\"1\",\"7\"))","v":{"$error":"#N/A"}}]
[null,27,null,{"$f":"1","v":1},"","","","","","","","","","","","","","","","","","","","","","","","","","","","","","","","","","","","","","","","","","","","","","","","","","","","","","","","","","","","",0,{"$error":"#N/A"},{"$f":"INDIRECT(SUBSTITUTE(ADDRESS(1,$BN37,4),\"1\",\"7\"))","v":{"$error":"#N/A"}}]
[null,28,null,{"$f":"1","v":1},"","","","","","","","","","","","","","","","","","","","","","","","","","","","","","","","","","","","","","","","","","","","","","","","","","","","","","","","","","","","",0,{"$error":"#N/A"},{"$f":"INDIRECT(SUBSTITUTE(ADDRESS(1,$BN38,4),\"1\",\"7\"))","v":{"$error":"#N/A"}}]
[null,29,null,{"$f":"1","v":1},"","","","","","","","","","","","","","","","","","","","","","","","","","","","","","","","","","","","","","","","","","","","","","","","","","","","","","","","","","","","",0,{"$error":"#N/A"},{"$f":"INDIRECT(SUBSTITUTE(ADDRESS(1,$BN39,4),\"1\",\"7\"))","v":{"$error":"#N/A"}}]
[null,30,null,{"$f":"1","v":1},"","","","","","","","","","","","","","","","","","","","","","","","","","","","","","","","","","","","","","","","","","","","","","","","","","","","","","","","","","","","",0,{"$error":"#N/A"},{"$f":"INDIRECT(SUBSTITUTE(ADDRESS(1,$BN40,4),\"1\",\"7\"))","v":{"$error":"#N/A"}}]
[null,null,null,null,{"$f":"MAX(E11:E40)","v":0.99881643450254942},null,{"$f":"MAX(G11:G40)","v":0.99879515459269597},null,{"$f":"MAX(I11:I40)","v":0.93008558315265166},null,{"$f":"MAX(K11:K40)","v":0.57456519172601905},null,{"$f":"MAX(M11:M40)","v":0.69436522372053178},null,{"$f":"MAX(O11:O40)","v":0.95291169088215688},null,{"$f":"MAX(Q11:Q40)","v":7.3214846225090127E-3},null,{"$f":"MAX(S11:S40)","v":3.727257545621439E-3},null,{"$f":"MAX(U11:U40)","v":2.3672370483998556E-3},null,{"$f":"MAX(W11:W40)","v":1.8084040181425198E-3},null,{"$f":"MAX(Y11:Y40)","v":1.8249477698904985E-3},null,{"$f":"MAX(AA11:AA40)","v":1.8928946115661874E-3},null,{"$f":"MAX(AC11:AC40)","v":1.9975546145065345E-3},null,{"$f":"MAX(AE11:AE40)","v":1.4549647471023806E-3},null,{"$f":"MAX(AG11:AG40)","v":4.1179251138229026E-4},null,{"$f":"MAX(AI11:AI40)","v":4.1089012818445916E-4},null,{"$f":"MAX(AK11:AK40)","v":4.0345582121038088E-4},null,{"$f":"MAX(AM11:AM40)","v":3.7959246910920297E-4},null,{"$f":"MAX(AO11:AO40)","v":3.606279909368305E-4},null,{"$f":"MAX(AQ11:AQ40)","v":2.0293371164101592E-4},null,{"$f":"MAX(AS11:AS40)","v":0},null,{"$f":"MAX(AU11:AU40)","v":0},null,{"$f":"MAX(AW11:AW40)","v":0},null,{"$f":"MAX(AY11:AY40)","v":0},null,{"$f":"MAX(BA11:BA40)","v":0},null,{"$f":"MAX(BC11:BC40)","v":0},null,{"$f":"MAX(BE11:BE40)","v":0},null,{"$f":"MAX(BG11:BG40)","v":0},null,{"$f":"MAX(BI11:BI40)","v":0},null,{"$f":"MAX(BK11:BK40)","v":0}]
[null,null,"Green Background = Maximum value of the mode shape magnitude within a row"]
[null,null,"Red Bold Text = Maximum value of the mode shape magnitude within a column"]
[]
[]
[]
[null,null,null,null,{"$f":"D48","v":56},{"$f":"D49","v":54},{"$f":"D50","v":55},{"$f":"D51","v":51},{"$f":"D52","v":53},{"$f":"D53","v":52},{"$f":"D54","v":50},{"$f":"D55","v":49},{"$f":"D56","v":48},{"$f":"D57","v":47},{"$f":"D58","v":44},{"$f":"D59","v":43},{"$f":"D60","v":46},{"$f":"D61","v":45},{"$f":"D62","v":42},{"$f":"D63","v":40},{"$f":"D64","v":41},{"$f":"D65","v":37},{"$f":"D66","v":39},{"$f":"D67","v":38},{"$f":"D68","v":57},{"$f":"D69","v":58},{"$f":"D70","v":59},{"$f":"D71","v":60},{"$f":"D72","v":61},{"$f":"D73","v":62},{"$f":"D74","v":63},{"$f":"D75","v":64},{"$f":"D76","v":65},{"$f":"D77","v":66},{"$f":"E47","v":56},54,55,51,53,52,50,49,48,47,44,43,46,45,42,40,41,37,39,38,57,58,59,60,61,62,63,64,65,66,null,null,{"$f":"CT77+1","v":36},{"$f":"BO47+1","v":37},38,39,40,41,42,43,44,45,46,47,48,49,50,51,52,53,54,55,56,57,58,59,60,61,62,63,64,65,66]
[null,null,null,{"$f":"CS48","v":56},2.3094941334591519E-9,3.1622238569083468E-6,1.3253964435401199E-7,2.0878256538417931E-6,1.834201044946055E-8,1.7908937559228749E-8,3.2943606915164317E-5,1.4246435689037359E-4,2.375686301142076E-5,5.8745579703414893E-4,3.727257545621439E-3,1.200634082942394E-3,2.5655667256068853E-4,8.6137039776728361E-6,1.780368028608168E-3,0.57456519172601905,4.8249516254888922E-2,0.99881643450254942,9.2310314472888542E-3,1.110728395411153E-5,null,null,null,null,null,null,null,null,null,null,-90.113906028333247,27.650479821935541,116.6428943130871,143.64330390594651,-26.88488032862837,-125.05479937355631,87.611653566936525,-95.064925673162918,-93.266069959808135,-95.037051554318666,-86.863289073886222,-106.868320036763,-91.956112257364268,-99.773653703835336,2.959227165024533,0,35.207062776576308,0,142.37047896628269,80.982094294208537,null,null,null,null,null,null,null,null,null,null,3.2548466307909023E-2,4.8055062893117908,4.8080537966880117,{"$f":"IF(MIN(BO$48:BO$77)=$BP$47,BO48,IF(BO48=MIN(BO$48:BO$77),BP$47,IF(BO48=\"\",$CT48,BO48)))","v":4.8080537966880117},4.8080537966880117,4.8080537966880117,4.8080537966880117,4.8080537966880117,4.8080537966880117,4.8080537966880117,4.8080537966880117,4.8080537966880117,4.8080537966880117,4.8080537966880117,4.8080537966880117,4.8080537966880117,4.8080537966880117,4.8080537966880117,4.8080537966880117,4.8080537966880117,4.8080537966880117,4.8080537966880117,56,56,56,56,56,56,56,56,56,56,56,{"$f":"CEILING(MAX(BO48:BO77),1)+1","v":6}]
[null,null,null,54,1.2481065024037961E-7,2.6540449250580201E-8,2.0316059800599531E-5,8.3672952838620301E-9,7.4795779954208909E-8,2.8058227176484398E-7,5.8636822408818169E-4,1.976764598318686E-5,1.9483834197305799E-4,5.0005146336336352E-5,6.5225087717384652E-4,7.3214846225090127E-3,4.0961934089804613E-5,4.5785925708740853E-5,2.9359390086264528E-7,3.971759878906881E-2,0.69436522372053178,2.9920571817008068E-6,0.28570782715904319,0.99879515459269597,null,null,null,null,null,null,null,null,null,null,-100.4607580986376,-56.965665210961959,41.130798805392303,106.7888378687946,-52.537012424963123,-45.811607483309487,87.359563448399371,87.073521292849492,92.071789930380646,85.889609488176518,-106.539045696611,92.054919776760698,-97.214204982753898,73.871985844694009,5.8972270152911213,-144.85666743425409,0,166.8978250316147,-167.9722244600442,0,null,null,null,null,null,null,null,null,null,null,5.7890101393314693E-2,2.5802205605444608,2.584554957804662,{"$f":"IF(MIN(BO$48:BO$77)=$BP$47,BO49,IF(BO49=MIN(BO$48:BO$77),BP$47,IF(BO49=\"\",$CT49,BO49)))","v":2.584554957804662},2.584554957804662,2.584554957804662,2.584554957804662,2.584554957804662,2.584554957804662,2.584554957804662,2.584554957804662,2.584554957804662,2.584554957804662,2.584554957804662,2.584554957804662,2.584554957804662,2.584554957804662,2.584554957804662,2.584554957804662,2.584554957804662,54,54,54,54,54,54,54,54,54,54,54,54,54,{"$f":"CT48+1","v":7}]
[null,null,null,55,1.9688159999290099E-9,6.706801298845814E-7,4.4449047955481237E-8,4.0405364553810199E-7,2.2938210454471419E-8,6.704404919453216E-9,1.7667081528513811E-6,4.0467903906013207E-5,2.7869666016673908E-6,3.3736690257704222E-5,1.4533816899014361E-4,4.5236984620327571E-5,8.7241747154079685E-6,3.750180295749353E-6,0.95291169088215688,2.138759423548045E-2,1.846952828653304E-3,1.337639249169628E-4,8.8675021998642085E-6,1.130577647634148E-7,null,null,null,null,null,null,null,null,null,null,-84.289577019362071,-149.14924142949269,-81.538383372486493,-30.648628229213301,-105.69574772643981,-87.159239474972551,90.614391926153829,88.168868581877959,-97.368072651208266,-92.239046406619067,-81.408472831707215,-101.592058148858,77.137726555725095,-90.340090229888531,180,-13.34031738194777,21.39473026747909,1.837364772483403,177.33243583730481,179.61641811621601,null,null,null,null,null,null,null,null,null,null,1.7448969922433631E-2,2.6705196978759531,2.6709263326947021,{"$f":"IF(MIN(BO$48:BO$77)=$BP$47,BO50,IF(BO50=MIN(BO$48:BO$77),BP$47,IF(BO50=\"\",$CT50,BO50)))","v":2.6709263326947021},2.6709263326947021,2.6709263326947021,2.6709263326947021,2.6709263326947021,2.6709263326947021,2.6709263326947021,2.6709263326947021,2.6709263326947021,2.6709263326947021,2.6709263326947021,2.6709263326947021,2.6709263326947021,2.6709263326947021,2.6709263326947021,2.6709263326947021,2.6709263326947021,2.6709263326947021,55,55,55,55,55,55,55,55,55,55,55,55,8]
[null,null,null,51,4.4998634497077679E-9,1.1118300476455109E-9,8.4423145361909825E-7,3.5821452886450272E-10,3.1506792373869501E-9,1.1929437779624771E-8,3.0540069064445788E-5,1.0165575180748889E-6,9.7077311509644799E-6,2.7341506812735651E-6,3.8820279510788143E-5,4.3644082792457982E-4,2.1776143229804501E-6,2.6306027705269751E-6,7.3922987513209321E-8,6.8187072109552743E-3,0.119246421880527,6.8357014761393938E-8,2.6608681885615691E-2,5.4373645513793533E-4,null,null,null,null,null,null,null,null,null,null,79.093338795462728,122.50505885037239,-138.90894739637761,-74.204004110155367,126.3717448309249,132.86360677409331,-92.804270003121758,-92.985417556190413,-87.853607058454969,-94.385154476681564,73.529325051773355,-87.857331605487246,82.487739388608901,-105.43119913331959,-175.51106279699681,35.466075710232339,-179.69031424531829,-175.02923687173009,15.96336315502578,-1.096735381003062,null,null,null,null,null,null,null,null,null,null,8.6275013899638223E-2,2.3931433527375678,2.4020999195213739,{"$f":"IF(MIN(BO$48:BO$77)=$BP$47,BO51,IF(BO51=MIN(BO$48:BO$77),BP$47,IF(BO51=\"\",$CT51,BO51)))","v":2.4020999195213739},2.4020999195213739,2.4020999195213739,2.4020999195213739,2.4020999195213739,2.4020999195213739,2.4020999195213739,2.4020999195213739,2.4020999195213739,2.4020999195213739,2.4020999195213739,2.4020999195213739,2.4020999195213739,2.4020999195213739,51,51,51,51,51,51,51,51,51,51,51,51,51,51,51,51,9]
[null,null,null,53,8.6965784435580341E-11,1.3212593338575561E-7,5.4965697516457442E-9,8.8277294866039835E-8,7.8541331991723488E-10,7.5563695808784245E-10,1.76186545149001E-6,7.5476867282752458E-6,1.206927437258803E-6,3.2126700730303559E-5,2.20975550711879E-4,7.127026852925737E-5,1.309744468658107E-5,4.2567264111952061E-7,2.8180452647804261E-4,9.9075619243811988E-2,8.323321817064697E-3,5.3968837336777515E-4,2.0604393271109661E-4,8.5866754807130077E-8,null,null,null,null,null,null,null,null,null,null,-90.184368482239449,27.236736630407162,116.8385292435064,142.96377849105309,-32.58546841360964,-126.10061342206819,87.39564953573813,-95.218227987736171,-93.551355820004403,-95.220832459984692,-86.784807619256625,-106.771797947452,-91.968218834737499,-99.833365581672737,3.346356860311015,7.4735051827328147E-2,35.265618670788847,178.79071320776339,-176.84767998840371,-3.1569742712917872,null,null,null,null,null,null,null,null,null,null,0.13081364036635679,2.4253159803492119,2.4463374171871961,{"$f":"IF(MIN(BO$48:BO$77)=$BP$47,BO52,IF(BO52=MIN(BO$48:BO$77),BP$47,IF(BO52=\"\",$CT52,BO52)))","v":2.4463374171871961},2.4463374171871961,2.4463374171871961,2.4463374171871961,2.4463374171871961,2.4463374171871961,2.4463374171871961,2.4463374171871961,2.4463374171871961,2.4463374171871961,2.4463374171871961,2.4463374171871961,2.4463374171871961,2.4463374171871961,2.4463374171871961,2.4463374171871961,53,53,53,53,53,53,53,53,53,53,53,53,53,53,10]
[null,null,null,52,1.179589835630487E-8,6.5933816703936716E-11,1.4189116473639669E-8,1.079761219312566E-10,5.0320296209361659E-11,4.6923284272917188E-9,8.8490437913269416E-7,2.155227080335119E-7,9.3871696227069958E-7,1.3378048360480681E-7,9.2008225568291268E-7,1.0036097432135831E-5,1.5385360855316911E-7,3.9080308935346826E-6,1.0900894960531319E-8,2.8320922454395112E-4,5.125422034647025E-3,8.5928661329715695E-7,0.93008558315265166,2.345092928175881E-5,null,null,null,null,null,null,null,null,null,null,77.720464645752656,72.037294845925629,30.34102894052613,-111.539102550042,104.4615365252964,-89.354483644573008,-92.885243915021377,87.36608096140408,-88.036423652960465,-95.499252220017581,74.832985089370069,-86.826530007784825,-92.704907372836814,89.510148558149297,12.235440674729579,-133.30719768322771,9.8834355643406901,-29.47049991546853,0,-44.857270699036981,null,null,null,null,null,null,null,null,null,null,0.1218308352554997,2.3892774277883961,2.407209018826959,{"$f":"IF(MIN(BO$48:BO$77)=$BP$47,BO53,IF(BO53=MIN(BO$48:BO$77),BP$47,IF(BO53=\"\",$CT53,BO53)))","v":2.407209018826959},2.407209018826959,2.407209018826959,2.407209018826959,2.407209018826959,2.407209018826959,2.407209018826959,2.407209018826959,2.407209018826959,2.407209018826959,2.407209018826959,2.407209018826959,2.407209018826959,2.407209018826959,2.407209018826959,52,52,52,52,52,52,52,52,52,52,52,52,52,52,52,11]
[null,null,null,50,1.8621886305195101E-7,1.118907089685798E-5,1.725725439109181E-6,1.016814494206078E-5,3.8991885729461446E-6,6.7207658060664214E-8,7.8019819111691804E-4,2.7455006090504682E-3,2.7582428825943708E-4,1.183961993152465E-2,6.1482636567890388E-2,1.9631130170058641E-2,2.1756373585910599E-3,3.7283142949365847E-5,6.6499483769516077E-4,0.47054018765362171,3.9562582639795223E-2,8.3007238614225744E-4,4.9532430848415196E-4,2.3280644942050359E-7,null,null,null,null,null,null,null,null,null,null,-96.934335358348321,-165.97516133159399,42.806000468592849,-52.168447740674793,84.399994765045264,19.716694647124761,-92.245051430650705,85.570947830110583,84.156445739543116,85.498748362656968,93.174229103612817,73.075714945297108,89.294186399353606,78.853454568490903,171.2314797198118,1.421018714199527,36.579897593301062,175.6529561013148,-172.97767793829959,-1.7154843842786409,null,null,null,null,null,null,null,null,null,null,2.8253730841442871E-2,0.68563900700736224,0.68591283461880825,{"$f":"IF(MIN(BO$48:BO$77)=$BP$47,BO54,IF(BO54=MIN(BO$48:BO$77),BP$47,IF(BO54=\"\",$CT54,BO54)))","v":0.68591283461880825},0.68591283461880825,0.68591283461880825,0.68591283461880825,0.68591283461880825,0.68591283461880825,0.68591283461880825,0.68591283461880825,0.68591283461880825,0.68591283461880825,0.68591283461880825,0.68591283461880825,0.68591283461880825,50,50,50,50,50,50,50,50,50,50,50,50,50,50,50,50,50,12]
[null,null,null,49,6.0993356296997057E-5,3.5356283553101301E-7,8.0071753077993668E-5,3.0258209982750772E-7,2.8154669684404399E-7,7.4365397178124984E-6,1.0714938538018611E-2,2.7724632366725531E-4,1.5866603326476459E-3,1.0054395198115999E-3,1.0976275723869959E-2,0.1223223420199092,5.6703215926345613E-4,1.113660837056262E-3,5.6634274845278151E-7,3.2431877609627353E-2,0.5675807053133457,1.3078223451775089E-7,0.13688729623664181,8.2796236916618028E-4,null,null,null,null,null,null,null,null,null,null,79.952228263030861,-84.090563042891688,36.567590154803511,89.675652466454395,-79.913558725666107,-74.928867371858829,87.481016246751025,88.189322041147847,95.063941915604275,85.750034377753323,-106.5198666096519,91.98748067515352,-98.176106486473998,80.007842520000651,-175.09358601015271,36.59724948067938,-178.5898170843752,-167.0225071813374,22.447837194741862,-3.8360721395405202,null,null,null,null,null,null,null,null,null,null,2.9721058031695891E-2,0.65325811073093676,0.65354682695253197,{"$f":"IF(MIN(BO$48:BO$77)=$BP$47,BO55,IF(BO55=MIN(BO$48:BO$77),BP$47,IF(BO55=\"\",$CT55,BO55)))","v":0.65354682695253197},0.65354682695253197,0.65354682695253197,0.65354682695253197,0.65354682695253197,0.65354682695253197,0.65354682695253197,0.65354682695253197,0.65354682695253197,0.65354682695253197,0.65354682695253197,0.65354682695253197,49,49,49,49,49,49,49,49,49,49,49,49,49,49,49,49,49,49,13]
[null,null,null,48,3.316333886235744E-8,2.3011919960950379E-5,1.0274726279353781E-6,1.4003391840742139E-5,1.528137375922551E-7,1.2184458088735701E-7,9.9026434976469303E-6,4.8337654633643641E-5,1.2762558911930461E-5,9.7445114470157853E-5,2.4889862710782119E-4,8.1831477110856895E-5,1.0489436123532499E-4,4.358353925300762E-6,5.3344517446850033E-5,9.5372452428604088E-4,8.0202126036011802E-5,2.2757463481643939E-6,1.561418805988578E-6,6.57028166687969E-10,null,null,null,null,null,null,null,null,null,null,88.965522546629558,-149.3281027152982,-65.947616067864402,-31.120425212921671,-148.01716134782041,62.61373314600749,-85.535283160677565,90.303045617450124,92.337423889755058,93.1066373458155,-87.270743265012385,-106.92401972331351,91.476491065130361,83.763403987109243,0.67349950246765411,-1.297757006726334,33.858726259194597,174.3696388527714,177.64113549217481,-1.7641210151770259,null,null,null,null,null,null,null,null,null,null,2.936729419594843E-2,0.64774499021065357,0.64802449094938597,{"$f":"IF(MIN(BO$48:BO$77)=$BP$47,BO56,IF(BO56=MIN(BO$48:BO$77),BP$47,IF(BO56=\"\",$CT56,BO56)))","v":0.64802449094938597},0.64802449094938597,0.64802449094938597,0.64802449094938597,0.64802449094938597,0.64802449094938597,0.64802449094938597,0.64802449094938597,0.64802449094938597,0.64802449094938597,0.64802449094938597,48,48,48,48,48,48,48,48,48,48,48,48,48,48,48,48,48,48,48,14]
[null,null,null,47,3.578017055739641E-6,1.8616072172413891E-7,1.5226436313203019E-4,4.8457616094331352E-8,5.1778999121713928E-7,1.7452434139369801E-6,2.6327187561526479E-4,9.5512925791850469E-6,1.2286123711947541E-4,8.4129163263642298E-6,4.9412267657956597E-5,5.6941703968818385E-4,1.080900993860497E-5,2.625779128643416E-6,2.2830261460290009E-9,6.3324216521299214E-5,1.1085381731350491E-3,4.4789429217566608E-10,2.5652939013851023E-4,2.2655348796155089E-6,null,null,null,null,null,null,null,null,null,null,-99.710352572707066,-52.488265313999428,41.606414426442448,115.58289031717,-44.52947637891095,-34.416029117062813,92.208685565570917,90.851206194733663,94.561465486667913,96.251666571496273,72.865745431842058,-88.193004209618607,-89.539655032499212,-55.756944447661091,178.41116541328631,35.985008738673578,-179.20856431081069,-173.67029876849321,21.09970374636055,-3.9993173652990128,null,null,null,null,null,null,null,null,null,null,2.802875593348526E-2,0.59094229251497199,0.59117455480453496,{"$f":"IF(MIN(BO$48:BO$77)=$BP$47,BO57,IF(BO57=MIN(BO$48:BO$77),BP$47,IF(BO57=\"\",$CT57,BO57)))","v":0.59117455480453496},0.59117455480453496,0.59117455480453496,0.59117455480453496,0.59117455480453496,0.59117455480453496,0.59117455480453496,0.59117455480453496,0.59117455480453496,0.59117455480453496,47,47,47,47,47,47,47,47,47,47,47,47,47,47,47,47,47,47,47,47,15]
[null,null,null,44,1.020082644435004E-5,1.681618678149181E-8,3.4641029896843858E-6,2.3370248773749949E-8,1.2219591679224869E-8,1.0145254991827749E-6,1.6309365224517861E-5,3.4152857697055112E-6,1.4937767509895429E-5,1.7975104455673969E-6,6.6568582814848954E-6,7.1747159124298742E-5,1.753138656264574E-6,4.4149341293556303E-5,4.1750568856993078E-10,1.9628325443327492E-5,3.4318364923987182E-4,7.9040879904909511E-11,1.045847455305819E-4,4.9982185375179673E-7,null,null,null,null,null,null,null,null,null,null,-100.08231487004581,-101.4971323541627,-149.62628056090071,77.476795296430865,-59.586170639894057,103.6276579854801,89.651436039010292,-89.958462771727525,94.603444016560275,86.983193578156872,-105.175596858771,93.012958348861659,89.968000377761811,-88.010592712978465,-0.55269859718569903,36.754306965175132,-178.46002807440939,-148.62319968563801,24.066676233062498,-3.781039080115093,null,null,null,null,null,null,null,null,null,null,8.7650625423455163E-3,0.42846758221976478,0.42848404196226142,{"$f":"IF(MIN(BO$48:BO$77)=$BP$47,BO58,IF(BO58=MIN(BO$48:BO$77),BP$47,IF(BO58=\"\",$CT58,BO58)))","v":0.42848404196226142},0.42848404196226142,0.42848404196226142,0.42848404196226142,0.42848404196226142,0.42848404196226142,0.42848404196226142,44,44,44,44,44,44,44,44,44,44,44,44,44,44,44,44,44,44,44,44,44,44,44,16]
[null,null,null,43,9.8078246809070433E-5,8.1156317148641205E-4,5.0032462944687361E-3,9.387326014184688E-4,4.4512144249054537E-2,2.7957350872555168E-4,1.762030652690065E-2,1.286189222308754E-2,7.636126904809205E-3,0.13983164267102091,0.13470186314460031,0.1028596872700762,0.17296081256508269,9.2798763120380563E-3,5.1568826704884007E-3,0.57415548581815556,3.6722943658751533E-2,1.000851124542355E-3,1.5062264585685809E-3,3.4655154077442449E-6,null,null,null,null,null,null,null,null,null,null,97.467961495570066,-95.456820940313705,-75.666391284654026,70.022475272046492,-97.50794074837286,-34.101171244532928,-92.346582926542652,-82.411500654329572,-90.490629774708722,-90.861408175363152,89.768547182656121,79.895622402875134,86.253797297924137,82.954094908331186,1.64722342464688,0.79947267424992841,48.560621062398774,175.29424827349411,-9.1260939106513153,0.38916082337891311,null,null,null,null,null,null,null,null,null,null,7.2612785642069766E-3,0.42543615044755512,0.42544736669972733,{"$f":"IF(MIN(BO$48:BO$77)=$BP$47,BO59,IF(BO59=MIN(BO$48:BO$77),BP$47,IF(BO59=\"\",$CT59,BO59)))","v":0.42544736669972733},0.42544736669972733,0.42544736669972733,0.42544736669972733,0.42544736669972733,0.42544736669972733,43,43,43,43,43,43,43,43,43,43,43,43,43,43,43,43,43,43,43,43,43,43,43,43,17]
[null,null,null,46,2.6538715485514001E-4,4.2426424105778023E-2,2.8845551585920861E-3,4.517801178855109E-2,1.4129624214768289E-3,1.6204087593445441E-3,1.6588444421779501E-2,1.5819410895055289E-2,1.9028920022202741E-2,0.2135188890771883,0.30701651783004202,0.1216197077497749,0.2115832701226748,1.34251900579485E-2,1.355780249742723E-3,0.14210096420193949,2.328341374571307E-2,4.942575344725578E-5,9.1051159629083837E-3,4.4841387872874518E-5,null,null,null,null,null,null,null,null,null,null,-90.221909386065803,-94.377596910484996,-60.542760566395003,84.387541576905761,64.406577954847577,-117.9103028468258,-89.699055113427775,-100.7168843774176,88.047092944561811,-91.606139767041128,89.497792478556008,72.912872400922041,-91.688806994876643,-94.489083211463765,178.33970765277519,3.6770800846896958,163.3424914807301,-178.2951878688757,31.732488848778861,-3.871321870344385,null,null,null,null,null,null,null,null,null,null,2.947097471111039E-2,0.55751204586933467,0.55775431399145847,{"$f":"IF(MIN(BO$48:BO$77)=$BP$47,BO60,IF(BO60=MIN(BO$48:BO$77),BP$47,IF(BO60=\"\",$CT60,BO60)))","v":0.55775431399145847},0.55775431399145847,0.55775431399145847,0.55775431399145847,0.55775431399145847,0.55775431399145847,0.55775431399145847,0.55775431399145847,0.55775431399145847,46,46,46,46,46,46,46,46,46,46,46,46,46,46,46,46,46,46,46,46,46,18]
[null,null,null,45,2.374324426199886E-2,1.326714360731702E-3,4.0616141405284731E-2,1.752193761391624E-3,6.4324156043709096E-4,4.5115586266202323E-2,1.382835997008869E-2,2.3693275289283569E-2,1.0242653391234971E-2,4.7497722869000201E-4,1.5001186996461561E-2,9.2876224590910911E-2,2.0428058202141809E-2,0.2769667346627831,1.2490785377441561E-3,2.4453603779675381E-3,5.3527458919022629E-2,4.6771226251966513E-6,0.13406057960969181,5.4447568385700033E-5,null,null,null,null,null,null,null,null,null,null,88.134780815663689,-96.080207020419067,87.478857023944755,73.347350554320244,-25.812325985068341,82.903356992124557,-93.953346651127887,89.854230524503791,-104.937951469271,-46.031362771544899,-100.06440005712,92.635698886577146,83.255132645880238,-91.632781937436846,0.21836659256291319,134.85111779593649,-172.40696317513181,-1.3075774012646659,26.867593722882251,0.50422461268265906,null,null,null,null,null,null,null,null,null,null,2.8493563791868869E-2,0.5500223517338545,0.5502457647293294,{"$f":"IF(MIN(BO$48:BO$77)=$BP$47,BO61,IF(BO61=MIN(BO$48:BO$77),BP$47,IF(BO61=\"\",$CT61,BO61)))","v":0.5502457647293294},0.5502457647293294,0.5502457647293294,0.5502457647293294,0.5502457647293294,0.5502457647293294,0.5502457647293294,0.5502457647293294,45,45,45,45,45,45,45,45,45,45,45,45,45,45,45,45,45,45,45,45,45,45,19]
[null,null,null,42,5.3205506595337257E-4,6.5795934777422342E-6,5.7075525740147258E-3,1.9072289700126771E-6,1.81033261674404E-5,4.6508767065900553E-5,0.1702308754109785,4.2730727592814434E-3,8.3200361167469691E-2,6.3187340389616537E-3,3.087789338308073E-2,0.24038711432933779,7.5553792658935174E-3,9.7073763236599046E-3,3.3860930561578921E-4,3.4347402118695337E-2,7.7534990789770636E-2,6.5703002106922537E-5,1.062090044478989E-2,1.6100066511435819E-5,null,null,null,null,null,null,null,null,null,null,80.426058959680262,152.2235157312563,-137.24941593492611,-16.530926386745939,-163.21543104986611,-174.18995693641551,88.380965013144788,84.616086462036549,91.156949500703632,-92.704598642289227,76.455741285873287,-90.416044271722356,86.384231500333712,-83.781674194068046,1.7236433807594711,-3.5396741405766798,4.1784211524648844,175.30117558527391,174.99566096005429,-179.5426151726561,null,null,null,null,null,null,null,null,null,null,5.6311580330845809E-3,5.0576234644988637E-2,5.0577036548763013E-2,{"$f":"IF(MIN(BO$48:BO$77)=$BP$47,BO62,IF(BO62=MIN(BO$48:BO$77),BP$47,IF(BO62=\"\",$CT62,BO62)))","v":5.0577036548763013E-2},5.0577036548763013E-2,5.0577036548763013E-2,5.0577036548763013E-2,5.0577036548763013E-2,42,42,42,42,42,42,42,42,42,42,42,42,42,42,42,42,42,42,42,42,42,42,42,42,42,20]
[null,null,null,40,2.4388435625013219E-4,1.1622363215197539E-4,3.7119982558239781E-4,5.7942135057848723E-5,1.766200376417319E-6,2.7422267055277051E-5,0.14473695332320671,1.365129893904005E-2,0.2214686695532439,2.1008791786596842E-3,2.996774773030433E-2,0.1221306743035958,3.6894171981825081E-3,3.1531654727356561E-3,1.060224097755042E-4,1.2736687397050519E-2,0.34034603126295759,3.160775407276456E-6,9.1177960514887829E-2,4.8828247457998646E-4,null,null,null,null,null,null,null,null,null,null,-99.693590809363982,-141.0108516893612,-138.5731640920196,-11.28118376609117,-130.45393905430981,109.49474437623149,91.203364827447331,-97.658535409403328,-91.682863966578594,-64.119701788284274,83.170050189266803,-89.789135502470302,-80.645756642651861,-146.86870573944381,178.32515250705401,-122.4389331288216,1.308888610318764,-173.37313656913091,-151.78721569047849,176.1220423184123,null,null,null,null,null,null,null,null,null,null,2.4192496908243159E-2,3.6129660505717573E-2,3.6140238077019902E-2,{"$f":"IF(MIN(BO$48:BO$77)=$BP$47,BO63,IF(BO63=MIN(BO$48:BO$77),BP$47,IF(BO63=\"\",$CT63,BO63)))","v":3.6140238077019902E-2},3.6140238077019902E-2,3.6140238077019902E-2,40,40,40,40,40,40,40,40,40,40,40,40,40,40,40,40,40,40,40,40,40,40,40,40,40,40,40,21]
[null,null,null,41,2.2957947126229131E-4,1.917682893812135E-4,1.534126038518806E-4,1.155523315682513E-4,4.7248727819755487E-6,9.6702896484248049E-6,1.151534801736913E-3,0.23371388989726449,1.5715245076864049E-2,3.710013775211557E-2,3.1715857530431213E-2,1.532592074440476E-2,4.044185793541006E-3,8.8633704040905533E-3,1.401516016263068E-2,4.2224155404559129E-2,2.2604521254754352E-3,5.2384708666796569E-5,8.0660555549910765E-3,3.1782158262393731E-6,null,null,null,null,null,null,null,null,null,null,80.626266097419901,-148.0138859274949,37.821618042581903,-29.355740410320529,-106.43202794823701,-22.998580068835391,-82.761234154265821,-91.703141993271686,84.738221200244425,84.477368527919083,91.047902635319701,78.735602440691579,162.85693912550801,-91.719921519039303,-179.77852203588759,11.38963507076908,107.0025964729663,-175.26094222048209,21.88316660589977,0.1629113587721415,null,null,null,null,null,null,null,null,null,null,2.3529955892325032E-2,3.6163852110886803E-2,3.6173867487825938E-2,{"$f":"IF(MIN(BO$48:BO$77)=$BP$47,BO64,IF(BO64=MIN(BO$48:BO$77),BP$47,IF(BO64=\"\",$CT64,BO64)))","v":3.6173867487825938E-2},3.6173867487825938E-2,3.6173867487825938E-2,3.6173867487825938E-2,41,41,41,41,41,41,41,41,41,41,41,41,41,41,41,41,41,41,41,41,41,41,41,41,41,41,22]
[null,null,null,37,1.78953867842063E-4,8.4408217945023659E-4,5.7394364772651307E-3,9.9008260965866598E-4,4.7204331081614558E-2,2.9156214069642449E-4,1.0112223425695181E-2,3.5283840085878568E-3,3.9393918561855066E-3,1.6966504774746219E-2,1.8618791770150241E-2,1.375751807137009E-2,6.1671959711108067E-3,1.474201126617312E-4,1.611360391082657E-3,0.1791226723805428,1.3460202975802591E-2,3.1353528330532721E-4,9.8482196051616995E-5,5.0740811263358466E-7,null,null,null,null,null,null,null,null,null,null,-89.786467874860136,85.291685287324157,97.1148814508295,-109.5666463692686,82.483388001878211,145.01662960171629,87.460879508068246,-91.540963050369228,91.316643969563003,-93.541915928038819,-87.398854767553729,-98.667532574695613,85.566213048859225,-41.201037545030317,-178.39532432108709,-179.23420762156681,-139.57980160154611,-4.7049026953813406,154.5593643890839,-179.74238402016809,null,null,null,null,null,null,null,null,null,null,2.8642612688285701E-2,7.7436338389357314E-3,7.7468122304738662E-3,{"$f":"IF(MIN(BO$48:BO$77)=$BP$47,BO65,IF(BO65=MIN(BO$48:BO$77),BP$47,IF(BO65=\"\",$CT65,BO65)))","v":37},37,37,37,37,37,37,37,37,37,37,37,37,37,37,37,37,37,37,37,37,37,37,37,37,37,37,37,37,37,23]
[null,null,null,39,3.2070727715899057E-4,4.4412318885776743E-2,3.0224320350400349E-3,4.8179723831727958E-2,1.519019424773835E-3,1.721574340721453E-3,1.1706210950190751E-2,5.4087052269502786E-3,1.1184575035489299E-2,2.421081158973816E-2,3.8608893050390121E-2,7.7315770324061566E-3,7.9192084866447025E-3,4.2861795975552479E-4,4.6021998672591928E-4,3.7363971116583461E-2,3.6163390567949927E-2,1.1769825000975499E-5,8.3512418797754596E-3,4.86152531989813E-5,null,null,null,null,null,null,null,null,null,null,88.654275651821905,86.681286103810493,118.5963606206578,-94.949347149573384,-115.5442829894812,61.988899174455412,88.920736216033987,-98.04003870856819,-92.788545804765207,-94.306805047546518,-88.082792647914403,-119.5868032091947,-91.761788992271789,-110.34717721539261,-1.46285177387995,-178.1515274398146,-175.65534341653361,3.3279849412412381,21.9989658406333,-3.903569413690632,null,null,null,null,null,null,null,null,null,null,0.25115401411484561,1.1563564867318051E-2,1.194648387096096E-2,{"$f":"IF(MIN(BO$48:BO$77)=$BP$47,BO66,IF(BO66=MIN(BO$48:BO$77),BP$47,IF(BO66=\"\",$CT66,BO66)))","v":1.194648387096096E-2},1.194648387096096E-2,39,39,39,39,39,39,39,39,39,39,39,39,39,39,39,39,39,39,39,39,39,39,39,39,39,39,39,39,24]
[null,null,null,38,2.3025424223321E-2,1.428512488786028E-3,4.2193474939609163E-2,1.860333991490577E-3,6.8251315897034366E-4,4.8074144997581718E-2,5.3281842398359754E-3,1.144904865953481E-2,1.3340194739815639E-3,7.4501218171133064E-4,5.6675049529036827E-4,1.3249051080205109E-2,6.8466043945516976E-4,6.4575661271016639E-3,1.4162980274165821E-3,4.7454649631217208E-3,1.6642238356537119E-2,5.2798575100989032E-6,3.9483336997534681E-2,1.7860431718701659E-5,null,null,null,null,null,null,null,null,null,null,-91.12426295540881,82.977180913940714,-90.999803072215727,-107.1648628210714,154.0521212076203,-96.997777081505632,-93.177621442232621,-92.650078150856402,-90.454212281099629,79.325535845840463,47.646369914598239,-86.848974214864668,100.7783815003619,-93.918952485263915,0.14113800462956269,-157.67468101831599,6.1209090669117963,9.1421141068636818,-153.22034409728241,-179.96994685012189,null,null,null,null,null,null,null,null,null,null,2.2146138569577339E-2,7.8158451148469619E-3,7.8177624664503269E-3,{"$f":"IF(MIN(BO$48:BO$77)=$BP$47,BO67,IF(BO67=MIN(BO$48:BO$77),BP$47,IF(BO67=\"\",$CT67,BO67)))","v":7.8177624664503269E-3},38,38,38,38,38,38,38,38,38,38,38,38,38,38,38,38,38,38,38,38,38,38,38,38,38,38,38,38,38,25]
[null,null,null,57,null,null,null,null,null,null,null,null,null,null,null,null,null,null,null,null,null,null,null,null,null,null,null,null,null,null,null,null,null,null,null,null,null,null,null,null,null,null,null,null,null,null,null,null,null,null,null,null,null,null,null,null,null,null,null,null,null,null,null,null,null,null,null,{"$f":"IF(MIN(BO$48:BO$77)=$BP$47,BO68,IF(BO68=MIN(BO$48:BO$77),BP$47,IF(BO68=\"\",$CT68,BO68)))","v":26},26,26,26,26,26,26,26,26,26,26,26,26,26,26,26,26,26,26,26,57,57,57,57,57,57,57,57,57,57,26]
[null,null,null,58,null,null,null,null,null,null,null,null,null,null,null,null,null,null,null,null,null,null,null,null,null,null,null,null,null,null,null,null,null,null,null,null,null,null,null,null,null,null,null,null,null,null,null,null,null,null,null,null,null,null,null,null,null,null,null,null,null,null,null,null,null,null,null,{"$f":"IF(MIN(BO$48:BO$77)=$BP$47,BO69,IF(BO69=MIN(BO$48:BO$77),BP$47,IF(BO69=\"\",$CT69,BO69)))","v":27},27,27,27,27,27,27,27,27,27,27,27,27,27,27,27,27,27,27,27,27,58,58,58,58,58,58,58,58,58,27]
[null,null,null,59,null,null,null,null,null,null,null,null,null,null,null,null,null,null,null,null,null,null,null,null,null,null,null,null,null,null,null,null,null,null,null,null,null,null,null,null,null,null,null,null,null,null,null,null,null,null,null,null,null,null,null,null,null,null,null,null,null,null,null,null,null,null,null,{"$f":"IF(MIN(BO$48:BO$77)=$BP$47,BO70,IF(BO70=MIN(BO$48:BO$77),BP$47,IF(BO70=\"\",$CT70,BO70)))","v":28},28,28,28,28,28,28,28,28,28,28,28,28,28,28,28,28,28,28,28,28,28,59,59,59,59,59,59,59,59,28]
[null,null,null,60,null,null,null,null,null,null,null,null,null,null,null,null,null,null,null,null,null,null,null,null,null,null,null,null,null,null,null,null,null,null,null,null,null,null,null,null,null,null,null,null,null,null,null,null,null,null,null,null,null,null,null,null,null,null,null,null,null,null,null,null,null,null,null,{"$f":"IF(MIN(BO$48:BO$77)=$BP$47,BO71,IF(BO71=MIN(BO$48:BO$77),BP$47,IF(BO71=\"\",$CT71,BO71)))","v":29},29,29,29,29,29,29,29,29,29,29,29,29,29,29,29,29,29,29,29,29,29,29,60,60,60,60,60,60,60,29]
[null,null,null,61,null,null,null,null,null,null,null,null,null,null,null,null,null,null,null,null,null,null,null,null,null,null,null,null,null,null,null,null,null,null,null,null,null,null,null,null,null,null,null,null,null,null,null,null,null,null,null,null,null,null,null,null,null,null,null,null,null,null,null,null,null,null,null,{"$f":"IF(MIN(BO$48:BO$77)=$BP$47,BO72,IF(BO72=MIN(BO$48:BO$77),BP$47,IF(BO72=\"\",$CT72,BO72)))","v":30},30,30,30,30,30,30,30,30,30,30,30,30,30,30,30,30,30,30,30,30,30,30,30,61,61,61,61,61,61,30]
[null,null,null,62,null,null,null,null,null,null,null,null,null,null,null,null,null,null,null,null,null,null,null,null,null,null,null,null,null,null,null,null,null,null,null,null,null,null,null,null,null,null,null,null,null,null,null,null,null,null,null,null,null,null,null,null,null,null,null,null,null,null,null,null,null,null,null,{"$f":"IF(MIN(BO$48:BO$77)=$BP$47,BO73,IF(BO73=MIN(BO$48:BO$77),BP$47,IF(BO73=\"\",$CT73,BO73)))","v":31},31,31,31,31,31,31,31,31,31,31,31,31,31,31,31,31,31,31,31,31,31,31,31,31,62,62,62,62,62,31]
[null,null,null,63,null,null,null,null,null,null,null,null,null,null,null,null,null,null,null,null,null,null,null,null,null,null,null,null,null,null,null,null,null,null,null,null,null,null,null,null,null,null,null,null,null,null,null,null,null,null,null,null,null,null,null,null,null,null,null,null,null,null,null,null,null,null,null,{"$f":"IF(MIN(BO$48:BO$77)=$BP$47,BO74,IF(BO74=MIN(BO$48:BO$77),BP$47,IF(BO74=\"\",$CT74,BO74)))","v":32},32,32,32,32,32,32,32,32,32,32,32,32,32,32,32,32,32,32,32,32,32,32,32,32,32,63,63,63,63,32]
[null,null,null,64,null,null,null,null,null,null,null,null,null,null,null,null,null,null,null,null,null,null,null,null,null,null,null,null,null,null,null,null,null,null,null,null,null,null,null,null,null,null,null,null,null,null,null,null,null,null,null,null,null,null,null,null,null,null,null,null,null,null,null,null,null,null,null,{"$f":"IF(MIN(BO$48:BO$77)=$BP$47,BO75,IF(BO75=MIN(BO$48:BO$77),BP$47,IF(BO75=\"\",$CT75,BO75)))","v":33},33,33,33,33,33,33,33,33,33,33,33,33,33,33,33,33,33,33,33,33,33,33,33,33,33,33,64,64,64,33]
[null,null,null,65,null,null,null,null,null,null,null,null,null,null,null,null,null,null,null,null,null,null,null,null,null,null,null,null,null,null,null,null,null,null,null,null,null,null,null,null,null,null,null,null,null,null,null,null,null,null,null,null,null,null,null,null,null,null,null,null,null,null,null,null,null,null,null,{"$f":"IF(MIN(BO$48:BO$77)=$BP$47,BO76,IF(BO76=MIN(BO$48:BO$77),BP$47,IF(BO76=\"\",$CT76,BO76)))","v":34},34,34,34,34,34,34,34,34,34,34,34,34,34,34,34,34,34,34,34,34,34,34,34,34,34,34,34,65,65,34]
[null,null,null,66,null,null,null,null,null,null,null,null,null,null,null,null,null,null,null,null,null,null,null,null,null,null,null,null,null,null,null,null,null,null,null,null,null,null,null,null,null,null,null,null,null,null,null,null,null,null,null,null,null,null,null,null,null,null,null,null,null,null,null,null,null,null,null,{"$f":"IF(MIN(BO$48:BO$77)=$BP$47,BO77,IF(BO77=MIN(BO$48:BO$77),BP$47,IF(BO77=\"\",$CT77,BO77)))","v":35},35,35,35,35,35,35,35,35,35,35,35,35,35,35,35,35,35,35,35,35,35,35,35,35,35,35,35,35,66,35]

{"sheet":"2 RPM","index":2,"n_rows":77,"n_cols":98,"rows_kept":77,"cut":false,"hidden":false,"merged":[[8,56,8,57],[8,58,8,59],[8,60,8,61],[8,62,8,63],[8,44,8,45],[8,46,8,47],[8,48,8,49],[8,50,8,51],[8,52,8,53],[8,54,8,55],[8,32,8,33],[8,34,8,35],[8,36,8,37],[8,38,8,39],[8,40,8,41],[8,42,8,43],[8,20,8,21],[8,22,8,23],[8,24,8,25],[8,26,8,27],[8,28,8,29],[8,30,8,31],[7,62,7,63],[8,2,8,3],[8,4,8,5],[8,6,8,7],[8,8,8,9],[8,10,8,11],[8,12,8,13],[8,14,8,15],[8,16,8,17],[8,18,8,19],[7,50,7,51],[7,52,7,53],[7,54,7,55],[7,56,7,57],[7,58,7,59],[7,60,7,61],[7,38,7,39],[7,40,7,41],[7,42,7,43],[7,44,7,45],[7,46,7,47],[7,48,7,49],[7,26,7,27],[7,28,7,29],[7,30,7,31],[7,32,7,33],[7,34,7,35],[7,36,7,37],[7,14,7,15],[7,16,7,17],[7,18,7,19],[7,20,7,21],[7,22,7,23],[7,24,7,25],[6,56,6,57],[6,58,6,59],[6,60,6,61],[6,62,6,63],[7,2,7,3],[7,4,7,5],[7,6,7,7],[7,8,7,9],[7,10,7,11],[7,12,7,13],[6,44,6,45],[6,46,6,47],[6,48,6,49],[6,50,6,51],[6,52,6,53],[6,54,6,55],[6,32,6,33],[6,34,6,35],[6,36,6,37],[6,38,6,39],[6,40,6,41],[6,42,6,43],[6,20,6,21],[6,22,6,23],[6,24,6,25],[6,26,6,27],[6,28,6,29],[6,30,6,31],[5,62,5,63],[6,2,6,3],[6,4,6,5],[6,6,6,7],[6,8,6,9],[6,10,6,11],[6,12,6,13],[6,14,6,15],[6,16,6,17],[6,18,6,19],[5,50,5,51],[5,52,5,53],[5,54,5,55],[5,56,5,57],[5,58,5,59],[5,60,5,61],[5,38,5,39],[5,40,5,41],[5,42,5,43],[5,44,5,45],[5,2,5,3],[5,4,5,5],[5,6,5,7],[5,8,5,9],[5,10,5,11],[5,12,5,13],[5,46,5,47],[5,48,5,49],[5,26,5,27],[5,28,5,29],[5,30,5,31],[5,32,5,33],[5,34,5,35],[5,36,5,37],[5,14,5,15],[5,16,5,17],[5,18,5,19],[5,20,5,21],[5,22,5,23],[5,24,5,25]]}
["This worksheet is used to sort the mode shapes and frequencies and to help you determine which modes are which for up to 30 modes (up to 30 DOFs)."]
["To use this spreadsheet, paste the appropriate data output from MBC3 into the six gray cells marked with comments (DescStates, MBC_ModeShapeMagnitude, MBC_ModeShapePhaseDeg_MBC_DampingRatio, MBC_DampedFrequencyHz, MBC_NaturalFrequencyHz).  The Scaling should be calculated according to the comment, but is not output by MBC3.  Do not change any other cell!"]
["NOTE: This spreadsheet doesn't work if any natural (undamped) frequency is 0.0 or if any natural (undamped) frequency is in duplicate--to avoid the resulting error, in the cells where the frequencies are pasted-in, change the error-causing frequency (or frequencies) by a very small amount!"]
[null,null,null,"BladeLength",117,"TowerHt",144.495]
[null,null,"Mode Shapes and Frequencies"]
[null,null,"Mode Number",null,1,null,{"$f":"E6+1","v":2},null,{"$f":"G6+1","v":3},null,{"$f":"I6+1","v":4},null,{"$f":"K6+1","v":5},null,{"$f":"M6+1","v":6},null,{"$f":"O6+1","v":7},null,{"$f":"Q6+1","v":8},null,{"$f":"S6+1","v":9},null,{"$f":"U6+1","v":10},null,{"$f":"W6+1","v":11},null,{"$f":"Y6+1","v":12},null,{"$f":"AA6+1","v":13},null,{"$f":"AC6+1","v":14},null,{"$f":"AE6+1","v":15},null,{"$f":"AG6+1","v":16},null,{"$f":"AI6+1","v":17},null,{"$f":"AK6+1","v":18},null,{"$f":"AM6+1","v":19},null,{"$f":"AO6+1","v":20},null,{"$f":"AQ6+1","v":21},null,{"$f":"AS6+1","v":22},null,{"$f":"AU6+1","v":23},null,{"$f":"AW6+1","v":24},null,{"$f":"AY6+1","v":25},null,{"$f":"BA6+1","v":26},null,{"$f":"BC6+1","v":27},null,{"$f":"BE6+1","v":28},null,{"$f":"BG6+1","v":29},null,{"$f":"BI6+1","v":30}]
[null,null,"Natural (Undamped) Frequencies (Hz)",null,{"$f":"IF(VLOOKUP(E$6+$BO$47,$D$48:$BO$77,64,FALSE)=\"\",\"\",VLOOKUP(E$6+$BO$47,$D$48:$BO$77,64,FALSE))","v":7.6836871093888658E-3},null,{"$f":"IF(VLOOKUP(G$6+$BO$47,$D$48:$BO$77,64,FALSE)=\"\",\"\",VLOOKUP(G$6+$BO$47,$D$48:$BO$77,64,FALSE))","v":7.895367508098293E-3},null,{"$f":"IF(VLOOKUP(I$6+$BO$47,$D$48:$BO$77,64,FALSE)=\"\",\"\",VLOOKUP(I$6+$BO$47,$D$48:$BO$77,64,FALSE))","v":1.191542338505136E-2},null,{"$f":"IF(VLOOKUP(K$6+$BO$47,$D$48:$BO$77,64,FALSE)=\"\",\"\",VLOOKUP(K$6+$BO$47,$D$48:$BO$77,64,FALSE))","v":3.6122406595298237E-2},null,{"$f":"IF(VLOOKUP(M$6+$BO$47,$D$48:$BO$77,64,FALSE)=\"\",\"\",VLOOKUP(M$6+$BO$47,$D$48:$BO$77,64,FALSE))","v":3.6227132310338597E-2},null,{"$f":"IF(VLOOKUP(O$6+$BO$47,$D$48:$BO$77,64,FALSE)=\"\",\"\",VLOOKUP(O$6+$BO$47,$D$48:$BO$77,64,FALSE))","v":5.0579636957833733E-2},null,{"$f":"IF(VLOOKUP(Q$6+$BO$47,$D$48:$BO$77,64,FALSE)=\"\",\"\",VLOOKUP(Q$6+$BO$47,$D$48:$BO$77,64,FALSE))","v":0.4251044379729485},null,{"$f":"IF(VLOOKUP(S$6+$BO$47,$D$48:$BO$77,64,FALSE)=\"\",\"\",VLOOKUP(S$6+$BO$47,$D$48:$BO$77,64,FALSE))","v":0.42768562761795198},null,{"$f":"IF(VLOOKUP(U$6+$BO$47,$D$48:$BO$77,64,FALSE)=\"\",\"\",VLOOKUP(U$6+$BO$47,$D$48:$BO$77,64,FALSE))","v":0.52995244295507349},null,{"$f":"IF(VLOOKUP(W$6+$BO$47,$D$48:$BO$77,64,FALSE)=\"\",\"\",VLOOKUP(W$6+$BO$47,$D$48:$BO$77,64,FALSE))","v":0.57107081331350706},null,{"$f":"IF(VLOOKUP(Y$6+$BO$47,$D$48:$BO$77,64,FALSE)=\"\",\"\",VLOOKUP(Y$6+$BO$47,$D$48:$BO$77,64,FALSE))","v":0.60304317991026313},null,{"$f":"IF(VLOOKUP(AA$6+$BO$47,$D$48:$BO$77,64,FALSE)=\"\",\"\",VLOOKUP(AA$6+$BO$47,$D$48:$BO$77,64,FALSE))","v":0.62141158995660262},null,{"$f":"IF(VLOOKUP(AC$6+$BO$47,$D$48:$BO$77,64,FALSE)=\"\",\"\",VLOOKUP(AC$6+$BO$47,$D$48:$BO$77,64,FALSE))","v":0.67143101444801889},null,{"$f":"IF(VLOOKUP(AE$6+$BO$47,$D$48:$BO$77,64,FALSE)=\"\",\"\",VLOOKUP(AE$6+$BO$47,$D$48:$BO$77,64,FALSE))","v":0.69722210115082472},null,{"$f":"IF(VLOOKUP(AG$6+$BO$47,$D$48:$BO$77,64,FALSE)=\"\",\"\",VLOOKUP(AG$6+$BO$47,$D$48:$BO$77,64,FALSE))","v":2.3950134726252901},null,{"$f":"IF(VLOOKUP(AI$6+$BO$47,$D$48:$BO$77,64,FALSE)=\"\",\"\",VLOOKUP(AI$6+$BO$47,$D$48:$BO$77,64,FALSE))","v":2.418971027963817},null,{"$f":"IF(VLOOKUP(AK$6+$BO$47,$D$48:$BO$77,64,FALSE)=\"\",\"\",VLOOKUP(AK$6+$BO$47,$D$48:$BO$77,64,FALSE))","v":2.448127930384389},null,{"$f":"IF(VLOOKUP(AM$6+$BO$47,$D$48:$BO$77,64,FALSE)=\"\",\"\",VLOOKUP(AM$6+$BO$47,$D$48:$BO$77,64,FALSE))","v":2.581983232306678},null,{"$f":"IF(VLOOKUP(AO$6+$BO$47,$D$48:$BO$77,64,FALSE)=\"\",\"\",VLOOKUP(AO$6+$BO$47,$D$48:$BO$77,64,FALSE))","v":2.6712973915156408},null,{"$f":"IF(VLOOKUP(AQ$6+$BO$47,$D$48:$BO$77,64,FALSE)=\"\",\"\",VLOOKUP(AQ$6+$BO$47,$D$48:$BO$77,64,FALSE))","v":4.8065048249291582},null,{"$f":"IF(VLOOKUP(AS$6+$BO$47,$D$48:$BO$77,64,FALSE)=\"\",\"\",VLOOKUP(AS$6+$BO$47,$D$48:$BO$77,64,FALSE))","v":""},null,{"$f":"IF(VLOOKUP(AU$6+$BO$47,$D$48:$BO$77,64,FALSE)=\"\",\"\",VLOOKUP(AU$6+$BO$47,$D$48:$BO$77,64,FALSE))","v":""},null,{"$f":"IF(VLOOKUP(AW$6+$BO$47,$D$48:$BO$77,64,FALSE)=\"\",\"\",VLOOKUP(AW$6+$BO$47,$D$48:$BO$77,64,FALSE))","v":""},null,{"$f":"IF(VLOOKUP(AY$6+$BO$47,$D$48:$BO$77,64,FALSE)=\"\",\"\",VLOOKUP(AY$6+$BO$47,$D$48:$BO$77,64,FALSE))","v":""},null,{"$f":"IF(VLOOKUP(BA$6+$BO$47,$D$48:$BO$77,64,FALSE)=\"\",\"\",VLOOKUP(BA$6+$BO$47,$D$48:$BO$77,64,FALSE))","v":""},null,{"$f":"IF(VLOOKUP(BC$6+$BO$47,$D$48:$BO$77,64,FALSE)=\"\",\"\",VLOOKUP(BC$6+$BO$47,$D$48:$BO$77,64,FALSE))","v":""},null,{"$f":"IF(VLOOKUP(BE$6+$BO$47,$D$48:$BO$77,64,FALSE)=\"\",\"\",VLOOKUP(BE$6+$BO$47,$D$48:$BO$77,64,FALSE))","v":""},null,{"$f":"IF(VLOOKUP(BG$6+$BO$47,$D$48:$BO$77,64,FALSE)=\"\",\"\",VLOOKUP(BG$6+$BO$47,$D$48:$BO$77,64,FALSE))","v":""},null,{"$f":"IF(VLOOKUP(BI$6+$BO$47,$D$48:$BO$77,64,FALSE)=\"\",\"\",VLOOKUP(BI$6+$BO$47,$D$48:$BO$77,64,FALSE))","v":""},null,{"$f":"IF(VLOOKUP(BK$6+$BO$47,$D$48:$BO$77,64,FALSE)=\"\",\"\",VLOOKUP(BK$6+$BO$47,$D$48:$BO$77,64,FALSE))","v":""}]
[null,null,"Damped Frequencies (Hz)",null,{"$f":"IF(VLOOKUP(E$6+$BO$47,$D$48:$BO$77,63,FALSE)=\"\",\"\",VLOOKUP(E$6+$BO$47,$D$48:$BO$77,63,FALSE))","v":7.6750010364073813E-3},null,{"$f":"IF(VLOOKUP(G$6+$BO$47,$D$48:$BO$77,63,FALSE)=\"\",\"\",VLOOKUP(G$6+$BO$47,$D$48:$BO$77,63,FALSE))","v":7.8934656182616351E-3},null,{"$f":"IF(VLOOKUP(I$6+$BO$47,$D$48:$BO$77,63,FALSE)=\"\",\"\",VLOOKUP(I$6+$BO$47,$D$48:$BO$77,63,FALSE))","v":1.152678703639079E-2},null,{"$f":"IF(VLOOKUP(K$6+$BO$47,$D$48:$BO$77,63,FALSE)=\"\",\"\",VLOOKUP(K$6+$BO$47,$D$48:$BO$77,63,FALSE))","v":3.6112308879379523E-2},null,{"$f":"IF(VLOOKUP(M$6+$BO$47,$D$48:$BO$77,63,FALSE)=\"\",\"\",VLOOKUP(M$6+$BO$47,$D$48:$BO$77,63,FALSE))","v":3.621768827265736E-2},null,{"$f":"IF(VLOOKUP(O$6+$BO$47,$D$48:$BO$77,63,FALSE)=\"\",\"\",VLOOKUP(O$6+$BO$47,$D$48:$BO$77,63,FALSE))","v":5.0578833826835132E-2},null,{"$f":"IF(VLOOKUP(Q$6+$BO$47,$D$48:$BO$77,63,FALSE)=\"\",\"\",VLOOKUP(Q$6+$BO$47,$D$48:$BO$77,63,FALSE))","v":0.42509175738904931},null,{"$f":"IF(VLOOKUP(S$6+$BO$47,$D$48:$BO$77,63,FALSE)=\"\",\"\",VLOOKUP(S$6+$BO$47,$D$48:$BO$77,63,FALSE))","v":0.42766872421608287},null,{"$f":"IF(VLOOKUP(U$6+$BO$47,$D$48:$BO$77,63,FALSE)=\"\",\"\",VLOOKUP(U$6+$BO$47,$D$48:$BO$77,63,FALSE))","v":0.52972601489380067},null,{"$f":"IF(VLOOKUP(W$6+$BO$47,$D$48:$BO$77,63,FALSE)=\"\",\"\",VLOOKUP(W$6+$BO$47,$D$48:$BO$77,63,FALSE))","v":0.57083218749473197},null,{"$f":"IF(VLOOKUP(Y$6+$BO$47,$D$48:$BO$77,63,FALSE)=\"\",\"\",VLOOKUP(Y$6+$BO$47,$D$48:$BO$77,63,FALSE))","v":0.60281373829711715},null,{"$f":"IF(VLOOKUP(AA$6+$BO$47,$D$48:$BO$77,63,FALSE)=\"\",\"\",VLOOKUP(AA$6+$BO$47,$D$48:$BO$77,63,FALSE))","v":0.62111512563895577},null,{"$f":"IF(VLOOKUP(AC$6+$BO$47,$D$48:$BO$77,63,FALSE)=\"\",\"\",VLOOKUP(AC$6+$BO$47,$D$48:$BO$77,63,FALSE))","v":0.6711722513122621},null,{"$f":"IF(VLOOKUP(AE$6+$BO$47,$D$48:$BO$77,63,FALSE)=\"\",\"\",VLOOKUP(AE$6+$BO$47,$D$48:$BO$77,63,FALSE))","v":0.69694097984497039},null,{"$f":"IF(VLOOKUP(AG$6+$BO$47,$D$48:$BO$77,63,FALSE)=\"\",\"\",VLOOKUP(AG$6+$BO$47,$D$48:$BO$77,63,FALSE))","v":2.3787763556422692},null,{"$f":"IF(VLOOKUP(AI$6+$BO$47,$D$48:$BO$77,63,FALSE)=\"\",\"\",VLOOKUP(AI$6+$BO$47,$D$48:$BO$77,63,FALSE))","v":2.409200112839875},null,{"$f":"IF(VLOOKUP(AK$6+$BO$47,$D$48:$BO$77,63,FALSE)=\"\",\"\",VLOOKUP(AK$6+$BO$47,$D$48:$BO$77,63,FALSE))","v":2.427123878289176},null,{"$f":"IF(VLOOKUP(AM$6+$BO$47,$D$48:$BO$77,63,FALSE)=\"\",\"\",VLOOKUP(AM$6+$BO$47,$D$48:$BO$77,63,FALSE))","v":2.577355890075117},null,{"$f":"IF(VLOOKUP(AO$6+$BO$47,$D$48:$BO$77,63,FALSE)=\"\",\"\",VLOOKUP(AO$6+$BO$47,$D$48:$BO$77,63,FALSE))","v":2.6708919157686681},null,{"$f":"IF(VLOOKUP(AQ$6+$BO$47,$D$48:$BO$77,63,FALSE)=\"\",\"\",VLOOKUP(AQ$6+$BO$47,$D$48:$BO$77,63,FALSE))","v":4.8039465440623186},null,{"$f":"IF(VLOOKUP(AS$6+$BO$47,$D$48:$BO$77,63,FALSE)=\"\",\"\",VLOOKUP(AS$6+$BO$47,$D$48:$BO$77,63,FALSE))","v":""},null,{"$f":"IF(VLOOKUP(AU$6+$BO$47,$D$48:$BO$77,63,FALSE)=\"\",\"\",VLOOKUP(AU$6+$BO$47,$D$48:$BO$77,63,FALSE))","v":""},null,{"$f":"IF(VLOOKUP(AW$6+$BO$47,$D$48:$BO$77,63,FALSE)=\"\",\"\",VLOOKUP(AW$6+$BO$47,$D$48:$BO$77,63,FALSE))","v":""},null,{"$f":"IF(VLOOKUP(AY$6+$BO$47,$D$48:$BO$77,63,FALSE)=\"\",\"\",VLOOKUP(AY$6+$BO$47,$D$48:$BO$77,63,FALSE))","v":""},null,{"$f":"IF(VLOOKUP(BA$6+$BO$47,$D$48:$BO$77,63,FALSE)=\"\",\"\",VLOOKUP(BA$6+$BO$47,$D$48:$BO$77,63,FALSE))","v":""},null,{"$f":"IF(VLOOKUP(BC$6+$BO$47,$D$48:$BO$77,63,FALSE)=\"\",\"\",VLOOKUP(BC$6+$BO$47,$D$48:$BO$77,63,FALSE))","v":""},null,{"$f":"IF(VLOOKUP(BE$6+$BO$47,$D$48:$BO$77,63,FALSE)=\"\",\"\",VLOOKUP(BE$6+$BO$47,$D$48:$BO$77,63,FALSE))","v":""},null,{"$f":"IF(VLOOKUP(BG$6+$BO$47,$D$48:$BO$77,63,FALSE)=\"\",\"\",VLOOKUP(BG$6+$BO$47,$D$48:$BO$77,63,FALSE))","v":""},null,{"$f":"IF(VLOOKUP(BI$6+$BO$47,$D$48:$BO$77,63,FALSE)=\"\",\"\",VLOOKUP(BI$6+$BO$47,$D$48:$BO$77,63,FALSE))","v":""},null,{"$f":"IF(VLOOKUP(BK$6+$BO$47,$D$48:$BO$77,63,FALSE)=\"\",\"\",VLOOKUP(BK$6+$BO$47,$D$48:$BO$77,63,FALSE))","v":""}]
[null,null,"Damping Ratio (-)",null,{"$f":"IF(VLOOKUP(E$6+$BO$47,$D$48:$BO$77,62,FALSE)=\"\",\"\",VLOOKUP(E$6+$BO$47,$D$48:$BO$77,62,FALSE))","v":4.7535616055005593E-2},null,{"$f":"IF(VLOOKUP(G$6+$BO$47,$D$48:$BO$77,62,FALSE)=\"\",\"\",VLOOKUP(G$6+$BO$47,$D$48:$BO$77,62,FALSE))","v":2.1948019940886208E-2},null,{"$f":"IF(VLOOKUP(I$6+$BO$47,$D$48:$BO$77,62,FALSE)=\"\",\"\",VLOOKUP(I$6+$BO$47,$D$48:$BO$77,62,FALSE))","v":0.25331535159955187},null,{"$f":"IF(VLOOKUP(K$6+$BO$47,$D$48:$BO$77,62,FALSE)=\"\",\"\",VLOOKUP(K$6+$BO$47,$D$48:$BO$77,62,FALSE))","v":2.3643288450985161E-2},null,{"$f":"IF(VLOOKUP(M$6+$BO$47,$D$48:$BO$77,62,FALSE)=\"\",\"\",VLOOKUP(M$6+$BO$47,$D$48:$BO$77,62,FALSE))","v":2.2832242528740859E-2},null,{"$f":"IF(VLOOKUP(O$6+$BO$47,$D$48:$BO$77,62,FALSE)=\"\",\"\",VLOOKUP(O$6+$BO$47,$D$48:$BO$77,62,FALSE))","v":5.6353204145421143E-3},null,{"$f":"IF(VLOOKUP(Q$6+$BO$47,$D$48:$BO$77,62,FALSE)=\"\",\"\",VLOOKUP(Q$6+$BO$47,$D$48:$BO$77,62,FALSE))","v":7.7238452792894171E-3},null,{"$f":"IF(VLOOKUP(S$6+$BO$47,$D$48:$BO$77,62,FALSE)=\"\",\"\",VLOOKUP(S$6+$BO$47,$D$48:$BO$77,62,FALSE))","v":8.8906893739094991E-3},null,{"$f":"IF(VLOOKUP(U$6+$BO$47,$D$48:$BO$77,62,FALSE)=\"\",\"\",VLOOKUP(U$6+$BO$47,$D$48:$BO$77,62,FALSE))","v":2.92290889133359E-2},null,{"$f":"IF(VLOOKUP(W$6+$BO$47,$D$48:$BO$77,62,FALSE)=\"\",\"\",VLOOKUP(W$6+$BO$47,$D$48:$BO$77,62,FALSE))","v":2.890569117350902E-2},null,{"$f":"IF(VLOOKUP(Y$6+$BO$47,$D$48:$BO$77,62,FALSE)=\"\",\"\",VLOOKUP(Y$6+$BO$47,$D$48:$BO$77,62,FALSE))","v":2.758262361420398E-2},null,{"$f":"IF(VLOOKUP(AA$6+$BO$47,$D$48:$BO$77,62,FALSE)=\"\",\"\",VLOOKUP(AA$6+$BO$47,$D$48:$BO$77,62,FALSE))","v":3.088586246960727E-2},null,{"$f":"IF(VLOOKUP(AC$6+$BO$47,$D$48:$BO$77,62,FALSE)=\"\",\"\",VLOOKUP(AC$6+$BO$47,$D$48:$BO$77,62,FALSE))","v":2.776026797927111E-2},null,{"$f":"IF(VLOOKUP(AE$6+$BO$47,$D$48:$BO$77,62,FALSE)=\"\",\"\",VLOOKUP(AE$6+$BO$47,$D$48:$BO$77,62,FALSE))","v":2.839438877843339E-2},null,{"$f":"IF(VLOOKUP(AG$6+$BO$47,$D$48:$BO$77,62,FALSE)=\"\",\"\",VLOOKUP(AG$6+$BO$47,$D$48:$BO$77,62,FALSE))","v":0.1162460344156849},null,{"$f":"IF(VLOOKUP(AI$6+$BO$47,$D$48:$BO$77,62,FALSE)=\"\",\"\",VLOOKUP(AI$6+$BO$47,$D$48:$BO$77,62,FALSE))","v":8.979006406945586E-2},null,{"$f":"IF(VLOOKUP(AK$6+$BO$47,$D$48:$BO$77,62,FALSE)=\"\",\"\",VLOOKUP(AK$6+$BO$47,$D$48:$BO$77,62,FALSE))","v":0.13071215076785569},null,{"$f":"IF(VLOOKUP(AM$6+$BO$47,$D$48:$BO$77,62,FALSE)=\"\",\"\",VLOOKUP(AM$6+$BO$47,$D$48:$BO$77,62,FALSE))","v":5.9842458889225923E-2},null,{"$f":"IF(VLOOKUP(AO$6+$BO$47,$D$48:$BO$77,62,FALSE)=\"\",\"\",VLOOKUP(AO$6+$BO$47,$D$48:$BO$77,62,FALSE))","v":1.7422875693075612E-2},null,{"$f":"IF(VLOOKUP(AQ$6+$BO$47,$D$48:$BO$77,62,FALSE)=\"\",\"\",VLOOKUP(AQ$6+$BO$47,$D$48:$BO$77,62,FALSE))","v":3.2622453555944883E-2},null,{"$f":"IF(VLOOKUP(AS$6+$BO$47,$D$48:$BO$77,62,FALSE)=\"\",\"\",VLOOKUP(AS$6+$BO$47,$D$48:$BO$77,62,FALSE))","v":""},null,{"$f":"IF(VLOOKUP(AU$6+$BO$47,$D$48:$BO$77,62,FALSE)=\"\",\"\",VLOOKUP(AU$6+$BO$47,$D$48:$BO$77,62,FALSE))","v":""},null,{"$f":"IF(VLOOKUP(AW$6+$BO$47,$D$48:$BO$77,62,FALSE)=\"\",\"\",VLOOKUP(AW$6+$BO$47,$D$48:$BO$77,62,FALSE))","v":""},null,{"$f":"IF(VLOOKUP(AY$6+$BO$47,$D$48:$BO$77,62,FALSE)=\"\",\"\",VLOOKUP(AY$6+$BO$47,$D$48:$BO$77,62,FALSE))","v":""},null,{"$f":"IF(VLOOKUP(BA$6+$BO$47,$D$48:$BO$77,62,FALSE)=\"\",\"\",VLOOKUP(BA$6+$BO$47,$D$48:$BO$77,62,FALSE))","v":""},null,{"$f":"IF(VLOOKUP(BC$6+$BO$47,$D$48:$BO$77,62,FALSE)=\"\",\"\",VLOOKUP(BC$6+$BO$47,$D$48:$BO$77,62,FALSE))","v":""},null,{"$f":"IF(VLOOKUP(BE$6+$BO$47,$D$48:$BO$77,62,FALSE)=\"\",\"\",VLOOKUP(BE$6+$BO$47,$D$48:$BO$77,62,FALSE))","v":""},null,{"$f":"IF(VLOOKUP(BG$6+$BO$47,$D$48:$BO$77,62,FALSE)=\"\",\"\",VLOOKUP(BG$6+$BO$47,$D$48:$BO$77,62,FALSE))","v":""},null,{"$f":"IF(VLOOKUP(BI$6+$BO$47,$D$48:$BO$77,62,FALSE)=\"\",\"\",VLOOKUP(BI$6+$BO$47,$D$48:$BO$77,62,FALSE))","v":""},null,{"$f":"IF(VLOOKUP(BK$6+$BO$47,$D$48:$BO$77,62,FALSE)=\"\",\"\",VLOOKUP(BK$6+$BO$47,$D$48:$BO$77,62,FALSE))","v":""}]
[null,null,"States","Scaling","Magnitude (rad)","Phase (deg)","Magnitude (rad)","Phase (deg)","Magnitude (rad)","Phase (deg)","Magnitude (rad)","Phase (deg)","Magnitude (rad)","Phase (deg)","Magnitude (rad)","Phase (deg)","Magnitude (rad)","Phase (deg)","Magnitude (rad)","Phase (deg)","Magnitude (rad)","Phase (deg)","Magnitude (rad)","Phase (deg)","Magnitude (rad)","Phase (deg)","Magnitude (rad)","Phase (deg)","Magnitude (rad)","Phase (deg)","Magnitude (rad)","Phase (deg)","Magnitude (rad)","Phase (deg)","Magnitude (rad)","Phase (deg)","Magnitude (rad)","Phase (deg)","Magnitude (rad)","Phase (deg)","Magnitude (rad)","Phase (deg)","Magnitude (rad)","Phase (deg)","Magnitude (rad)","Phase (deg)","Magnitude (rad)","Phase (deg)","Magnitude (rad)","Phase (deg)","Magnitude (rad)","Phase (deg)","Magnitude (rad)","Phase (deg)","Magnitude (rad)","Phase (deg)","Magnitude (rad)","Phase (deg)","Magnitude (rad)","Phase (deg)","Magnitude (rad)","Phase (deg)","Magnitude (rad)","Phase (deg)"]
[null,1,"ED Platform horizontal surge translation DOF (internal DOF index = DOF_Sg), m",1,{"$f":"IF(HLOOKUP(E$6+$BO$47,$E$47:$AH$77,$B11+1,FALSE)=\"\",\"\",HLOOKUP(E$6+$BO$47,$E$47:$AH$77,$B11+1,FALSE)*$D11)","v":0.99883558750374635},{"$f":"IF(HLOOKUP(E$6+$BO$47,$AI$47:$BL$77,$B11+1,FALSE)=\"\",\"\",HLOOKUP(E$6+$BO$47,$AI$47:$BL$77,$B11+1,FALSE))","v":0},{"$f":"IF(HLOOKUP(G$6+$BO$47,$E$47:$AH$77,$B11+1,FALSE)=\"\",\"\",HLOOKUP(G$6+$BO$47,$E$47:$AH$77,$B11+1,FALSE)*$D11)","v":3.4179907742400519E-5},{"$f":"IF(HLOOKUP(G$6+$BO$47,$AI$47:$BL$77,$B11+1,FALSE)=\"\",\"\",HLOOKUP(G$6+$BO$47,$AI$47:$BL$77,$B11+1,FALSE))","v":-52.836497903864512},{"$f":"IF(HLOOKUP(I$6+$BO$47,$E$47:$AH$77,$B11+1,FALSE)=\"\",\"\",HLOOKUP(I$6+$BO$47,$E$47:$AH$77,$B11+1,FALSE)*$D11)","v":2.4544051509631251E-2},{"$f":"IF(HLOOKUP(I$6+$BO$47,$AI$47:$BL$77,$B11+1,FALSE)=\"\",\"\",HLOOKUP(I$6+$BO$47,$AI$47:$BL$77,$B11+1,FALSE))","v":-123.0006391724792},{"$f":"IF(HLOOKUP(K$6+$BO$47,$E$47:$AH$77,$B11+1,FALSE)=\"\",\"\",HLOOKUP(K$6+$BO$47,$E$47:$AH$77,$B11+1,FALSE)*$D11)","v":0.55774774515331338},{"$f":"IF(HLOOKUP(K$6+$BO$47,$AI$47:$BL$77,$B11+1,FALSE)=\"\",\"\",HLOOKUP(K$6+$BO$47,$AI$47:$BL$77,$B11+1,FALSE))","v":0},{"$f":"IF(HLOOKUP(M$6+$BO$47,$E$47:$AH$77,$B11+1,FALSE)=\"\",\"\",HLOOKUP(M$6+$BO$47,$E$47:$AH$77,$B11+1,FALSE)*$D11)","v":2.8254358121008748E-2},{"$f":"IF(HLOOKUP(M$6+$BO$47,$AI$47:$BL$77,$B11+1,FALSE)=\"\",\"\",HLOOKUP(M$6+$BO$47,$AI$47:$BL$77,$B11+1,FALSE))","v":-40.988772025425376},{"$f":"IF(HLOOKUP(O$6+$BO$47,$E$47:$AH$77,$B11+1,FALSE)=\"\",\"\",HLOOKUP(O$6+$BO$47,$E$47:$AH$77,$B11+1,FALSE)*$D11)","v":2.1755028118053831E-3},{"$f":"IF(HLOOKUP(O$6+$BO$47,$AI$47:$BL$77,$B11+1,FALSE)=\"\",\"\",HLOOKUP(O$6+$BO$47,$AI$47:$BL$77,$B11+1,FALSE))","v":2.569184315342488},{"$f":"IF(HLOOKUP(Q$6+$BO$47,$E$47:$AH$77,$B11+1,FALSE)=\"\",\"\",HLOOKUP(Q$6+$BO$47,$E$47:$AH$77,$B11+1,FALSE)*$D11)","v":2.2629053779443871E-3},{"$f":"IF(HLOOKUP(Q$6+$BO$47,$AI$47:$BL$77,$B11+1,FALSE)=\"\",\"\",HLOOKUP(Q$6+$BO$47,$AI$47:$BL$77,$B11+1,FALSE))","v":90.397642569447157},{"$f":"IF(HLOOKUP(S$6+$BO$47,$E$47:$AH$77,$B11+1,FALSE)=\"\",\"\",HLOOKUP(S$6+$BO$47,$E$47:$AH$77,$B11+1,FALSE)*$D11)","v":3.470763239644918E-3},{"$f":"IF(HLOOKUP(S$6+$BO$47,$AI$47:$BL$77,$B11+1,FALSE)=\"\",\"\",HLOOKUP(S$6+$BO$47,$AI$47:$BL$77,$B11+1,FALSE))","v":93.417542783239483},{"$f":"IF(HLOOKUP(U$6+$BO$47,$E$47:$AH$77,$B11+1,FALSE)=\"\",\"\",HLOOKUP(U$6+$BO$47,$E$47:$AH$77,$B11+1,FALSE)*$D11)","v":4.0313674177836628E-4},{"$f":"IF(HLOOKUP(U$6+$BO$47,$AI$47:$BL$77,$B11+1,FALSE)=\"\",\"\",HLOOKUP(U$6+$BO$47,$AI$47:$BL$77,$B11+1,FALSE))","v":173.5427250224713},{"$f":"IF(HLOOKUP(W$6+$BO$47,$E$47:$AH$77,$B11+1,FALSE)=\"\",\"\",HLOOKUP(W$6+$BO$47,$E$47:$AH$77,$B11+1,FALSE)*$D11)","v":1.0713894942690261E-4},{"$f":"IF(HLOOKUP(W$6+$BO$47,$AI$47:$BL$77,$B11+1,FALSE)=\"\",\"\",HLOOKUP(W$6+$BO$47,$AI$47:$BL$77,$B11+1,FALSE))","v":-109.7747854319653},{"$f":"IF(HLOOKUP(Y$6+$BO$47,$E$47:$AH$77,$B11+1,FALSE)=\"\",\"\",HLOOKUP(Y$6+$BO$47,$E$47:$AH$77,$B11+1,FALSE)*$D11)","v":4.0700147826847619E-4},{"$f":"IF(HLOOKUP(Y$6+$BO$47,$AI$47:$BL$77,$B11+1,FALSE)=\"\",\"\",HLOOKUP(Y$6+$BO$47,$AI$47:$BL$77,$B11+1,FALSE))","v":-91.166733687776116},{"$f":"IF(HLOOKUP(AA$6+$BO$47,$E$47:$AH$77,$B11+1,FALSE)=\"\",\"\",HLOOKUP(AA$6+$BO$47,$E$47:$AH$77,$B11+1,FALSE)*$D11)","v":2.165410017016906E-4},{"$f":"IF(HLOOKUP(AA$6+$BO$47,$AI$47:$BL$77,$B11+1,FALSE)=\"\",\"\",HLOOKUP(AA$6+$BO$47,$AI$47:$BL$77,$B11+1,FALSE))","v":-112.7254541477182},{"$f":"IF(HLOOKUP(AC$6+$BO$47,$E$47:$AH$77,$B11+1,FALSE)=\"\",\"\",HLOOKUP(AC$6+$BO$47,$E$47:$AH$77,$B11+1,FALSE)*$D11)","v":7.21246783109809E-5},{"$f":"IF(HLOOKUP(AC$6+$BO$47,$AI$47:$BL$77,$B11+1,FALSE)=\"\",\"\",HLOOKUP(AC$6+$BO$47,$AI$47:$BL$77,$B11+1,FALSE))","v":-2.3153437822776919},{"$f":"IF(HLOOKUP(AE$6+$BO$47,$E$47:$AH$77,$B11+1,FALSE)=\"\",\"\",HLOOKUP(AE$6+$BO$47,$E$47:$AH$77,$B11+1,FALSE)*$D11)","v":5.934897640217446E-5},{"$f":"IF(HLOOKUP(AE$6+$BO$47,$AI$47:$BL$77,$B11+1,FALSE)=\"\",\"\",HLOOKUP(AE$6+$BO$47,$AI$47:$BL$77,$B11+1,FALSE))","v":-156.26277932879549},{"$f":"IF(HLOOKUP(AG$6+$BO$47,$E$47:$AH$77,$B11+1,FALSE)=\"\",\"\",HLOOKUP(AG$6+$BO$47,$E$47:$AH$77,$B11+1,FALSE)*$D11)","v":7.9501789819449277E-7},{"$f":"IF(HLOOKUP(AG$6+$BO$47,$AI$47:$BL$77,$B11+1,FALSE)=\"\",\"\",HLOOKUP(AG$6+$BO$47,$AI$47:$BL$77,$B11+1,FALSE))","v":110.44393105163731},{"$f":"IF(HLOOKUP(AI$6+$BO$47,$E$47:$AH$77,$B11+1,FALSE)=\"\",\"\",HLOOKUP(AI$6+$BO$47,$E$47:$AH$77,$B11+1,FALSE)*$D11)","v":1.9220595909780541E-6},{"$f":"IF(HLOOKUP(AI$6+$BO$47,$AI$47:$BL$77,$B11+1,FALSE)=\"\",\"\",HLOOKUP(AI$6+$BO$47,$AI$47:$BL$77,$B11+1,FALSE))","v":147.72429918612411},{"$f":"IF(HLOOKUP(AK$6+$BO$47,$E$47:$AH$77,$B11+1,FALSE)=\"\",\"\",HLOOKUP(AK$6+$BO$47,$E$47:$AH$77,$B11+1,FALSE)*$D11)","v":3.4946697275812861E-8},{"$f":"IF(HLOOKUP(AK$6+$BO$47,$AI$47:$BL$77,$B11+1,FALSE)=\"\",\"\",HLOOKUP(AK$6+$BO$47,$AI$47:$BL$77,$B11+1,FALSE))","v":172.79970329101431},{"$f":"IF(HLOOKUP(AM$6+$BO$47,$E$47:$AH$77,$B11+1,FALSE)=\"\",\"\",HLOOKUP(AM$6+$BO$47,$E$47:$AH$77,$B11+1,FALSE)*$D11)","v":3.072024242936763E-6},{"$f":"IF(HLOOKUP(AM$6+$BO$47,$AI$47:$BL$77,$B11+1,FALSE)=\"\",\"\",HLOOKUP(AM$6+$BO$47,$AI$47:$BL$77,$B11+1,FALSE))","v":-154.46288614759681},{"$f":"IF(HLOOKUP(AO$6+$BO$47,$E$47:$AH$77,$B11+1,FALSE)=\"\",\"\",HLOOKUP(AO$6+$BO$47,$E$47:$AH$77,$B11+1,FALSE)*$D11)","v":2.6348403041097492E-7},{"$f":"IF(HLOOKUP(AO$6+$BO$47,$AI$47:$BL$77,$B11+1,FALSE)=\"\",\"\",HLOOKUP(AO$6+$BO$47,$AI$47:$BL$77,$B11+1,FALSE))","v":-92.399095281586568},{"$f":"IF(HLOOKUP(AQ$6+$BO$47,$E$47:$AH$77,$B11+1,FALSE)=\"\",\"\",HLOOKUP(AQ$6+$BO$47,$E$47:$AH$77,$B11+1,FALSE)*$D11)","v":1.076347419147543E-8},{"$f":"IF(HLOOKUP(AQ$6+$BO$47,$AI$47:$BL$77,$B11+1,FALSE)=\"\",\"\",HLOOKUP(AQ$6+$BO$47,$AI$47:$BL$77,$B11+1,FALSE))","v":-23.764336267635951},{"$f":"IF(HLOOKUP(AS$6+$BO$47,$E$47:$AH$77,$B11+1,FALSE)=\"\",\"\",HLOOKUP(AS$6+$BO$47,$E$47:$AH$77,$B11+1,FALSE)*$D11)","v":""},{"$f":"IF(HLOOKUP(AS$6+$BO$47,$AI$47:$BL$77,$B11+1,FALSE)=\"\",\"\",HLOOKUP(AS$6+$BO$47,$AI$47:$BL$77,$B11+1,FALSE))","v":""},{"$f":"IF(HLOOKUP(AU$6+$BO$47,$E$47:$AH$77,$B11+1,FALSE)=\"\",\"\",HLOOKUP(AU$6+$BO$47,$E$47:$AH$77,$B11+1,FALSE)*$D11)","v":""},{"$f":"IF(HLOOKUP(AU$6+$BO$47,$AI$47:$BL$77,$B11+1,FALSE)=\"\",\"\",HLOOKUP(AU$6+$BO$47,$AI$47:$BL$77,$B11+1,FALSE))","v":""},{"$f":"IF(HLOOKUP(AW$6+$BO$47,$E$47:$AH$77,$B11+1,FALSE)=\"\",\"\",HLOOKUP(AW$6+$BO$47,$E$47:$AH$77,$B11+1,FALSE)*$D11)","v":""},{"$f":"IF(HLOOKUP(AW$6+$BO$47,$AI$47:$BL$77,$B11+1,FALSE)=\"\",\"\",HLOOKUP(AW$6+$BO$47,$AI$47:$BL$77,$B11+1,FALSE))","v":""},{"$f":"IF(HLOOKUP(AY$6+$BO$47,$E$47:$AH$77,$B11+1,FALSE)=\"\",\"\",HLOOKUP(AY$6+$BO$47,$E$47:$AH$77,$B11+1,FALSE)*$D11)","v":""},{"$f":"IF(HLOOKUP(AY$6+$BO$47,$AI$47:$BL$77,$B11+1,FALSE)=\"\",\"\",HLOOKUP(AY$6+$BO$47,$AI$47:$BL$77,$B11+1,FALSE))","v":""},{"$f":"IF(HLOOKUP(BA$6+$BO$47,$E$47:$AH$77,$B11+1,FALSE)=\"\",\"\",HLOOKUP(BA$6+$BO$47,$E$47:$AH$77,$B11+1,FALSE)*$D11)","v":""},{"$f":"IF(HLOOKUP(BA$6+$BO$47,$AI$47:$BL$77,$B11+1,FALSE)=\"\",\"\",HLOOKUP(BA$6+$BO$47,$AI$47:$BL$77,$B11+1,FALSE))","v":""},{"$f":"IF(HLOOKUP(BC$6+$BO$47,$E$47:$AH$77,$B11+1,FALSE)=\"\",\"\",HLOOKUP(BC$6+$BO$47,$E$47:$AH$77,$B11+1,FALSE)*$D11)","v":""},{"$f":"IF(HLOOKUP(BC$6+$BO$47,$AI$47:$BL$77,$B11+1,FALSE)=\"\",\"\",HLOOKUP(BC$6+$BO$47,$AI$47:$BL$77,$B11+1,FALSE))","v":""},{"$f":"IF(HLOOKUP(BE$6+$BO$47,$E$47:$AH$77,$B11+1,FALSE)=\"\",\"\",HLOOKUP(BE$6+$BO$47,$E$47:$AH$77,$B11+1,FALSE)*$D11)","v":""},{"$f":"IF(HLOOKUP(BE$6+$BO$47,$AI$47:$BL$77,$B11+1,FALSE)=\"\",\"\",HLOOKUP(BE$6+$BO$47,$AI$47:$BL$77,$B11+1,FALSE))","v":""},{"$f":"IF(HLOOKUP(BG$6+$BO$47,$E$47:$AH$77,$B11+1,FALSE)=\"\",\"\",HLOOKUP(BG$6+$BO$47,$E$47:$AH$77,$B11+1,FALSE)*$D11)","v":""},{"$f":"IF(HLOOKUP(BG$6+$BO$47,$AI$47:$BL$77,$B11+1,FALSE)=\"\",\"\",HLOOKUP(BG$6+$BO$47,$AI$47:$BL$77,$B11+1,FALSE))","v":""},{"$f":"IF(HLOOKUP(BI$6+$BO$47,$E$47:$AH$77,$B11+1,FALSE)=\"\",\"\",HLOOKUP(BI$6+$BO$47,$E$47:$AH$77,$B11+1,FALSE)*$D11)","v":""},{"$f":"IF(HLOOKUP(BI$6+$BO$47,$AI$47:$BL$77,$B11+1,FALSE)=\"\",\"\",HLOOKUP(BI$6+$BO$47,$AI$47:$BL$77,$B11+1,FALSE))","v":""},{"$f":"IF(HLOOKUP(BK$6+$BO$47,$E$47:$AH$77,$B11+1,FALSE)=\"\",\"\",HLOOKUP(BK$6+$BO$47,$E$47:$AH$77,$B11+1,FALSE)*$D11)","v":""},{"$f":"IF(HLOOKUP(BK$6+$BO$47,$AI$47:$BL$77,$B11+1,FALSE)=\"\",\"\",HLOOKUP(BK$6+$BO$47,$AI$47:$BL$77,$B11+1,FALSE))","v":""},{"$f":"MAX(E11,G11,I11,K11,M11,O11,Q11,S11,U11,W11,Y11,AA11,AC11,AE11,AG11,AI11,AK11,AM11,AO11,AQ11,AS11,AU11,AW11,AY11,BA11,BC11,BE11,BG11,BI11,BK11)","v":0.99883558750374635},{"$f":"MATCH($BM11,E11:BK11,0)+4","v":5},{"$f":"INDIRECT(SUBSTITUTE(ADDRESS(1,$BN11,4),\"1\",\"7\"))","v":7.6836871093888658E-3}]
[null,{"$f":"B11+1","v":2},"ED Platform horizontal sway translation DOF (internal DOF index = DOF_Sw), m",1,1.013358865822894E-4,42.044857593803357,0.99877108094509148,180,4.0761900985964779E-2,-44.025889143676132,2.1845072629456379E-2,-154.1726622551877,0.69895435769665404,0,1.573812773622316E-7,-4.6267334841400372,5.2488429008817174E-3,-6.0989735787988737,1.6096722642514509E-3,128.6258867211213,5.835674833081025E-5,89.347863993323173,5.6857985241775047E-5,80.956588691983157,2.5941410806601089E-5,68.101606300832671,4.6938693108415649E-5,18.68412034926444,4.7828991612229019E-4,-93.031642738634559,3.227444466084963E-4,-93.306330023887071,2.4389966752756311E-7,-45.773657978304371,1.122942729637688E-7,-60.370045930905093,7.0556704155840919E-8,128.4302922897495,5.6078172120619639E-8,-111.4211196220166,2.0534932650663469E-5,-139.0386031846098,1.202138772093971E-7,-100.2077977884606,"","","","","","","","","","","","","","","","","","","","",0.99877108094509148,7,{"$f":"INDIRECT(SUBSTITUTE(ADDRESS(1,$BN12,4),\"1\",\"7\"))","v":7.895367508098293E-3}]
[null,3,"ED Platform vertical heave translation DOF (internal DOF index = DOF_Hv), m",1,3.9279237880688548E-4,0.183471737973042,1.7638452235640181E-7,126.6478700020898,1.2484636054472451E-3,-176.11223789498129,2.0123871037139109E-2,2.7648700074967629,1.0245184780943749E-3,-37.943187489745213,0.95290662969779683,180,1.205279157817608E-4,89.143910094791252,1.8094557279415489E-4,93.586662873481274,1.5007283624291369E-5,-173.79766404602731,2.6232455362975051E-5,-90.426053501253037,3.166537826009097E-5,-94.415032941272798,2.321356939797062E-5,97.346565671943381,2.4222892359988701E-5,-178.11385602143241,2.1253052100815251E-5,-4.9563690660811854,1.497234718495942E-7,-62.740388801442037,3.4900629205097732E-7,-26.393685211403131,2.4794870629398839E-8,68.084933172311167,6.0541125922796339E-7,29.209241929496219,7.7897606659603284E-8,81.117035398643011,3.2132667901639691E-9,-156.70425348174209,"","","","","","","","","","","","","","","","","","","","",0.95290662969779683,15,{"$f":"INDIRECT(SUBSTITUTE(ADDRESS(1,$BN13,4),\"1\",\"7\"))","v":5.0579636957833733E-2}]
[null,4,"ED Platform roll tilt rotation DOF (internal DOF index = DOF_R), rad",1,1.185185535385143E-6,-14.050175740035961,5.6467085053223522E-4,179.19643428644801,2.1215345862128119E-2,6.7279659556311087,3.676622250166189E-3,26.16485820884078,0.1190058739484036,-179.59772774274671,2.7071222855603039E-7,-171.4970111294592,3.1256967934392948E-4,173.98660763962189,9.5777713831150509E-5,-51.280656058015971,3.4019646326372028E-6,-91.741442040828503,3.0275965329435991E-6,-97.523481230944512,1.499777546150067E-6,-118.6866392182897,2.1444865122922049E-6,-156.9938139546008,2.4590178706349981E-5,86.795976732208103,1.6881988314337141E-5,86.538875728630174,1.045444933468583E-8,132.59682934373629,4.8033237904514868E-9,118.4031821402816,2.9650875890221029E-9,-52.624891555228032,2.3561055378896749E-9,67.906400633297366,8.5312198531342004E-7,40.91733162440066,4.0209399436232514E-9,79.480104665436343,"","","","","","","","","","","","","","","","","","","","",0.1190058739484036,13,{"$f":"INDIRECT(SUBSTITUTE(ADDRESS(1,$BN14,4),\"1\",\"7\"))","v":3.6227132310338597E-2}]
[null,5,"ED Platform pitch tilt rotation DOF (internal DOF index = DOF_P), rad",1,5.1999246529168023E-4,178.39786389674731,1.512367771301992E-6,-175.34746006210989,1.521646269700637E-3,-78.711334193004035,9.6580912796189966E-2,-0.21597471800866899,4.8618256103182926E-3,-41.537525391763587,2.8265808623651861E-4,3.210160495232754,1.3490971414484469E-4,90.409750806255673,2.0636544420550969E-4,93.450888493864184,2.1979535302442449E-5,173.2185135556083,6.8124059561978332E-6,-107.57252059870611,2.205793066658346E-5,-91.419794524596952,1.156641431023458E-5,-112.9268567810019,3.768948862509409E-6,-3.4494637696852659,3.0661303167701042E-6,-155.9163356314302,3.3426229767155452E-8,109.43245379502351,8.0693284390263725E-8,146.96813862806371,1.455274958823243E-9,167.90025327362969,1.2754600375250201E-7,-154.9260236996351,1.0822244107705049E-8,-92.296384290618121,4.0781649392346703E-10,-24.297634362878028,"","","","","","","","","","","","","","","","","","","","",9.6580912796189966E-2,11,{"$f":"INDIRECT(SUBSTITUTE(ADDRESS(1,$BN15,4),\"1\",\"7\"))","v":3.6122406595298237E-2}]
[null,6,"ED Platform yaw rotation DOF (internal DOF index = DOF_Y), rad",1,1.162054316172783E-5,-95.881105736531396,2.0229751376851121E-4,-28.50761771667073,0.78910513604536092,0,8.5874834835566658E-4,-90.359276192355352,5.1406477128317163E-3,10.309771464364101,1.89720497058723E-6,-132.71101651766759,1.452119388220732E-5,174.45290292463949,3.014028226845629E-6,-88.394993252999953,3.4762218341831612E-6,88.982441030645802,1.9200023869127511E-6,-175.25676630987081,1.564895879941929E-6,-5.2606322734538997,3.2177248286590448E-7,164.37970940168699,1.592930884870877E-6,93.034166286686272,6.4895329527572927E-7,74.608080471354938,4.0521500015124256E-9,-89.902928378028733,1.7719608858457511E-9,-98.550540430968937,1.896466062888156E-10,-69.048857055505522,5.0273482729028483E-10,-137.90827926165849,2.909062590351979E-9,107.6077221218964,1.185448447060067E-8,77.689139859877415,"","","","","","","","","","","","","","","","","","","","",0.78910513604536092,9,{"$f":"INDIRECT(SUBSTITUTE(ADDRESS(1,$BN16,4),\"1\",\"7\"))","v":1.191542338505136E-2}]
[null,7,"ED 1st tower fore-aft bending mode DOF (internal DOF index = DOF_TFA1), m",6.9206546939340457E-3,5.440991670185843E-6,173.1951909586997,3.8725145109514664E-8,-158.48508854499261,1.2879831564183389E-4,-75.608273297956472,3.1625910362764668E-3,0.99919386663613674,1.6148825021243445E-4,-38.877781176027277,9.0132288995103012E-6,176.19396838640941,2.5915451125287732E-4,-90.033620047076525,3.9755173926005411E-4,-86.552747581911476,4.242820002260147E-5,-6.9845797846712401,3.0729535901282026E-5,81.171051177632052,5.4189566898958602E-5,88.882889661135678,2.842259111817368E-5,68.782540818247625,1.0060810082942102E-5,168.8957862556808,7.9207148126562102E-6,26.95627735570713,2.8126567215098503E-8,-90.540371586422324,6.3127586053389004E-8,-49.192788379538598,2.706505292281206E-8,-94.340432423920674,7.5150060018163815E-8,11.53937865930209,8.6422040787220802E-9,-143.84673722497891,1.3796108702923532E-9,-79.501013047183449,"","","","","","","","","","","","","","","","","","","","",3.1625910362764668E-3,11,{"$f":"INDIRECT(SUBSTITUTE(ADDRESS(1,$BN17,4),\"1\",\"7\"))","v":3.6122406595298237E-2}]
[null,8,"ED 1st tower side-to-side bending mode DOF (internal DOF index = DOF_TSS1), m",6.9206546939340457E-3,2.2687855314139097E-8,-19.52686207793073,6.0674760747399444E-6,176.7494077606774,3.5926204730872546E-4,18.012879132701041,1.2539924834067994E-4,28.04282063267841,3.9240968103193318E-3,-178.45175418666369,9.6690647244589709E-9,66.583420889790332,6.0667342124780331E-4,-6.1619329374827618,1.8674745439111213E-4,128.7661699705917,8.513969203377273E-6,84.351170730526775,6.0805383015461317E-6,89.629486375169137,5.9033302295031826E-6,40.48819797049795,3.8577537574403356E-6,139.7680360635762,5.0294612085337733E-5,-93.366374837280304,4.4970160210871972E-5,-93.024348818069882,4.4815509878662767E-8,-72.749520134255931,1.7743474860165423E-8,-84.044704586614984,1.0697496103093088E-9,87.774999681254059,4.9580513002837778E-9,-147.37955883573619,5.567294693885092E-7,-143.61684091341019,4.2183614410391026E-7,79.923545234647662,"","","","","","","","","","","","","","","","","","","","",3.9240968103193318E-3,13,{"$f":"INDIRECT(SUBSTITUTE(ADDRESS(1,$BN18,4),\"1\",\"7\"))","v":3.6227132310338597E-2}]
[null,9,"ED 2nd tower fore-aft bending mode DOF (internal DOF index = DOF_TFA2), m",6.9206546939340457E-3,1.522188859674475E-8,172.72514326072161,2.2837243667914443E-10,68.122100070420373,1.8662707799829972E-6,104.8012965861448,6.5209675091485303E-6,0.28063818434631499,3.5924126078568388E-7,-45.421732671723802,3.5885239214340316E-7,0.79983813263704584,1.1480601996490481E-6,88.984729443923712,1.6456739288188027E-6,92.963185795350668,4.6827794421212369E-7,3.4771979833134039,3.5217724789283751E-7,-86.305346797071422,6.2310195886048809E-7,96.249293633179661,3.9826393483764893E-7,71.655766717364713,1.8425724520024226E-7,-164.97951801666559,1.8118584243730265E-7,26.7569447104662,3.6597353014492016E-8,-62.315292128175862,8.9326646209455832E-8,-26.890114948713169,1.9116180399606622E-9,25.254847478667561,1.5333523908316806E-7,28.64839371308905,1.5065023913020583E-8,82.834761553577991,8.8556074009417408E-10,152.654606241864,"","","","","","","","","","","","","","","","","","","","",6.5209675091485303E-6,11,{"$f":"INDIRECT(SUBSTITUTE(ADDRESS(1,$BN19,4),\"1\",\"7\"))","v":3.6122406595298237E-2}]
[null,10,"ED 2nd tower side-to-side bending mode DOF (internal DOF index = DOF_TSS2), m",6.9206546939340457E-3,9.6102280265913901E-11,53.411081005959048,1.6618485387446892E-8,176.4783550542416,7.112042342249607E-7,13.662379704556219,2.2014489438247715E-7,7.6776481247114221,7.6778070459212919E-6,-179.07756111126139,2.466603483439198E-10,-82.827979534779288,2.8293118742806104E-6,173.5875488951406,8.487860090241758E-7,-51.786130791801959,2.7731213236758967E-8,179.95750664493531,1.0167157646065871E-7,72.309263654065319,8.2923818676431773E-8,163.55210696039711,3.2161294354418459E-7,5.0387570366837933,1.6461134659067143E-6,-88.449243910268919,9.5517328979832788E-7,-88.275030551376716,1.0416254788724454E-8,-34.918364573719252,4.9870964117562081E-9,-51.569944453771491,3.4088494789897259E-9,136.26072109635331,2.5773575598816033E-9,-102.77298702390431,1.0655488527843247E-6,-138.5643978404571,2.4564684063087696E-8,-99.634519259420856,"","","","","","","","","","","","","","","","","","","","",7.6778070459212919E-6,13,{"$f":"INDIRECT(SUBSTITUTE(ADDRESS(1,$BN20,4),\"1\",\"7\"))","v":3.6227132310338597E-2}]
[null,11,"ED Nacelle yaw DOF (internal DOF index = DOF_Yaw), rad",1,3.7447974341131287E-8,-86.155871458334971,5.3051763297523652E-7,176.85911443570899,5.0376699765759572E-5,21.958120351431049,3.9843802486691909E-5,76.983822228413047,3.4176734198214468E-4,-178.67902289118689,1.127129905613025E-7,94.040538544727582,6.2641353157978188E-5,-5.5881539488729022,1.3710331966981381E-5,62.442735894994698,3.707512450601385E-5,-88.507768897904171,2.3278292641921919E-5,5.783160123379993,2.140430373571117E-5,178.01417010952781,4.2595861270550097E-6,-17.275378871825481,2.000161960851653E-5,-82.455131762386216,6.889473700209748E-6,-111.88788457683449,8.9786430368837448E-7,104.1740353473638,4.0227853706138348E-7,92.454531506144036,3.2244200563272058E-8,119.6333241430286,1.3280444965895419E-7,50.022668009039513,3.4943352219638459E-6,30.259653777699139,1.0188868818206701E-5,-100.1150001622127,"","","","","","","","","","","","","","","","","","","","",3.4176734198214468E-4,13,{"$f":"INDIRECT(SUBSTITUTE(ADDRESS(1,$BN21,4),\"1\",\"7\"))","v":3.6227132310338597E-2}]
[null,12,"ED 1st flapwise bending-mode DOF of blade 1 (internal DOF index = DOF_BF(1,1)), m",8.5470085470085479E-3,8.1199747860672061E-6,173.15142308597879,1.8998950473461121E-7,-112.5672048826611,9.790727071970804E-5,-76.426816444289855,4.7645449979588127E-3,0.87593737897240564,3.3518336816156896E-4,-78.376267418781097,3.7146596590133211E-5,1.9391673788377199,7.7426765591673415E-4,-65.227383776094214,1.019103955434123E-3,-95.230938706470525,5.2790929092688091E-4,-3.5308208552537299,1.7685051125889849E-3,-91.656404827914699,5.8631068255057546E-4,-87.590916683335919,2.229716483138444E-4,-110.90804122652651,1.565870556815259E-4,58.120619879566533,7.9428642987544148E-5,96.612826139704126,4.8360543174440896E-6,54.450284411551912,7.7006118686061011E-6,69.203377286703969,3.800900716278294E-4,82.497887344768785,6.8893695162383428E-6,84.458929086289828,4.3343113286926045E-5,101.83407391686229,8.3700473337662325E-7,96.888465188358452,"","","","","","","","","","","","","","","","","","","","",4.7645449979588127E-3,11,{"$f":"INDIRECT(SUBSTITUTE(ADDRESS(1,$BN22,4),\"1\",\"7\"))","v":3.6122406595298237E-2}]
[null,13,"ED 1st flapwise bending-mode DOF of blade 2 (internal DOF index = DOF_BF(2,1)), m",8.5470085470085479E-3,4.2921863669133776E-7,178.75196256480879,9.5904753964876415E-7,-146.68542598303381,4.848901723984134E-3,-75.048248299940127,1.1597275531489018E-3,1.863114709223054,2.1313476584736141E-4,165.5816158918621,1.1820194579580034E-5,179.77325308248311,1.8407850418533189E-3,-90.442548136430403,2.5177320493827361E-3,-90.509405689178493,1.2727597702752412E-3,179.8216489999775,7.7434838701475489E-4,91.067935897916485,1.6985633144932053E-3,-91.580568380577589,4.8761271934397957E-4,-95.885948457176099,4.5960434871283224E-5,-88.042852713118336,1.5040981849662299E-4,96.25637605776997,1.7642265217982975E-4,45.439319523976707,3.4826913415589289E-4,84.149334620924748,9.9648279364089674E-6,-136.9127853879599,3.5905381156399414E-4,85.519780074083585,5.8023011717498232E-5,92.951003367517274,2.8764085954397474E-6,-119.3448680973224,"","","","","","","","","","","","","","","","","","","","",4.848901723984134E-3,9,{"$f":"INDIRECT(SUBSTITUTE(ADDRESS(1,$BN23,4),\"1\",\"7\"))","v":1.191542338505136E-2}]
[null,14,"ED 1st flapwise bending-mode DOF of blade 3 (internal DOF index = DOF_BF(3,1)), m",8.5470085470085479E-3,2.1226558130562563E-6,-88.241067934254119,5.5751321144180245E-7,-177.71746665967311,9.5750459809173941E-4,26.82005397395293,1.9510289815527764E-3,91.400480210862398,4.0065844415067069E-4,170.08174200524641,1.2489393952138086E-5,31.985189781913601,1.1880976549060172E-3,-5.9911079648153436,7.8426532889585958E-4,9.6029945390861542,2.0262170081621241E-3,-91.674941986391829,1.2171974082438735E-3,-3.2723047250508479,1.0475957876048137E-3,-179.6100446214775,3.0851374203103477E-4,127.91691696644151,1.8817681571842368E-4,131.10086444262109,1.127777489118713E-4,22.442066182940479,3.4542764202973817E-4,83.23159415321976,1.6156179599006635E-4,72.984353355813468,1.1651612795452839E-5,121.58298980767189,5.2543538037239214E-5,47.58502576697672,3.4296398984960089E-4,-92.550183986551929,2.0301403576047054E-4,88.130539406224258,"","","","","","","","","","","","","","","","","","","","",2.0262170081621241E-3,21,{"$f":"INDIRECT(SUBSTITUTE(ADDRESS(1,$BN24,4),\"1\",\"7\"))","v":0.52995244295507349}]
[null,15,"ED 1st edgewise bending-mode DOF of blade 1 (internal DOF index = DOF_BE(1,1)), m",8.5470085470085479E-3,5.3234217769782732E-7,173.2001154020019,1.3944141380395616E-7,-3.0647885591278579,1.0704707463477779E-5,11.326703341157589,2.9400726813273004E-4,-0.75446615869806644,6.5091732720369555E-4,1.0988666595900161,2.4368220672924756E-6,2.3862827728094138,1.4711087881632094E-3,172.93247584421721,5.2874369725967147E-4,-57.316085201843748,6.4644428606033734E-5,-72.11367073897884,9.7188124754931285E-5,-45.326802108928597,1.0138362443979864E-4,-164.6028145662001,2.61921568422946E-4,-2.8758398060545929,1.3378129598936028E-3,-91.59075055200006,7.4867867256682419E-4,-92.651484189208773,3.2658420176573864E-7,-174.24577144355001,1.4527425139168309E-7,157.6275521412667,1.5506885751188404E-7,17.03747990952095,1.1060269855478428E-7,86.037818219944,4.9358542572760413E-5,42.576982343885057,4.5348259746597359E-6,80.42602383444823,"","","","","","","","","","","","","","","","","","","","",1.4711087881632094E-3,17,{"$f":"INDIRECT(SUBSTITUTE(ADDRESS(1,$BN25,4),\"1\",\"7\"))","v":0.4251044379729485}]
[null,16,"ED 1st edgewise bending-mode DOF of blade 2 (internal DOF index = DOF_BE(2,1)), m",8.5470085470085479E-3,4.168241508659221E-8,176.5760200318532,4.361629099772398E-6,-3.7103144982600922,4.5644903755555935E-4,-119.2244786215751,3.931470151518091E-5,-105.68179413410409,2.8777197185829422E-3,1.467119310260333,1.0861434907627437E-6,112.91715834680571,7.8615383337401915E-4,178.72924389921661,3.7241889734331062E-4,-69.121460523020843,7.2151024347587105E-5,-109.9856127353882,3.7651058352818118E-5,6.9753880757096072,3.7856777507950645E-4,-4.2273100674680419,1.408686784080937E-3,177.62549314047871,7.2322688711508071E-4,84.702998790627518,1.3920334234308145E-3,-91.627097327671152,1.1880876534021582E-7,39.519113223056237,4.6277762326974847E-7,5.762476950234408,2.1731807008722239E-8,62.952917912018528,9.8740156174097099E-7,39.782370892392137,3.2400166785335465E-6,41.760781988842147,2.0788230954777833E-6,-99.893297340292222,"","","","","","","","","","","","","","","","","","","","",2.8777197185829422E-3,13,{"$f":"INDIRECT(SUBSTITUTE(ADDRESS(1,$BN26,4),\"1\",\"7\"))","v":3.6227132310338597E-2}]
[null,17,"ED 1st edgewise bending-mode DOF of blade 3 (internal DOF index = DOF_BE(3,1)), m",8.5470085470085479E-3,3.3667728762810937E-7,-162.5088504562512,2.5236468594168276E-8,-175.6633911299312,5.7938260536062878E-5,23.398061998676209,3.3727320381991236E-4,23.317304419553519,7.7358400205249017E-6,129.24425310873161,1.2159642959230291E-4,-179.86249632107169,2.5827320158800968E-4,-81.518512998683264,2.4391383496667027E-4,-73.019194502361856,1.2817217481213291E-4,-30.13628933239838,1.7380277510917471E-4,71.005408268411358,4.9220172902764137E-4,94.486769455089103,1.4283488406833795E-3,-91.769911039347733,1.2228696219218848E-3,-0.90866673062162973,1.0299588500468037E-3,178.20911647863559,4.4170571579803635E-7,-54.772050966172429,9.5073284455262397E-7,-25.584577410293271,4.6496162605716272E-8,62.675141052603117,1.5849648349975215E-6,29.667999825596059,1.2226241768817916E-6,-141.06879252468079,1.9723422537656301E-6,81.240398456674029,"","","","","","","","","","","","","","","","","","","","",1.4283488406833795E-3,27,{"$f":"INDIRECT(SUBSTITUTE(ADDRESS(1,$BN27,4),\"1\",\"7\"))","v":0.62141158995660262}]
[null,18,"ED 2nd flapwise bending-mode DOF of blade 1 (internal DOF index = DOF_BF(1,2)), m",8.5470085470085479E-3,2.5646719863952891E-6,-6.8515313131303346,5.5209222051299849E-8,71.711289983348578,2.3259902251394174E-5,104.208579569835,1.4992181615512891E-3,-179.1497097746846,1.0944080267872513E-4,113.6879922967135,1.1711650129795188E-5,-178.06643183662669,1.128007543112818E-4,113.84482422835799,1.4555244635051343E-4,88.000117952129457,1.3798170983356113E-5,178.69046886020999,1.0500046426785026E-4,-91.484052970079517,8.7276889148720603E-5,-93.676687407402142,4.1802026705209439E-5,-92.565345571295154,7.498835717548066E-5,-76.716767904002424,4.8678435822770461E-5,-107.4282053826835,5.0796712873768665E-6,-124.7978593875002,8.1180028329547714E-6,-110.23183796272291,4.030786522817885E-4,-97.510746711171493,7.1908526305733993E-6,-94.734559513805834,4.9928826004822158E-5,-85.175599037289075,1.5273136740588669E-6,-90.219188490794778,"","","","","","","","","","","","","","","","","","","","",1.4992181615512891E-3,11,{"$f":"INDIRECT(SUBSTITUTE(ADDRESS(1,$BN28,4),\"1\",\"7\"))","v":3.6122406595298237E-2}]
[null,19,"ED 2nd flapwise bending-mode DOF of blade 2 (internal DOF index = DOF_BF(2,2)), m",8.5470085470085479E-3,1.0661937235035916E-7,-0.37885237136568423,3.6806605380954937E-7,150.11634807349941,1.4169016476323342E-3,103.4245235041929,3.1237137691238556E-4,-178.9643069307362,3.0154613246114267E-4,-175.04477343017609,3.9807022903945881E-6,-0.73358364286171351,2.0519602821990525E-4,80.65144927445597,3.1324785659088585E-4,93.679171843183653,8.9676023677551808E-5,176.65824845287381,4.1740920158320378E-5,-98.982007343440145,1.4910663894076461E-4,-84.288890895914861,1.1338362038218651E-4,-148.6563430662687,2.7990563938153501E-5,30.55910453192433,9.4947448795006676E-5,-98.900696531016408,1.8772132745119961E-4,-133.97603986524331,3.7111505483203679E-4,-95.151529749845309,1.0769137534041078E-5,43.365170734551903,3.7625356061306254E-4,-93.430770078028701,6.0989334600647762E-5,-87.23976387848397,3.3505157296509382E-6,63.386700744718347,"","","","","","","","","","","","","","","","","","","","",1.4169016476323342E-3,9,{"$f":"INDIRECT(SUBSTITUTE(ADDRESS(1,$BN29,4),\"1\",\"7\"))","v":1.191542338505136E-2}]
[null,20,"ED 2nd flapwise bending-mode DOF of blade 3 (internal DOF index = DOF_BF(3,2)), m",8.5470085470085479E-3,6.1538312030559089E-7,88.037763819414167,1.7896810286570679E-7,2.2681415649789489,2.7771677418170882E-4,-153.34764511012739,5.6751861198761329E-4,-92.274245794258789,1.2493229389350018E-4,-8.0383440598746621,1.2349529543678618E-5,-8.587162619698443,1.0566026195327556E-4,174.1880740450184,2.6750708248530515E-5,-146.0016026419807,4.9718110205275211E-5,-90.479510686384728,3.0272740359326489E-5,-1.943609647516916,1.9122387220214566E-5,111.79833373305389,7.2331808803596087E-5,-93.281682012510245,7.418539779687302E-5,33.076833683641773,5.1610654554625781E-5,153.72286472130929,3.6802034397211977E-4,-96.675499617398486,1.7211513859292316E-4,-106.97308229732219,1.2408085454744916E-5,-58.484200222475849,5.623643893991261E-5,-132.46338021729051,3.5617825848634628E-4,89.001692244310178,1.9682935372542103E-4,-91.122481076650487,"","","","","","","","","","","","","","","","","","","","",5.6751861198761329E-4,11,{"$f":"INDIRECT(SUBSTITUTE(ADDRESS(1,$BN30,4),\"1\",\"7\"))","v":3.6122406595298237E-2}]
[null,21,null,{"$f":"1","v":1},"","","","","","","","","","","","","","","","","","","","","","","","","","","","","","","","","","","","","","","","","","","","","","","","","","","","","","","","","","","","",0,{"$error":"#N/A"},{"$f":"INDIRECT(SUBSTITUTE(ADDRESS(1,$BN31,4),\"1\",\"7\"))","v":{"$error":"#N/A"}}]
[null,22,null,{"$f":"1","v":1},"","","","","","","","","","","","","","","","","","","","","","","","","","","","","","","","","","","","","","","","","","","","","","","","","","","","","","","","","","","","",0,{"$error":"#N/A"},{"$f":"INDIRECT(SUBSTITUTE(ADDRESS(1,$BN32,4),\"1\",\"7\"))","v":{"$error":"#N/A"}}]
[null,23,null,{"$f":"1","v":1},"","","","","","","","","","","","","","","","","","","","","","","","","","","","","","","","","","","","","","","","","","","","","","","","","","","","","","","","","","","","",0,{"$error":"#N/A"},{"$f":"INDIRECT(SUBSTITUTE(ADDRESS(1,$BN33,4),\"1\",\"7\"))","v":{"$error":"#N/A"}}]
[null,24,null,{"$f":"1","v":1},"","","","","","","","","","","","","","","","","","","","","","","","","","","","","","","","","","","","","","","","","","","","","","","","","","","","","","","","","","","","",0,{"$error":"#N/A"},{"$f":"INDIRECT(SUBSTITUTE(ADDRESS(1,$BN34,4),\"1\",\"7\"))","v":{"$error":"#N/A"}}]
[null,25,null,{"$f":"1","v":1},"","","","","","","","","","","","","","","","","","","","","","","","","","","","","","","","","","","","","","","","","","","","","","","","","","","","","","","","","","","","",0,{"$error":"#N/A"},{"$f":"INDIRECT(SUBSTITUTE(ADDRESS(1,$BN35,4),\"1\",\"7\"))","v":{"$error":"#N/A"}}]
[null,26,null,{"$f":"1","v":1},"","","","","","","","","","","","","","","","","","","","","","","","","","","","","","","","","","","","","","","","","","","","","","","","","","","","","","","","","","","","",0,{"$error":"#N/A"},{"$f":"INDIRECT(SUBSTITUTE(ADDRESS(1,$BN36,4),\"1\",\"7\"))","v":{"$error":"#N/A"}}]
[null,27,null,{"$f":"1","v":1},"","","","","","","","","","","","","","","","","","","","","","","","","","","","","","","","","","","","","","","","","","","","","","","","","","","","","","","","","","","","",0,{"$error":"#N/A"},{"$f":"INDIRECT(SUBSTITUTE(ADDRESS(1,$BN37,4),\"1\",\"7\"))","v":{"$error":"#N/A"}}]
[null,28,null,{"$f":"1","v":1},"","","","","","","","","","","","","","","","","","","","","","","","","","","","","","","","","","","","","","","","","","","","","","","","","","","","","","","","","","","","",0,{"$error":"#N/A"},{"$f":"INDIRECT(SUBSTITUTE(ADDRESS(1,$BN38,4),\"1\",\"7\"))","v":{"$error":"#N/A"}}]
[null,29,null,{"$f":"1","v":1},"","","","","","","","","","","","","","","","","","","","","","","","","","","","","","","","","","","","","","","","","","","","","","","","","","","","","","","","","","","","",0,{"$error":"#N/A"},{"$f":"INDIRECT(SUBSTITUTE(ADDRESS(1,$BN39,4),\"1\",\"7\"))","v":{"$error":"#N/A"}}]
[null,30,null,{"$f":"1","v":1},"","","","","","","","","","","","","","","","","","","","","","","","","","","","","","","","","","","","","","","","","","","","","","","","","","","","","","","","","","","","",0,{"$error":"#N/A"},{"$f":"INDIRECT(SUBSTITUTE(ADDRESS(1,$BN40,4),\"1\",\"7\"))","v":{"$error":"#N/A"}}]
[null,null,null,null,{"$f":"MAX(E11:E40)","v":0.99883558750374635},null,{"$f":"MAX(G11:G40)","v":0.99877108094509148},null,{"$f":"MAX(I11:I40)","v":0.78910513604536092},null,{"$f":"MAX(K11:K40)","v":0.55774774515331338},null,{"$f":"MAX(M11:M40)","v":0.69895435769665404},null,{"$f":"MAX(O11:O40)","v":0.95290662969779683},null,{"$f":"MAX(Q11:Q40)","v":5.2488429008817174E-3},null,{"$f":"MAX(S11:S40)","v":3.470763239644918E-3},null,{"$f":"MAX(U11:U40)","v":2.0262170081621241E-3},null,{"$f":"MAX(W11:W40)","v":1.7685051125889849E-3},null,{"$f":"MAX(Y11:Y40)","v":1.6985633144932053E-3},null,{"$f":"MAX(AA11:AA40)","v":1.4283488406833795E-3},null,{"$f":"MAX(AC11:AC40)","v":1.3378129598936028E-3},null,{"$f":"MAX(AE11:AE40)","v":1.3920334234308145E-3},null,{"$f":"MAX(AG11:AG40)","v":3.6802034397211977E-4},null,{"$f":"MAX(AI11:AI40)","v":3.7111505483203679E-4},null,{"$f":"MAX(AK11:AK40)","v":4.030786522817885E-4},null,{"$f":"MAX(AM11:AM40)","v":3.7625356061306254E-4},null,{"$f":"MAX(AO11:AO40)","v":3.5617825848634628E-4},null,{"$f":"MAX(AQ11:AQ40)","v":2.0301403576047054E-4},null,{"$f":"MAX(AS11:AS40)","v":0},null,{"$f":"MAX(AU11:AU40)","v":0},null,{"$f":"MAX(AW11:AW40)","v":0},null,{"$f":"MAX(AY11:AY40)","v":0},null,{"$f":"MAX(BA11:BA40)","v":0},null,{"$f":"MAX(BC11:BC40)","v":0},null,{"$f":"MAX(BE11:BE40)","v":0},null,{"$f":"MAX(BG11:BG40)","v":0},null,{"$f":"MAX(BI11:BI40)","v":0},null,{"$f":"MAX(BK11:BK40)","v":0}]
[null,null,"Green Background = Maximum value of the mode shape magnitude within a row"]
[null,null,"Red Bold Text = Maximum value of the mode shape magnitude within a column"]
[]
[]
[]
[null,null,null,null,{"$f":"D48","v":56},{"$f":"D49","v":55},{"$f":"D50","v":54},{"$f":"D51","v":52},{"$f":"D52","v":51},{"$f":"D53","v":53},{"$f":"D54","v":50},{"$f":"D55","v":49},{"$f":"D56","v":48},{"$f":"D57","v":47},{"$f":"D58","v":46},{"$f":"D59","v":45},{"$f":"D60","v":44},{"$f":"D61","v":43},{"$f":"D62","v":42},{"$f":"D63","v":40},{"$f":"D64","v":41},{"$f":"D65","v":37},{"$f":"D66","v":39},{"$f":"D67","v":38},{"$f":"D68","v":57},{"$f":"D69","v":58},{"$f":"D70","v":59},{"$f":"D71","v":60},{"$f":"D72","v":61},{"$f":"D73","v":62},{"$f":"D74","v":63},{"$f":"D75","v":64},{"$f":"D76","v":65},{"$f":"D77","v":66},{"$f":"E47","v":56},55,54,52,51,53,50,49,48,47,46,45,44,43,42,40,41,37,39,38,57,58,59,60,61,62,63,64,65,66,null,null,{"$f":"CT77+1","v":36},{"$f":"BO47+1","v":37},38,39,40,41,42,43,44,45,46,47,48,49,50,51,52,53,54,55,56,57,58,59,60,61,62,63,64,65,66]
[null,null,null,{"$f":"CS48","v":56},1.076347419147543E-8,2.6348403041097492E-7,3.072024242936763E-6,1.9220595909780541E-6,7.9501789819449277E-7,3.4946697275812861E-8,5.934897640217446E-5,7.21246783109809E-5,2.165410017016906E-4,4.0700147826847619E-4,1.0713894942690261E-4,4.0313674177836628E-4,3.470763239644918E-3,2.2629053779443871E-3,2.1755028118053831E-3,0.55774774515331338,2.8254358121008748E-2,0.99883558750374635,2.4544051509631251E-2,3.4179907742400519E-5,null,null,null,null,null,null,null,null,null,null,-23.764336267635951,-92.399095281586568,-154.46288614759681,147.72429918612411,110.44393105163731,172.79970329101431,-156.26277932879549,-2.3153437822776919,-112.7254541477182,-91.166733687776116,-109.7747854319653,173.5427250224713,93.417542783239483,90.397642569447157,2.569184315342488,0,-40.988772025425376,0,-123.0006391724792,-52.836497903864512,null,null,null,null,null,null,null,null,null,null,3.2622453555944883E-2,4.8039465440623186,4.8065048249291582,{"$f":"IF(MIN(BO$48:BO$77)=$BP$47,BO48,IF(BO48=MIN(BO$48:BO$77),BP$47,IF(BO48=\"\",$CT48,BO48)))","v":4.8065048249291582},4.8065048249291582,4.8065048249291582,4.8065048249291582,4.8065048249291582,4.8065048249291582,4.8065048249291582,4.8065048249291582,4.8065048249291582,4.8065048249291582,4.8065048249291582,4.8065048249291582,4.8065048249291582,4.8065048249291582,4.8065048249291582,4.8065048249291582,4.8065048249291582,4.8065048249291582,4.8065048249291582,56,56,56,56,56,56,56,56,56,56,56,{"$f":"CEILING(MAX(BO48:BO77),1)+1","v":6}]
[null,null,null,55,1.202138772093971E-7,2.0534932650663469E-5,5.6078172120619639E-8,1.122942729637688E-7,2.4389966752756311E-7,7.0556704155840919E-8,3.227444466084963E-4,4.7828991612229019E-4,4.6938693108415649E-5,2.5941410806601089E-5,5.6857985241775047E-5,5.835674833081025E-5,1.6096722642514509E-3,5.2488429008817174E-3,1.573812773622316E-7,2.1845072629456379E-2,0.69895435769665404,1.013358865822894E-4,4.0761900985964779E-2,0.99877108094509148,null,null,null,null,null,null,null,null,null,null,-100.2077977884606,-139.0386031846098,-111.4211196220166,-60.370045930905093,-45.773657978304371,128.4302922897495,-93.306330023887071,-93.031642738634559,18.68412034926444,68.101606300832671,80.956588691983157,89.347863993323173,128.6258867211213,-6.0989735787988737,-4.6267334841400372,-154.1726622551877,0,42.044857593803357,-44.025889143676132,180,null,null,null,null,null,null,null,null,null,null,1.7422875693075612E-2,2.6708919157686681,2.6712973915156408,{"$f":"IF(MIN(BO$48:BO$77)=$BP$47,BO49,IF(BO49=MIN(BO$48:BO$77),BP$47,IF(BO49=\"\",$CT49,BO49)))","v":2.6712973915156408},2.6712973915156408,2.6712973915156408,2.6712973915156408,2.6712973915156408,2.6712973915156408,2.6712973915156408,2.6712973915156408,2.6712973915156408,2.6712973915156408,2.6712973915156408,2.6712973915156408,2.6712973915156408,2.6712973915156408,2.6712973915156408,2.6712973915156408,2.6712973915156408,2.6712973915156408,55,55,55,55,55,55,55,55,55,55,55,55,{"$f":"CT48+1","v":7}]
[null,null,null,54,3.2132667901639691E-9,7.7897606659603284E-8,6.0541125922796339E-7,3.4900629205097732E-7,1.497234718495942E-7,2.4794870629398839E-8,2.1253052100815251E-5,2.4222892359988701E-5,2.321356939797062E-5,3.166537826009097E-5,2.6232455362975051E-5,1.5007283624291369E-5,1.8094557279415489E-4,1.205279157817608E-4,0.95290662969779683,2.0123871037139109E-2,1.0245184780943749E-3,3.9279237880688548E-4,1.2484636054472451E-3,1.7638452235640181E-7,null,null,null,null,null,null,null,null,null,null,-156.70425348174209,81.117035398643011,29.209241929496219,-26.393685211403131,-62.740388801442037,68.084933172311167,-4.9563690660811854,-178.11385602143241,97.346565671943381,-94.415032941272798,-90.426053501253037,-173.79766404602731,93.586662873481274,89.143910094791252,180,2.7648700074967629,-37.943187489745213,0.183471737973042,-176.11223789498129,126.6478700020898,null,null,null,null,null,null,null,null,null,null,5.9842458889225923E-2,2.577355890075117,2.581983232306678,{"$f":"IF(MIN(BO$48:BO$77)=$BP$47,BO50,IF(BO50=MIN(BO$48:BO$77),BP$47,IF(BO50=\"\",$CT50,BO50)))","v":2.581983232306678},2.581983232306678,2.581983232306678,2.581983232306678,2.581983232306678,2.581983232306678,2.581983232306678,2.581983232306678,2.581983232306678,2.581983232306678,2.581983232306678,2.581983232306678,2.581983232306678,2.581983232306678,2.581983232306678,2.581983232306678,2.581983232306678,54,54,54,54,54,54,54,54,54,54,54,54,54,8]
[null,null,null,52,4.0209399436232514E-9,8.5312198531342004E-7,2.3561055378896749E-9,4.8033237904514868E-9,1.045444933468583E-8,2.9650875890221029E-9,1.6881988314337141E-5,2.4590178706349981E-5,2.1444865122922049E-6,1.499777546150067E-6,3.0275965329435991E-6,3.4019646326372028E-6,9.5777713831150509E-5,3.1256967934392948E-4,2.7071222855603039E-7,3.676622250166189E-3,0.1190058739484036,1.185185535385143E-6,2.1215345862128119E-2,5.6467085053223522E-4,null,null,null,null,null,null,null,null,null,null,79.480104665436343,40.91733162440066,67.906400633297366,118.4031821402816,132.59682934373629,-52.624891555228032,86.538875728630174,86.795976732208103,-156.9938139546008,-118.6866392182897,-97.523481230944512,-91.741442040828503,-51.280656058015971,173.98660763962189,-171.4970111294592,26.16485820884078,-179.59772774274671,-14.050175740035961,6.7279659556311087,179.19643428644801,null,null,null,null,null,null,null,null,null,null,8.979006406945586E-2,2.409200112839875,2.418971027963817,{"$f":"IF(MIN(BO$48:BO$77)=$BP$47,BO51,IF(BO51=MIN(BO$48:BO$77),BP$47,IF(BO51=\"\",$CT51,BO51)))","v":2.418971027963817},2.418971027963817,2.418971027963817,2.418971027963817,2.418971027963817,2.418971027963817,2.418971027963817,2.418971027963817,2.418971027963817,2.418971027963817,2.418971027963817,2.418971027963817,2.418971027963817,2.418971027963817,2.418971027963817,52,52,52,52,52,52,52,52,52,52,52,52,52,52,52,9]
[null,null,null,51,4.0781649392346703E-10,1.0822244107705049E-8,1.2754600375250201E-7,8.0693284390263725E-8,3.3426229767155452E-8,1.455274958823243E-9,3.0661303167701042E-6,3.768948862509409E-6,1.156641431023458E-5,2.205793066658346E-5,6.8124059561978332E-6,2.1979535302442449E-5,2.0636544420550969E-4,1.3490971414484469E-4,2.8265808623651861E-4,9.6580912796189966E-2,4.8618256103182926E-3,5.1999246529168023E-4,1.521646269700637E-3,1.512367771301992E-6,null,null,null,null,null,null,null,null,null,null,-24.297634362878028,-92.296384290618121,-154.9260236996351,146.96813862806371,109.43245379502351,167.90025327362969,-155.9163356314302,-3.4494637696852659,-112.9268567810019,-91.419794524596952,-107.57252059870611,173.2185135556083,93.450888493864184,90.409750806255673,3.210160495232754,-0.21597471800866899,-41.537525391763587,178.39786389674731,-78.711334193004035,-175.34746006210989,null,null,null,null,null,null,null,null,null,null,0.1162460344156849,2.3787763556422692,2.3950134726252901,{"$f":"IF(MIN(BO$48:BO$77)=$BP$47,BO52,IF(BO52=MIN(BO$48:BO$77),BP$47,IF(BO52=\"\",$CT52,BO52)))","v":2.3950134726252901},2.3950134726252901,2.3950134726252901,2.3950134726252901,2.3950134726252901,2.3950134726252901,2.3950134726252901,2.3950134726252901,2.3950134726252901,2.3950134726252901,2.3950134726252901,2.3950134726252901,2.3950134726252901,2.3950134726252901,51,51,51,51,51,51,51,51,51,51,51,51,51,51,51,51,10]
[null,null,null,53,1.185448447060067E-8,2.909062590351979E-9,5.0273482729028483E-10,1.7719608858457511E-9,4.0521500015124256E-9,1.896466062888156E-10,6.4895329527572927E-7,1.592930884870877E-6,3.2177248286590448E-7,1.564895879941929E-6,1.9200023869127511E-6,3.4762218341831612E-6,3.014028226845629E-6,1.452119388220732E-5,1.89720497058723E-6,8.5874834835566658E-4,5.1406477128317163E-3,1.162054316172783E-5,0.78910513604536092,2.0229751376851121E-4,null,null,null,null,null,null,null,null,null,null,77.689139859877415,107.6077221218964,-137.90827926165849,-98.550540430968937,-89.902928378028733,-69.048857055505522,74.608080471354938,93.034166286686272,164.37970940168699,-5.2606322734538997,-175.25676630987081,88.982441030645802,-88.394993252999953,174.45290292463949,-132.71101651766759,-90.359276192355352,10.309771464364101,-95.881105736531396,0,-28.50761771667073,null,null,null,null,null,null,null,null,null,null,0.13071215076785569,2.427123878289176,2.448127930384389,{"$f":"IF(MIN(BO$48:BO$77)=$BP$47,BO53,IF(BO53=MIN(BO$48:BO$77),BP$47,IF(BO53=\"\",$CT53,BO53)))","v":2.448127930384389},2.448127930384389,2.448127930384389,2.448127930384389,2.448127930384389,2.448127930384389,2.448127930384389,2.448127930384389,2.448127930384389,2.448127930384389,2.448127930384389,2.448127930384389,2.448127930384389,2.448127930384389,2.448127930384389,2.448127930384389,53,53,53,53,53,53,53,53,53,53,53,53,53,53,11]
[null,null,null,50,1.9934687270289359E-7,1.248755278354947E-6,1.085880792232458E-5,9.1216205467844455E-6,4.0641483297456584E-6,3.9107648220817289E-6,1.1445036868547591E-3,1.4537367529347191E-3,4.1069223036205062E-3,7.8301214690650236E-3,4.440264290055747E-3,6.1306627622657994E-3,5.7444238564381522E-2,3.7446531103484511E-2,1.3023665098347409E-3,0.45697859178676808,2.3334244714445718E-2,7.8619609138350338E-4,1.8610712618666789E-2,5.595589842599322E-6,null,null,null,null,null,null,null,null,null,null,-79.501013047183449,-143.84673722497891,11.53937865930209,-49.192788379538598,-90.540371586422324,-94.340432423920674,26.95627735570713,168.8957862556808,68.782540818247625,88.882889661135678,81.171051177632052,-6.9845797846712401,-86.552747581911476,-90.033620047076525,176.19396838640941,0.99919386663613674,-38.877781176027277,173.1951909586997,-75.608273297956472,-158.48508854499261,null,null,null,null,null,null,null,null,null,null,2.839438877843339E-2,0.69694097984497039,0.69722210115082472,{"$f":"IF(MIN(BO$48:BO$77)=$BP$47,BO54,IF(BO54=MIN(BO$48:BO$77),BP$47,IF(BO54=\"\",$CT54,BO54)))","v":0.69722210115082472},0.69722210115082472,0.69722210115082472,0.69722210115082472,0.69722210115082472,0.69722210115082472,0.69722210115082472,0.69722210115082472,0.69722210115082472,0.69722210115082472,0.69722210115082472,0.69722210115082472,0.69722210115082472,50,50,50,50,50,50,50,50,50,50,50,50,50,50,50,50,50,12]
[null,null,null,49,6.0953213642294513E-5,8.0444624679292646E-5,7.1641362263450455E-7,2.5638433999196028E-6,6.4756170999173771E-6,1.5457346994164359E-7,6.4979632996699458E-3,7.2673199732708766E-3,5.5742612918134127E-4,8.5300170151206246E-4,8.7860738188190836E-4,1.2302259800419991E-3,2.6984073422243751E-2,8.7661276003201352E-2,1.397131507360699E-6,1.8119564388986549E-2,0.56701236860709192,3.2782816536165289E-6,5.1911569525874293E-2,8.7671995541954836E-4,null,null,null,null,null,null,null,null,null,null,79.923545234647662,-143.61684091341019,-147.37955883573619,-84.044704586614984,-72.749520134255931,87.774999681254059,-93.024348818069882,-93.366374837280304,139.7680360635762,40.48819797049795,89.629486375169137,84.351170730526775,128.7661699705917,-6.1619329374827618,66.583420889790332,28.04282063267841,-178.45175418666369,-19.52686207793073,18.012879132701041,176.7494077606774,null,null,null,null,null,null,null,null,null,null,2.776026797927111E-2,0.6711722513122621,0.67143101444801889,{"$f":"IF(MIN(BO$48:BO$77)=$BP$47,BO55,IF(BO55=MIN(BO$48:BO$77),BP$47,IF(BO55=\"\",$CT55,BO55)))","v":0.67143101444801889},0.67143101444801889,0.67143101444801889,0.67143101444801889,0.67143101444801889,0.67143101444801889,0.67143101444801889,0.67143101444801889,0.67143101444801889,0.67143101444801889,0.67143101444801889,0.67143101444801889,49,49,49,49,49,49,49,49,49,49,49,49,49,49,49,49,49,49,13]
[null,null,null,48,1.2795909913990769E-7,2.176820630311909E-6,2.2156175371322369E-5,1.290725374403532E-5,5.2881345238290244E-6,2.7621924868411589E-7,2.618044830297805E-5,2.6624250645209009E-5,5.754714726436609E-5,9.0035117545546228E-5,5.0887851434275558E-5,6.766382154893082E-5,2.377916543446729E-4,1.6588895854828921E-4,5.1852376402761042E-5,9.4224720023441694E-4,5.1908565977227397E-5,2.199486792786633E-6,2.6966679635364319E-4,3.2998675237952978E-8,null,null,null,null,null,null,null,null,null,null,152.654606241864,82.834761553577991,28.64839371308905,-26.890114948713169,-62.315292128175862,25.254847478667561,26.7569447104662,-164.97951801666559,71.655766717364713,96.249293633179661,-86.305346797071422,3.4771979833134039,92.963185795350668,88.984729443923712,0.79983813263704584,0.28063818434631499,-45.421732671723802,172.72514326072161,104.8012965861448,68.122100070420373,null,null,null,null,null,null,null,null,null,null,3.088586246960727E-2,0.62111512563895577,0.62141158995660262,{"$f":"IF(MIN(BO$48:BO$77)=$BP$47,BO56,IF(BO56=MIN(BO$48:BO$77),BP$47,IF(BO56=\"\",$CT56,BO56)))","v":0.62141158995660262},0.62141158995660262,0.62141158995660262,0.62141158995660262,0.62141158995660262,0.62141158995660262,0.62141158995660262,0.62141158995660262,0.62141158995660262,0.62141158995660262,0.62141158995660262,48,48,48,48,48,48,48,48,48,48,48,48,48,48,48,48,48,48,48,14]
[null,null,null,47,3.549474023695857E-6,1.5396648148307101E-4,3.7241528061509232E-7,7.2061049601671333E-7,1.50509673569674E-6,4.9256170546662045E-7,1.3801776450940941E-4,2.3785516525619071E-4,4.6471462277416958E-5,1.198207717965101E-5,1.4691034440682881E-5,4.0070216566454871E-6,1.2264533437394829E-4,4.0882141927417681E-4,3.5641187033954697E-8,3.1809836513796037E-5,1.1094047291003971E-3,1.3886298987023231E-8,1.027654558243357E-4,2.4012880460591388E-6,null,null,null,null,null,null,null,null,null,null,-99.634519259420856,-138.5643978404571,-102.77298702390431,-51.569944453771491,-34.918364573719252,136.26072109635331,-88.275030551376716,-88.449243910268919,5.0387570366837933,163.55210696039711,72.309263654065319,179.95750664493531,-51.786130791801959,173.5875488951406,-82.827979534779288,7.6776481247114221,-179.07756111126139,53.411081005959048,13.662379704556219,176.4783550542416,null,null,null,null,null,null,null,null,null,null,2.758262361420398E-2,0.60281373829711715,0.60304317991026313,{"$f":"IF(MIN(BO$48:BO$77)=$BP$47,BO57,IF(BO57=MIN(BO$48:BO$77),BP$47,IF(BO57=\"\",$CT57,BO57)))","v":0.60304317991026313},0.60304317991026313,0.60304317991026313,0.60304317991026313,0.60304317991026313,0.60304317991026313,0.60304317991026313,0.60304317991026313,0.60304317991026313,0.60304317991026313,47,47,47,47,47,47,47,47,47,47,47,47,47,47,47,47,47,47,47,47,15]
[null,null,null,46,1.0188868818206701E-5,3.4943352219638459E-6,1.3280444965895419E-7,4.0227853706138348E-7,8.9786430368837448E-7,3.2244200563272058E-8,6.889473700209748E-6,2.000161960851653E-5,4.2595861270550097E-6,2.140430373571117E-5,2.3278292641921919E-5,3.707512450601385E-5,1.3710331966981381E-5,6.2641353157978188E-5,1.127129905613025E-7,3.9843802486691909E-5,3.4176734198214468E-4,3.7447974341131287E-8,5.0376699765759572E-5,5.3051763297523652E-7,null,null,null,null,null,null,null,null,null,null,-100.1150001622127,30.259653777699139,50.022668009039513,92.454531506144036,104.1740353473638,119.6333241430286,-111.88788457683449,-82.455131762386216,-17.275378871825481,178.01417010952781,5.783160123379993,-88.507768897904171,62.442735894994698,-5.5881539488729022,94.040538544727582,76.983822228413047,-178.67902289118689,-86.155871458334971,21.958120351431049,176.85911443570899,null,null,null,null,null,null,null,null,null,null,2.890569117350902E-2,0.57083218749473197,0.57107081331350706,{"$f":"IF(MIN(BO$48:BO$77)=$BP$47,BO58,IF(BO58=MIN(BO$48:BO$77),BP$47,IF(BO58=\"\",$CT58,BO58)))","v":0.57107081331350706},0.57107081331350706,0.57107081331350706,0.57107081331350706,0.57107081331350706,0.57107081331350706,0.57107081331350706,0.57107081331350706,0.57107081331350706,46,46,46,46,46,46,46,46,46,46,46,46,46,46,46,46,46,46,46,46,46,16]
[null,null,null,45,9.7929553805064907E-5,5.0711442545703471E-3,8.0605623339988599E-4,9.0097158862691379E-4,5.6581835514095847E-4,4.4470538380456039E-2,9.2931512295426639E-3,1.8320685514738529E-2,2.6087682852719792E-2,6.8598349858417326E-2,0.2069150981729112,6.1765387038445058E-2,0.1192351627857924,9.0589315742257884E-2,4.3461518010455853E-3,0.55745176476118108,3.9216454074903567E-2,9.5003704996986303E-4,1.1455150674205839E-2,2.222877205394951E-5,null,null,null,null,null,null,null,null,null,null,96.888465188358452,101.83407391686229,84.458929086289828,69.203377286703969,54.450284411551912,82.497887344768785,96.612826139704126,58.120619879566533,-110.90804122652651,-87.590916683335919,-91.656404827914699,-3.5308208552537299,-95.230938706470525,-65.227383776094214,1.9391673788377199,0.87593737897240564,-78.376267418781097,173.15142308597879,-76.426816444289855,-112.5672048826611,null,null,null,null,null,null,null,null,null,null,2.92290889133359E-2,0.52972601489380067,0.52995244295507349,{"$f":"IF(MIN(BO$48:BO$77)=$BP$47,BO59,IF(BO59=MIN(BO$48:BO$77),BP$47,IF(BO59=\"\",$CT59,BO59)))","v":0.52995244295507349},0.52995244295507349,0.52995244295507349,0.52995244295507349,0.52995244295507349,0.52995244295507349,0.52995244295507349,0.52995244295507349,45,45,45,45,45,45,45,45,45,45,45,45,45,45,45,45,45,45,45,45,45,45,17]
[null,null,null,44,3.3653980566645039E-4,6.7886923709472927E-3,4.2009295952987309E-2,4.0747488696239467E-2,2.0641450305040079E-2,1.1658848685598491E-3,1.7597948764104889E-2,5.3773708799401366E-3,5.7050688163245607E-2,0.19873190779570499,9.0598761280726317E-2,0.14891289312220321,0.29457464977778008,0.2153718498968383,1.3829627658108639E-3,0.13568812371842151,2.4936767604141281E-2,5.0218580492886513E-5,0.56732150170614359,1.1220856213890541E-4,null,null,null,null,null,null,null,null,null,null,-119.3448680973224,92.951003367517274,85.519780074083585,84.149334620924748,45.439319523976707,-136.9127853879599,96.25637605776997,-88.042852713118336,-95.885948457176099,-91.580568380577589,91.067935897916485,179.8216489999775,-90.509405689178493,-90.442548136430403,179.77325308248311,1.863114709223054,165.5816158918621,178.75196256480879,-75.048248299940127,-146.68542598303381,null,null,null,null,null,null,null,null,null,null,8.8906893739094991E-3,0.42766872421608287,0.42768562761795198,{"$f":"IF(MIN(BO$48:BO$77)=$BP$47,BO60,IF(BO60=MIN(BO$48:BO$77),BP$47,IF(BO60=\"\",$CT60,BO60)))","v":0.42768562761795198},0.42768562761795198,0.42768562761795198,0.42768562761795198,0.42768562761795198,0.42768562761795198,0.42768562761795198,44,44,44,44,44,44,44,44,44,44,44,44,44,44,44,44,44,44,44,44,44,44,44,18]
[null,null,null,43,2.3752642183975051E-2,4.0126786812403302E-2,6.1475939503569874E-3,1.890273013083776E-2,4.0415034117479362E-2,1.363238697067982E-3,1.3194996622688941E-2,2.201668743905557E-2,3.6096107817631062E-2,0.1225687071497632,0.1424120967645332,0.23706738995496851,9.1759043480815566E-2,0.13900742562400401,1.461259092400156E-3,0.2282703908416748,4.6877037965628469E-2,2.4835073012758198E-4,0.1120280379767335,6.5229045738690879E-5,null,null,null,null,null,null,null,null,null,null,88.130539406224258,-92.550183986551929,47.58502576697672,72.984353355813468,83.23159415321976,121.58298980767189,22.442066182940479,131.10086444262109,127.91691696644151,-179.6100446214775,-3.2723047250508479,-91.674941986391829,9.6029945390861542,-5.9911079648153436,31.985189781913601,91.400480210862398,170.08174200524641,-88.241067934254119,26.82005397395293,-177.71746665967311,null,null,null,null,null,null,null,null,null,null,7.7238452792894171E-3,0.42509175738904931,0.4251044379729485,{"$f":"IF(MIN(BO$48:BO$77)=$BP$47,BO61,IF(BO61=MIN(BO$48:BO$77),BP$47,IF(BO61=\"\",$CT61,BO61)))","v":0.4251044379729485},0.4251044379729485,0.4251044379729485,0.4251044379729485,0.4251044379729485,0.4251044379729485,43,43,43,43,43,43,43,43,43,43,43,43,43,43,43,43,43,43,43,43,43,43,43,43,19]
[null,null,null,42,5.3057463903518904E-4,5.7749494810129679E-3,1.294051573090976E-5,1.6997087412826919E-5,3.8210351606591419E-5,1.8143056328890431E-5,8.7595404690318415E-2,0.1565241163075515,3.064482350548468E-2,1.1861884059456439E-2,1.1371010596326959E-2,7.5633981469059464E-3,6.1863012579381559E-2,0.1721197282150955,2.8510818187321962E-4,3.4398850371529413E-2,7.6157327282832366E-2,6.2284034790645789E-5,1.2524507732269E-3,1.6314645415062869E-5,null,null,null,null,null,null,null,null,null,null,80.42602383444823,42.576982343885057,86.037818219944,157.6275521412667,-174.24577144355001,17.03747990952095,-92.651484189208773,-91.59075055200006,-2.8758398060545929,-164.6028145662001,-45.326802108928597,-72.11367073897884,-57.316085201843748,172.93247584421721,2.3862827728094138,-0.75446615869806644,1.0988666595900161,173.2001154020019,11.326703341157589,-3.0647885591278579,null,null,null,null,null,null,null,null,null,null,5.6353204145421143E-3,5.0578833826835132E-2,5.0579636957833733E-2,{"$f":"IF(MIN(BO$48:BO$77)=$BP$47,BO62,IF(BO62=MIN(BO$48:BO$77),BP$47,IF(BO62=\"\",$CT62,BO62)))","v":5.0579636957833733E-2},5.0579636957833733E-2,5.0579636957833733E-2,5.0579636957833733E-2,5.0579636957833733E-2,42,42,42,42,42,42,42,42,42,42,42,42,42,42,42,42,42,42,42,42,42,42,42,42,42,20]
[null,null,null,40,2.432223021709006E-4,3.7908195138842488E-4,1.155259827236936E-4,5.4144981922560563E-5,1.390062554480525E-5,2.5426214200205018E-6,0.16286791054140529,8.461754579246443E-2,0.16481635373746961,4.4292429684302248E-2,4.4051738272797196E-3,8.4416698486676905E-3,4.3573010989167341E-2,9.1979998504760227E-2,1.27078788419241E-4,4.5998200772761656E-3,0.33669320707420419,4.8768425651312882E-6,5.3404537394000438E-2,5.1031060467337055E-4,null,null,null,null,null,null,null,null,null,null,-99.893297340292222,41.760781988842147,39.782370892392137,5.762476950234408,39.519113223056237,62.952917912018528,-91.627097327671152,84.702998790627518,177.62549314047871,-4.2273100674680419,6.9753880757096072,-109.9856127353882,-69.121460523020843,178.72924389921661,112.91715834680571,-105.68179413410409,1.467119310260333,176.5760200318532,-119.2244786215751,-3.7103144982600922,null,null,null,null,null,null,null,null,null,null,2.3643288450985161E-2,3.6112308879379523E-2,3.6122406595298237E-2,{"$f":"IF(MIN(BO$48:BO$77)=$BP$47,BO63,IF(BO63=MIN(BO$48:BO$77),BP$47,IF(BO63=\"\",$CT63,BO63)))","v":3.6122406595298237E-2},3.6122406595298237E-2,3.6122406595298237E-2,40,40,40,40,40,40,40,40,40,40,40,40,40,40,40,40,40,40,40,40,40,40,40,40,40,40,40,21]
[null,null,null,41,2.3076404369057869E-4,1.430470286951696E-4,1.8544088569471E-4,1.1123574281265699E-4,5.167956874837025E-5,5.4400510248688034E-6,0.120505185455476,0.14307574576486051,0.1671168143599554,5.7587602296234032E-2,2.033492468777344E-2,1.499614445301955E-2,2.8537918691100419E-2,3.0217964585797129E-2,1.4226782262299439E-2,3.9460964846929743E-2,9.050932824014135E-4,3.939124265248879E-5,6.7787764827193561E-3,2.9526668255176879E-6,null,null,null,null,null,null,null,null,null,null,81.240398456674029,-141.06879252468079,29.667999825596059,-25.584577410293271,-54.772050966172429,62.675141052603117,178.20911647863559,-0.90866673062162973,-91.769911039347733,94.486769455089103,71.005408268411358,-30.13628933239838,-73.019194502361856,-81.518512998683264,-179.86249632107169,23.317304419553519,129.24425310873161,-162.5088504562512,23.398061998676209,-175.6633911299312,null,null,null,null,null,null,null,null,null,null,2.2832242528740859E-2,3.621768827265736E-2,3.6227132310338597E-2,{"$f":"IF(MIN(BO$48:BO$77)=$BP$47,BO64,IF(BO64=MIN(BO$48:BO$77),BP$47,IF(BO64=\"\",$CT64,BO64)))","v":3.6227132310338597E-2},3.6227132310338597E-2,3.6227132310338597E-2,3.6227132310338597E-2,41,41,41,41,41,41,41,41,41,41,41,41,41,41,41,41,41,41,41,41,41,41,41,41,41,41,22]
[null,null,null,37,1.7869569986488741E-4,5.841672642564192E-3,8.4132975777708764E-4,9.4980633145570824E-4,5.9432154062309336E-4,4.7160202316969248E-2,5.6953769912641431E-3,8.7736377895312363E-3,4.8908371245095037E-3,1.021139603040031E-2,1.2285054319338479E-2,1.6143860050526651E-3,1.702963622301007E-2,1.319768825441997E-2,1.3702630651860369E-3,0.1754085249015008,1.280457391341084E-2,3.0006662240824878E-4,2.7214085634131181E-3,6.4594789800020813E-6,null,null,null,null,null,null,null,null,null,null,-90.219188490794778,-85.175599037289075,-94.734559513805834,-110.23183796272291,-124.7978593875002,-97.510746711171493,-107.4282053826835,-76.716767904002424,-92.565345571295154,-93.676687407402142,-91.484052970079517,178.69046886020999,88.000117952129457,113.84482422835799,-178.06643183662669,-179.1497097746846,113.6879922967135,-6.8515313131303346,104.208579569835,71.711289983348578,null,null,null,null,null,null,null,null,null,null,4.7535616055005593E-2,7.6750010364073813E-3,7.6836871093888658E-3,{"$f":"IF(MIN(BO$48:BO$77)=$BP$47,BO65,IF(BO65=MIN(BO$48:BO$77),BP$47,IF(BO65=\"\",$CT65,BO65)))","v":37},37,37,37,37,37,37,37,37,37,37,37,37,37,37,37,37,37,37,37,37,37,37,37,37,37,37,37,37,37,23]
[null,null,null,39,3.9201034036915971E-4,7.135752148275787E-3,4.4021666591728313E-2,4.3420461415348298E-2,2.1963395311790351E-2,1.2599890914828059E-3,1.110885150901578E-2,3.2748959807639591E-3,1.326588358471582E-2,1.7445476756069458E-2,4.8836876585234834E-3,1.0492094770273561E-2,3.6649999221133642E-2,2.400793530172891E-2,4.6574216797616672E-4,3.6547451098749108E-2,3.5280897497953691E-2,1.247446656499202E-5,0.16577749277298309,4.306372829571727E-5,null,null,null,null,null,null,null,null,null,null,63.386700744718347,-87.23976387848397,-93.430770078028701,-95.151529749845309,-133.97603986524331,43.365170734551903,-98.900696531016408,30.55910453192433,-148.6563430662687,-84.288890895914861,-98.982007343440145,176.65824845287381,93.679171843183653,80.65144927445597,-0.73358364286171351,-178.9643069307362,-175.04477343017609,-0.37885237136568423,103.4245235041929,150.11634807349941,null,null,null,null,null,null,null,null,null,null,0.25331535159955187,1.152678703639079E-2,1.191542338505136E-2,{"$f":"IF(MIN(BO$48:BO$77)=$BP$47,BO66,IF(BO66=MIN(BO$48:BO$77),BP$47,IF(BO66=\"\",$CT66,BO66)))","v":1.191542338505136E-2},1.191542338505136E-2,39,39,39,39,39,39,39,39,39,39,39,39,39,39,39,39,39,39,39,39,39,39,39,39,39,39,39,39,24]
[null,null,null,38,2.302903438587426E-2,4.1672856242902512E-2,6.5796633559697748E-3,2.0137471215372009E-2,4.3058380244738008E-2,1.451745998205155E-3,6.0384465828912156E-3,8.6796915422341428E-3,8.462821630020741E-3,2.237319304765104E-3,3.541910622041199E-3,5.817018894017199E-3,3.1298328650780699E-3,1.2362250648533239E-2,1.4448949566103981E-3,6.639967760255075E-2,1.4617078385539521E-2,7.1999825075754124E-5,3.2492862579259929E-2,2.0939268035287691E-5,null,null,null,null,null,null,null,null,null,null,-91.122481076650487,89.001692244310178,-132.46338021729051,-106.97308229732219,-96.675499617398486,-58.484200222475849,153.72286472130929,33.076833683641773,-93.281682012510245,111.79833373305389,-1.943609647516916,-90.479510686384728,-146.0016026419807,174.1880740450184,-8.587162619698443,-92.274245794258789,-8.0383440598746621,88.037763819414167,-153.34764511012739,2.2681415649789489,null,null,null,null,null,null,null,null,null,null,2.1948019940886208E-2,7.8934656182616351E-3,7.895367508098293E-3,{"$f":"IF(MIN(BO$48:BO$77)=$BP$47,BO67,IF(BO67=MIN(BO$48:BO$77),BP$47,IF(BO67=\"\",$CT67,BO67)))","v":7.895367508098293E-3},38,38,38,38,38,38,38,38,38,38,38,38,38,38,38,38,38,38,38,38,38,38,38,38,38,38,38,38,38,25]
[null,null,null,57,null,null,null,null,null,null,null,null,null,null,null,null,null,null,null,null,null,null,null,null,null,null,null,null,null,null,null,null,null,null,null,null,null,null,null,null,null,null,null,null,null,null,null,null,null,null,null,null,null,null,null,null,null,null,null,null,null,null,null,null,null,null,null,{"$f":"IF(MIN(BO$48:BO$77)=$BP$47,BO68,IF(BO68=MIN(BO$48:BO$77),BP$47,IF(BO68=\"\",$CT68,BO68)))","v":26},26,26,26,26,26,26,26,26,26,26,26,26,26,26,26,26,26,26,26,57,57,57,57,57,57,57,57,57,57,26]
[null,null,null,58,null,null,null,null,null,null,null,null,null,null,null,null,null,null,null,null,null,null,null,null,null,null,null,null,null,null,null,null,null,null,null,null,null,null,null,null,null,null,null,null,null,null,null,null,null,null,null,null,null,null,null,null,null,null,null,null,null,null,null,null,null,null,null,{"$f":"IF(MIN(BO$48:BO$77)=$BP$47,BO69,IF(BO69=MIN(BO$48:BO$77),BP$47,IF(BO69=\"\",$CT69,BO69)))","v":27},27,27,27,27,27,27,27,27,27,27,27,27,27,27,27,27,27,27,27,27,58,58,58,58,58,58,58,58,58,27]
[null,null,null,59,null,null,null,null,null,null,null,null,null,null,null,null,null,null,null,null,null,null,null,null,null,null,null,null,null,null,null,null,null,null,null,null,null,null,null,null,null,null,null,null,null,null,null,null,null,null,null,null,null,null,null,null,null,null,null,null,null,null,null,null,null,null,null,{"$f":"IF(MIN(BO$48:BO$77)=$BP$47,BO70,IF(BO70=MIN(BO$48:BO$77),BP$47,IF(BO70=\"\",$CT70,BO70)))","v":28},28,28,28,28,28,28,28,28,28,28,28,28,28,28,28,28,28,28,28,28,28,59,59,59,59,59,59,59,59,28]
[null,null,null,60,null,null,null,null,null,null,null,null,null,null,null,null,null,null,null,null,null,null,null,null,null,null,null,null,null,null,null,null,null,null,null,null,null,null,null,null,null,null,null,null,null,null,null,null,null,null,null,null,null,null,null,null,null,null,null,null,null,null,null,null,null,null,null,{"$f":"IF(MIN(BO$48:BO$77)=$BP$47,BO71,IF(BO71=MIN(BO$48:BO$77),BP$47,IF(BO71=\"\",$CT71,BO71)))","v":29},29,29,29,29,29,29,29,29,29,29,29,29,29,29,29,29,29,29,29,29,29,29,60,60,60,60,60,60,60,29]
[null,null,null,61,null,null,null,null,null,null,null,null,null,null,null,null,null,null,null,null,null,null,null,null,null,null,null,null,null,null,null,null,null,null,null,null,null,null,null,null,null,null,null,null,null,null,null,null,null,null,null,null,null,null,null,null,null,null,null,null,null,null,null,null,null,null,null,{"$f":"IF(MIN(BO$48:BO$77)=$BP$47,BO72,IF(BO72=MIN(BO$48:BO$77),BP$47,IF(BO72=\"\",$CT72,BO72)))","v":30},30,30,30,30,30,30,30,30,30,30,30,30,30,30,30,30,30,30,30,30,30,30,30,61,61,61,61,61,61,30]
[null,null,null,62,null,null,null,null,null,null,null,null,null,null,null,null,null,null,null,null,null,null,null,null,null,null,null,null,null,null,null,null,null,null,null,null,null,null,null,null,null,null,null,null,null,null,null,null,null,null,null,null,null,null,null,null,null,null,null,null,null,null,null,null,null,null,null,{"$f":"IF(MIN(BO$48:BO$77)=$BP$47,BO73,IF(BO73=MIN(BO$48:BO$77),BP$47,IF(BO73=\"\",$CT73,BO73)))","v":31},31,31,31,31,31,31,31,31,31,31,31,31,31,31,31,31,31,31,31,31,31,31,31,31,62,62,62,62,62,31]
[null,null,null,63,null,null,null,null,null,null,null,null,null,null,null,null,null,null,null,null,null,null,null,null,null,null,null,null,null,null,null,null,null,null,null,null,null,null,null,null,null,null,null,null,null,null,null,null,null,null,null,null,null,null,null,null,null,null,null,null,null,null,null,null,null,null,null,{"$f":"IF(MIN(BO$48:BO$77)=$BP$47,BO74,IF(BO74=MIN(BO$48:BO$77),BP$47,IF(BO74=\"\",$CT74,BO74)))","v":32},32,32,32,32,32,32,32,32,32,32,32,32,32,32,32,32,32,32,32,32,32,32,32,32,32,63,63,63,63,32]
[null,null,null,64,null,null,null,null,null,null,null,null,null,null,null,null,null,null,null,null,null,null,null,null,null,null,null,null,null,null,null,null,null,null,null,null,null,null,null,null,null,null,null,null,null,null,null,null,null,null,null,null,null,null,null,null,null,null,null,null,null,null,null,null,null,null,null,{"$f":"IF(MIN(BO$48:BO$77)=$BP$47,BO75,IF(BO75=MIN(BO$48:BO$77),BP$47,IF(BO75=\"\",$CT75,BO75)))","v":33},33,33,33,33,33,33,33,33,33,33,33,33,33,33,33,33,33,33,33,33,33,33,33,33,33,33,64,64,64,33]
[null,null,null,65,null,null,null,null,null,null,null,null,null,null,null,null,null,null,null,null,null,null,null,null,null,null,null,null,null,null,null,null,null,null,null,null,null,null,null,null,null,null,null,null,null,null,null,null,null,null,null,null,null,null,null,null,null,null,null,null,null,null,null,null,null,null,null,{"$f":"IF(MIN(BO$48:BO$77)=$BP$47,BO76,IF(BO76=MIN(BO$48:BO$77),BP$47,IF(BO76=\"\",$CT76,BO76)))","v":34},34,34,34,34,34,34,34,34,34,34,34,34,34,34,34,34,34,34,34,34,34,34,34,34,34,34,34,65,65,34]
[null,null,null,66,null,null,null,null,null,null,null,null,null,null,null,null,null,null,null,null,null,null,null,null,null,null,null,null,null,null,null,null,null,null,null,null,null,null,null,null,null,null,null,null,null,null,null,null,null,null,null,null,null,null,null,null,null,null,null,null,null,null,null,null,null,null,null,{"$f":"IF(MIN(BO$48:BO$77)=$BP$47,BO77,IF(BO77=MIN(BO$48:BO$77),BP$47,IF(BO77=\"\",$CT77,BO77)))","v":35},35,35,35,35,35,35,35,35,35,35,35,35,35,35,35,35,35,35,35,35,35,35,35,35,35,35,35,35,66,35]

{"sheet":"4 RPM","index":3,"n_rows":77,"n_cols":98,"rows_kept":77,"cut":false,"hidden":false,"merged":[[8,56,8,57],[8,58,8,59],[8,60,8,61],[8,62,8,63],[8,44,8,45],[8,46,8,47],[8,48,8,49],[8,50,8,51],[8,52,8,53],[8,54,8,55],[8,32,8,33],[8,34,8,35],[8,36,8,37],[8,38,8,39],[8,40,8,41],[8,42,8,43],[8,20,8,21],[8,22,8,23],[8,24,8,25],[8,26,8,27],[8,28,8,29],[8,30,8,31],[7,62,7,63],[8,2,8,3],[8,4,8,5],[8,6,8,7],[8,8,8,9],[8,10,8,11],[8,12,8,13],[8,14,8,15],[8,16,8,17],[8,18,8,19],[7,50,7,51],[7,52,7,53],[7,54,7,55],[7,56,7,57],[7,58,7,59],[7,60,7,61],[7,38,7,39],[7,40,7,41],[7,42,7,43],[7,44,7,45],[7,46,7,47],[7,48,7,49],[7,26,7,27],[7,28,7,29],[7,30,7,31],[7,32,7,33],[7,34,7,35],[7,36,7,37],[7,14,7,15],[7,16,7,17],[7,18,7,19],[7,20,7,21],[7,22,7,23],[7,24,7,25],[6,56,6,57],[6,58,6,59],[6,60,6,61],[6,62,6,63],[7,2,7,3],[7,4,7,5],[7,6,7,7],[7,8,7,9],[7,10,7,11],[7,12,7,13],[6,44,6,45],[6,46,6,47],[6,48,6,49],[6,50,6,51],[6,52,6,53],[6,54,6,55],[6,32,6,33],[6,34,6,35],[6,36,6,37],[6,38,6,39],[6,40,6,41],[6,42,6,43],[6,20,6,21],[6,22,6,23],[6,24,6,25],[6,26,6,27],[6,28,6,29],[6,30,6,31],[5,62,5,63],[6,2,6,3],[6,4,6,5],[6,6,6,7],[6,8,6,9],[6,10,6,11],[6,12,6,13],[6,14,6,15],[6,16,6,17],[6,18,6,19],[5,50,5,51],[5,52,5,53],[5,54,5,55],[5,56,5,57],[5,58,5,59],[5,60,5,61],[5,38,5,39],[5,40,5,41],[5,42,5,43],[5,44,5,45],[5,2,5,3],[5,4,5,5],[5,6,5,7],[5,8,5,9],[5,10,5,11],[5,12,5,13],[5,46,5,47],[5,48,5,49],[5,26,5,27],[5,28,5,29],[5,30,5,31],[5,32,5,33],[5,34,5,35],[5,36,5,37],[5,14,5,15],[5,16,5,17],[5,18,5,19],[5,20,5,21],[5,22,5,23],[5,24,5,25]]}
["This worksheet is used to sort the mode shapes and frequencies and to help you determine which modes are which for up to 30 modes (up to 30 DOFs)."]
["To use this spreadsheet, paste the appropriate data output from MBC3 into the six gray cells marked with comments (DescStates, MBC_ModeShapeMagnitude, MBC_ModeShapePhaseDeg_MBC_DampingRatio, MBC_DampedFrequencyHz, MBC_NaturalFrequencyHz).  The Scaling should be calculated according to the comment, but is not output by MBC3.  Do not change any other cell!"]
["NOTE: This spreadsheet doesn't work if any natural (undamped) frequency is 0.0 or if any natural (undamped) frequency is in duplicate--to avoid the resulting error, in the cells where the frequencies are pasted-in, change the error-causing frequency (or frequencies) by a very small amount!"]
[null,null,null,"BladeLength",117,"TowerHt",144.495]
[null,null,"Mode Shapes and Frequencies"]
[null,null,"Mode Number",null,1,null,{"$f":"E6+1","v":2},null,{"$f":"G6+1","v":3},null,{"$f":"I6+1","v":4},null,{"$f":"K6+1","v":5},null,{"$f":"M6+1","v":6},null,{"$f":"O6+1","v":7},null,{"$f":"Q6+1","v":8},null,{"$f":"S6+1","v":9},null,{"$f":"U6+1","v":10},null,{"$f":"W6+1","v":11},null,{"$f":"Y6+1","v":12},null,{"$f":"AA6+1","v":13},null,{"$f":"AC6+1","v":14},null,{"$f":"AE6+1","v":15},null,{"$f":"AG6+1","v":16},null,{"$f":"AI6+1","v":17},null,{"$f":"AK6+1","v":18},null,{"$f":"AM6+1","v":19},null,{"$f":"AO6+1","v":20},null,{"$f":"AQ6+1","v":21},null,{"$f":"AS6+1","v":22},null,{"$f":"AU6+1","v":23},null,{"$f":"AW6+1","v":24},null,{"$f":"AY6+1","v":25},null,{"$f":"BA6+1","v":26},null,{"$f":"BC6+1","v":27},null,{"$f":"BE6+1","v":28},null,{"$f":"BG6+1","v":29},null,{"$f":"BI6+1","v":30}]
[null,null,"Natural (Undamped) Frequencies (Hz)",null,{"$f":"IF(VLOOKUP(E$6+$BO$47,$D$48:$BO$77,64,FALSE)=\"\",\"\",VLOOKUP(E$6+$BO$47,$D$48:$BO$77,64,FALSE))","v":7.7106101011683598E-3},null,{"$f":"IF(VLOOKUP(G$6+$BO$47,$D$48:$BO$77,64,FALSE)=\"\",\"\",VLOOKUP(G$6+$BO$47,$D$48:$BO$77,64,FALSE))","v":7.8618457735360001E-3},null,{"$f":"IF(VLOOKUP(I$6+$BO$47,$D$48:$BO$77,64,FALSE)=\"\",\"\",VLOOKUP(I$6+$BO$47,$D$48:$BO$77,64,FALSE))","v":1.191062716661517E-2},null,{"$f":"IF(VLOOKUP(K$6+$BO$47,$D$48:$BO$77,64,FALSE)=\"\",\"\",VLOOKUP(K$6+$BO$47,$D$48:$BO$77,64,FALSE))","v":3.6130377473582387E-2},null,{"$f":"IF(VLOOKUP(M$6+$BO$47,$D$48:$BO$77,64,FALSE)=\"\",\"\",VLOOKUP(M$6+$BO$47,$D$48:$BO$77,64,FALSE))","v":3.6190268820279897E-2},null,{"$f":"IF(VLOOKUP(O$6+$BO$47,$D$48:$BO$77,64,FALSE)=\"\",\"\",VLOOKUP(O$6+$BO$47,$D$48:$BO$77,64,FALSE))","v":5.0578619581903177E-2},null,{"$f":"IF(VLOOKUP(Q$6+$BO$47,$D$48:$BO$77,64,FALSE)=\"\",\"\",VLOOKUP(Q$6+$BO$47,$D$48:$BO$77,64,FALSE))","v":0.42200366896232983},null,{"$f":"IF(VLOOKUP(S$6+$BO$47,$D$48:$BO$77,64,FALSE)=\"\",\"\",VLOOKUP(S$6+$BO$47,$D$48:$BO$77,64,FALSE))","v":0.42646777655194451},null,{"$f":"IF(VLOOKUP(U$6+$BO$47,$D$48:$BO$77,64,FALSE)=\"\",\"\",VLOOKUP(U$6+$BO$47,$D$48:$BO$77,64,FALSE))","v":0.5098784913259321},null,{"$f":"IF(VLOOKUP(W$6+$BO$47,$D$48:$BO$77,64,FALSE)=\"\",\"\",VLOOKUP(W$6+$BO$47,$D$48:$BO$77,64,FALSE))","v":0.57857653795223896},null,{"$f":"IF(VLOOKUP(Y$6+$BO$47,$D$48:$BO$77,64,FALSE)=\"\",\"\",VLOOKUP(Y$6+$BO$47,$D$48:$BO$77,64,FALSE))","v":0.5899839245078311},null,{"$f":"IF(VLOOKUP(AA$6+$BO$47,$D$48:$BO$77,64,FALSE)=\"\",\"\",VLOOKUP(AA$6+$BO$47,$D$48:$BO$77,64,FALSE))","v":0.63479084445936307},null,{"$f":"IF(VLOOKUP(AC$6+$BO$47,$D$48:$BO$77,64,FALSE)=\"\",\"\",VLOOKUP(AC$6+$BO$47,$D$48:$BO$77,64,FALSE))","v":0.67718967159381704},null,{"$f":"IF(VLOOKUP(AE$6+$BO$47,$D$48:$BO$77,64,FALSE)=\"\",\"\",VLOOKUP(AE$6+$BO$47,$D$48:$BO$77,64,FALSE))","v":0.72728179516213298},null,{"$f":"IF(VLOOKUP(AG$6+$BO$47,$D$48:$BO$77,64,FALSE)=\"\",\"\",VLOOKUP(AG$6+$BO$47,$D$48:$BO$77,64,FALSE))","v":2.356851746731381},null,{"$f":"IF(VLOOKUP(AI$6+$BO$47,$D$48:$BO$77,64,FALSE)=\"\",\"\",VLOOKUP(AI$6+$BO$47,$D$48:$BO$77,64,FALSE))","v":2.4533946279533652},null,{"$f":"IF(VLOOKUP(AK$6+$BO$47,$D$48:$BO$77,64,FALSE)=\"\",\"\",VLOOKUP(AK$6+$BO$47,$D$48:$BO$77,64,FALSE))","v":2.4738645970753499},null,{"$f":"IF(VLOOKUP(AM$6+$BO$47,$D$48:$BO$77,64,FALSE)=\"\",\"\",VLOOKUP(AM$6+$BO$47,$D$48:$BO$77,64,FALSE))","v":2.576260635998457},null,{"$f":"IF(VLOOKUP(AO$6+$BO$47,$D$48:$BO$77,64,FALSE)=\"\",\"\",VLOOKUP(AO$6+$BO$47,$D$48:$BO$77,64,FALSE))","v":2.6712590749359268},null,{"$f":"IF(VLOOKUP(AQ$6+$BO$47,$D$48:$BO$77,64,FALSE)=\"\",\"\",VLOOKUP(AQ$6+$BO$47,$D$48:$BO$77,64,FALSE))","v":4.8080882414248052},null,{"$f":"IF(VLOOKUP(AS$6+$BO$47,$D$48:$BO$77,64,FALSE)=\"\",\"\",VLOOKUP(AS$6+$BO$47,$D$48:$BO$77,64,FALSE))","v":""},null,{"$f":"IF(VLOOKUP(AU$6+$BO$47,$D$48:$BO$77,64,FALSE)=\"\",\"\",VLOOKUP(AU$6+$BO$47,$D$48:$BO$77,64,FALSE))","v":""},null,{"$f":"IF(VLOOKUP(AW$6+$BO$47,$D$48:$BO$77,64,FALSE)=\"\",\"\",VLOOKUP(AW$6+$BO$47,$D$48:$BO$77,64,FALSE))","v":""},null,{"$f":"IF(VLOOKUP(AY$6+$BO$47,$D$48:$BO$77,64,FALSE)=\"\",\"\",VLOOKUP(AY$6+$BO$47,$D$48:$BO$77,64,FALSE))","v":""},null,{"$f":"IF(VLOOKUP(BA$6+$BO$47,$D$48:$BO$77,64,FALSE)=\"\",\"\",VLOOKUP(BA$6+$BO$47,$D$48:$BO$77,64,FALSE))","v":""},null,{"$f":"IF(VLOOKUP(BC$6+$BO$47,$D$48:$BO$77,64,FALSE)=\"\",\"\",VLOOKUP(BC$6+$BO$47,$D$48:$BO$77,64,FALSE))","v":""},null,{"$f":"IF(VLOOKUP(BE$6+$BO$47,$D$48:$BO$77,64,FALSE)=\"\",\"\",VLOOKUP(BE$6+$BO$47,$D$48:$BO$77,64,FALSE))","v":""},null,{"$f":"IF(VLOOKUP(BG$6+$BO$47,$D$48:$BO$77,64,FALSE)=\"\",\"\",VLOOKUP(BG$6+$BO$47,$D$48:$BO$77,64,FALSE))","v":""},null,{"$f":"IF(VLOOKUP(BI$6+$BO$47,$D$48:$BO$77,64,FALSE)=\"\",\"\",VLOOKUP(BI$6+$BO$47,$D$48:$BO$77,64,FALSE))","v":""},null,{"$f":"IF(VLOOKUP(BK$6+$BO$47,$D$48:$BO$77,64,FALSE)=\"\",\"\",VLOOKUP(BK$6+$BO$47,$D$48:$BO$77,64,FALSE))","v":""}]
[null,null,"Damped Frequencies (Hz)",null,{"$f":"IF(VLOOKUP(E$6+$BO$47,$D$48:$BO$77,63,FALSE)=\"\",\"\",VLOOKUP(E$6+$BO$47,$D$48:$BO$77,63,FALSE))","v":7.6988713178474978E-3},null,{"$f":"IF(VLOOKUP(G$6+$BO$47,$D$48:$BO$77,63,FALSE)=\"\",\"\",VLOOKUP(G$6+$BO$47,$D$48:$BO$77,63,FALSE))","v":7.8599363556239813E-3},null,{"$f":"IF(VLOOKUP(I$6+$BO$47,$D$48:$BO$77,63,FALSE)=\"\",\"\",VLOOKUP(I$6+$BO$47,$D$48:$BO$77,63,FALSE))","v":1.151856927271828E-2},null,{"$f":"IF(VLOOKUP(K$6+$BO$47,$D$48:$BO$77,63,FALSE)=\"\",\"\",VLOOKUP(K$6+$BO$47,$D$48:$BO$77,63,FALSE))","v":3.6120373784333172E-2},null,{"$f":"IF(VLOOKUP(M$6+$BO$47,$D$48:$BO$77,63,FALSE)=\"\",\"\",VLOOKUP(M$6+$BO$47,$D$48:$BO$77,63,FALSE))","v":3.6181202350228189E-2},null,{"$f":"IF(VLOOKUP(O$6+$BO$47,$D$48:$BO$77,63,FALSE)=\"\",\"\",VLOOKUP(O$6+$BO$47,$D$48:$BO$77,63,FALSE))","v":5.0577814955763092E-2},null,{"$f":"IF(VLOOKUP(Q$6+$BO$47,$D$48:$BO$77,63,FALSE)=\"\",\"\",VLOOKUP(Q$6+$BO$47,$D$48:$BO$77,63,FALSE))","v":0.42197796331113979},null,{"$f":"IF(VLOOKUP(S$6+$BO$47,$D$48:$BO$77,63,FALSE)=\"\",\"\",VLOOKUP(S$6+$BO$47,$D$48:$BO$77,63,FALSE))","v":0.42645488219392469},null,{"$f":"IF(VLOOKUP(U$6+$BO$47,$D$48:$BO$77,63,FALSE)=\"\",\"\",VLOOKUP(U$6+$BO$47,$D$48:$BO$77,63,FALSE))","v":0.50967001412126456},null,{"$f":"IF(VLOOKUP(W$6+$BO$47,$D$48:$BO$77,63,FALSE)=\"\",\"\",VLOOKUP(W$6+$BO$47,$D$48:$BO$77,63,FALSE))","v":0.57832649830654392},null,{"$f":"IF(VLOOKUP(Y$6+$BO$47,$D$48:$BO$77,63,FALSE)=\"\",\"\",VLOOKUP(Y$6+$BO$47,$D$48:$BO$77,63,FALSE))","v":0.58967788864319715},null,{"$f":"IF(VLOOKUP(AA$6+$BO$47,$D$48:$BO$77,63,FALSE)=\"\",\"\",VLOOKUP(AA$6+$BO$47,$D$48:$BO$77,63,FALSE))","v":0.63457931694410985},null,{"$f":"IF(VLOOKUP(AC$6+$BO$47,$D$48:$BO$77,63,FALSE)=\"\",\"\",VLOOKUP(AC$6+$BO$47,$D$48:$BO$77,63,FALSE))","v":0.67693520113881644},null,{"$f":"IF(VLOOKUP(AE$6+$BO$47,$D$48:$BO$77,63,FALSE)=\"\",\"\",VLOOKUP(AE$6+$BO$47,$D$48:$BO$77,63,FALSE))","v":0.72701135064802203},null,{"$f":"IF(VLOOKUP(AG$6+$BO$47,$D$48:$BO$77,63,FALSE)=\"\",\"\",VLOOKUP(AG$6+$BO$47,$D$48:$BO$77,63,FALSE))","v":2.341677715301274},null,{"$f":"IF(VLOOKUP(AI$6+$BO$47,$D$48:$BO$77,63,FALSE)=\"\",\"\",VLOOKUP(AI$6+$BO$47,$D$48:$BO$77,63,FALSE))","v":2.4324399451689298},null,{"$f":"IF(VLOOKUP(AK$6+$BO$47,$D$48:$BO$77,63,FALSE)=\"\",\"\",VLOOKUP(AK$6+$BO$47,$D$48:$BO$77,63,FALSE))","v":2.4643369942688471},null,{"$f":"IF(VLOOKUP(AM$6+$BO$47,$D$48:$BO$77,63,FALSE)=\"\",\"\",VLOOKUP(AM$6+$BO$47,$D$48:$BO$77,63,FALSE))","v":2.570905828815981},null,{"$f":"IF(VLOOKUP(AO$6+$BO$47,$D$48:$BO$77,63,FALSE)=\"\",\"\",VLOOKUP(AO$6+$BO$47,$D$48:$BO$77,63,FALSE))","v":2.6708511943089239},null,{"$f":"IF(VLOOKUP(AQ$6+$BO$47,$D$48:$BO$77,63,FALSE)=\"\",\"\",VLOOKUP(AQ$6+$BO$47,$D$48:$BO$77,63,FALSE))","v":4.8055277376061518},null,{"$f":"IF(VLOOKUP(AS$6+$BO$47,$D$48:$BO$77,63,FALSE)=\"\",\"\",VLOOKUP(AS$6+$BO$47,$D$48:$BO$77,63,FALSE))","v":""},null,{"$f":"IF(VLOOKUP(AU$6+$BO$47,$D$48:$BO$77,63,FALSE)=\"\",\"\",VLOOKUP(AU$6+$BO$47,$D$48:$BO$77,63,FALSE))","v":""},null,{"$f":"IF(VLOOKUP(AW$6+$BO$47,$D$48:$BO$77,63,FALSE)=\"\",\"\",VLOOKUP(AW$6+$BO$47,$D$48:$BO$77,63,FALSE))","v":""},null,{"$f":"IF(VLOOKUP(AY$6+$BO$47,$D$48:$BO$77,63,FALSE)=\"\",\"\",VLOOKUP(AY$6+$BO$47,$D$48:$BO$77,63,FALSE))","v":""},null,{"$f":"IF(VLOOKUP(BA$6+$BO$47,$D$48:$BO$77,63,FALSE)=\"\",\"\",VLOOKUP(BA$6+$BO$47,$D$48:$BO$77,63,FALSE))","v":""},null,{"$f":"IF(VLOOKUP(BC$6+$BO$47,$D$48:$BO$77,63,FALSE)=\"\",\"\",VLOOKUP(BC$6+$BO$47,$D$48:$BO$77,63,FALSE))","v":""},null,{"$f":"IF(VLOOKUP(BE$6+$BO$47,$D$48:$BO$77,63,FALSE)=\"\",\"\",VLOOKUP(BE$6+$BO$47,$D$48:$BO$77,63,FALSE))","v":""},null,{"$f":"IF(VLOOKUP(BG$6+$BO$47,$D$48:$BO$77,63,FALSE)=\"\",\"\",VLOOKUP(BG$6+$BO$47,$D$48:$BO$77,63,FALSE))","v":""},null,{"$f":"IF(VLOOKUP(BI$6+$BO$47,$D$48:$BO$77,63,FALSE)=\"\",\"\",VLOOKUP(BI$6+$BO$47,$D$48:$BO$77,63,FALSE))","v":""},null,{"$f":"IF(VLOOKUP(BK$6+$BO$47,$D$48:$BO$77,63,FALSE)=\"\",\"\",VLOOKUP(BK$6+$BO$47,$D$48:$BO$77,63,FALSE))","v":""}]
[null,null,"Damping Ratio (-)",null,{"$f":"IF(VLOOKUP(E$6+$BO$47,$D$48:$BO$77,62,FALSE)=\"\",\"\",VLOOKUP(E$6+$BO$47,$D$48:$BO$77,62,FALSE))","v":5.5159054348893517E-2},null,{"$f":"IF(VLOOKUP(G$6+$BO$47,$D$48:$BO$77,62,FALSE)=\"\",\"\",VLOOKUP(G$6+$BO$47,$D$48:$BO$77,62,FALSE))","v":2.2038237699881211E-2},null,{"$f":"IF(VLOOKUP(I$6+$BO$47,$D$48:$BO$77,62,FALSE)=\"\",\"\",VLOOKUP(I$6+$BO$47,$D$48:$BO$77,62,FALSE))","v":0.25445979198407559},null,{"$f":"IF(VLOOKUP(K$6+$BO$47,$D$48:$BO$77,62,FALSE)=\"\",\"\",VLOOKUP(K$6+$BO$47,$D$48:$BO$77,62,FALSE))","v":2.3530371339813939E-2},null,{"$f":"IF(VLOOKUP(M$6+$BO$47,$D$48:$BO$77,62,FALSE)=\"\",\"\",VLOOKUP(M$6+$BO$47,$D$48:$BO$77,62,FALSE))","v":2.2382624411628419E-2},null,{"$f":"IF(VLOOKUP(O$6+$BO$47,$D$48:$BO$77,62,FALSE)=\"\",\"\",VLOOKUP(O$6+$BO$47,$D$48:$BO$77,62,FALSE))","v":5.6406201337480619E-3},null,{"$f":"IF(VLOOKUP(Q$6+$BO$47,$D$48:$BO$77,62,FALSE)=\"\",\"\",VLOOKUP(Q$6+$BO$47,$D$48:$BO$77,62,FALSE))","v":1.103734393482032E-2},null,{"$f":"IF(VLOOKUP(S$6+$BO$47,$D$48:$BO$77,62,FALSE)=\"\",\"\",VLOOKUP(S$6+$BO$47,$D$48:$BO$77,62,FALSE))","v":7.7762187011995616E-3},null,{"$f":"IF(VLOOKUP(U$6+$BO$47,$D$48:$BO$77,62,FALSE)=\"\",\"\",VLOOKUP(U$6+$BO$47,$D$48:$BO$77,62,FALSE))","v":2.8593448847440191E-2},null,{"$f":"IF(VLOOKUP(W$6+$BO$47,$D$48:$BO$77,62,FALSE)=\"\",\"\",VLOOKUP(W$6+$BO$47,$D$48:$BO$77,62,FALSE))","v":2.939626131922948E-2},null,{"$f":"IF(VLOOKUP(Y$6+$BO$47,$D$48:$BO$77,62,FALSE)=\"\",\"\",VLOOKUP(Y$6+$BO$47,$D$48:$BO$77,62,FALSE))","v":3.2205106860382589E-2},null,{"$f":"IF(VLOOKUP(AA$6+$BO$47,$D$48:$BO$77,62,FALSE)=\"\",\"\",VLOOKUP(AA$6+$BO$47,$D$48:$BO$77,62,FALSE))","v":2.581350170182407E-2},null,{"$f":"IF(VLOOKUP(AC$6+$BO$47,$D$48:$BO$77,62,FALSE)=\"\",\"\",VLOOKUP(AC$6+$BO$47,$D$48:$BO$77,62,FALSE))","v":2.7411810140728111E-2},null,{"$f":"IF(VLOOKUP(AE$6+$BO$47,$D$48:$BO$77,62,FALSE)=\"\",\"\",VLOOKUP(AE$6+$BO$47,$D$48:$BO$77,62,FALSE))","v":2.7268569152451839E-2},null,{"$f":"IF(VLOOKUP(AG$6+$BO$47,$D$48:$BO$77,62,FALSE)=\"\",\"\",VLOOKUP(AG$6+$BO$47,$D$48:$BO$77,62,FALSE))","v":0.1132919891124872},null,{"$f":"IF(VLOOKUP(AI$6+$BO$47,$D$48:$BO$77,62,FALSE)=\"\",\"\",VLOOKUP(AI$6+$BO$47,$D$48:$BO$77,62,FALSE))","v":0.1304194951028648},null,{"$f":"IF(VLOOKUP(AK$6+$BO$47,$D$48:$BO$77,62,FALSE)=\"\",\"\",VLOOKUP(AK$6+$BO$47,$D$48:$BO$77,62,FALSE))","v":8.7679952089923283E-2},null,{"$f":"IF(VLOOKUP(AM$6+$BO$47,$D$48:$BO$77,62,FALSE)=\"\",\"\",VLOOKUP(AM$6+$BO$47,$D$48:$BO$77,62,FALSE))","v":6.4441587095291589E-2},null,{"$f":"IF(VLOOKUP(AO$6+$BO$47,$D$48:$BO$77,62,FALSE)=\"\",\"\",VLOOKUP(AO$6+$BO$47,$D$48:$BO$77,62,FALSE))","v":1.747458830328167E-2},null,{"$f":"IF(VLOOKUP(AQ$6+$BO$47,$D$48:$BO$77,62,FALSE)=\"\",\"\",VLOOKUP(AQ$6+$BO$47,$D$48:$BO$77,62,FALSE))","v":3.2631246907325037E-2},null,{"$f":"IF(VLOOKUP(AS$6+$BO$47,$D$48:$BO$77,62,FALSE)=\"\",\"\",VLOOKUP(AS$6+$BO$47,$D$48:$BO$77,62,FALSE))","v":""},null,{"$f":"IF(VLOOKUP(AU$6+$BO$47,$D$48:$BO$77,62,FALSE)=\"\",\"\",VLOOKUP(AU$6+$BO$47,$D$48:$BO$77,62,FALSE))","v":""},null,{"$f":"IF(VLOOKUP(AW$6+$BO$47,$D$48:$BO$77,62,FALSE)=\"\",\"\",VLOOKUP(AW$6+$BO$47,$D$48:$BO$77,62,FALSE))","v":""},null,{"$f":"IF(VLOOKUP(AY$6+$BO$47,$D$48:$BO$77,62,FALSE)=\"\",\"\",VLOOKUP(AY$6+$BO$47,$D$48:$BO$77,62,FALSE))","v":""},null,{"$f":"IF(VLOOKUP(BA$6+$BO$47,$D$48:$BO$77,62,FALSE)=\"\",\"\",VLOOKUP(BA$6+$BO$47,$D$48:$BO$77,62,FALSE))","v":""},null,{"$f":"IF(VLOOKUP(BC$6+$BO$47,$D$48:$BO$77,62,FALSE)=\"\",\"\",VLOOKUP(BC$6+$BO$47,$D$48:$BO$77,62,FALSE))","v":""},null,{"$f":"IF(VLOOKUP(BE$6+$BO$47,$D$48:$BO$77,62,FALSE)=\"\",\"\",VLOOKUP(BE$6+$BO$47,$D$48:$BO$77,62,FALSE))","v":""},null,{"$f":"IF(VLOOKUP(BG$6+$BO$47,$D$48:$BO$77,62,FALSE)=\"\",\"\",VLOOKUP(BG$6+$BO$47,$D$48:$BO$77,62,FALSE))","v":""},null,{"$f":"IF(VLOOKUP(BI$6+$BO$47,$D$48:$BO$77,62,FALSE)=\"\",\"\",VLOOKUP(BI$6+$BO$47,$D$48:$BO$77,62,FALSE))","v":""},null,{"$f":"IF(VLOOKUP(BK$6+$BO$47,$D$48:$BO$77,62,FALSE)=\"\",\"\",VLOOKUP(BK$6+$BO$47,$D$48:$BO$77,62,FALSE))","v":""}]
[null,null,"States","Scaling","Magnitude (rad)","Phase (deg)","Magnitude (rad)","Phase (deg)","Magnitude (rad)","Phase (deg)","Magnitude (rad)","Phase (deg)","Magnitude (rad)","Phase (deg)","Magnitude (rad)","Phase (deg)","Magnitude (rad)","Phase (deg)","Magnitude (rad)","Phase (deg)","Magnitude (rad)","Phase (deg)","Magnitude (rad)","Phase (deg)","Magnitude (rad)","Phase (deg)","Magnitude (rad)","Phase (deg)","Magnitude (rad)","Phase (deg)","Magnitude (rad)","Phase (deg)","Magnitude (rad)","Phase (deg)","Magnitude (rad)","Phase (deg)","Magnitude (rad)","Phase (deg)","Magnitude (rad)","Phase (deg)","Magnitude (rad)","Phase (deg)","Magnitude (rad)","Phase (deg)","Magnitude (rad)","Phase (deg)","Magnitude (rad)","Phase (deg)","Magnitude (rad)","Phase (deg)","Magnitude (rad)","Phase (deg)","Magnitude (rad)","Phase (deg)","Magnitude (rad)","Phase (deg)","Magnitude (rad)","Phase (deg)","Magnitude (rad)","Phase (deg)","Magnitude (rad)","Phase (deg)","Magnitude (rad)","Phase (deg)"]
[null,1,"ED Platform horizontal surge translation DOF (internal DOF index = DOF_Sg), m",1,{"$f":"IF(HLOOKUP(E$6+$BO$47,$E$47:$AH$77,$B11+1,FALSE)=\"\",\"\",HLOOKUP(E$6+$BO$47,$E$47:$AH$77,$B11+1,FALSE)*$D11)","v":0.99882726647760045},{"$f":"IF(HLOOKUP(E$6+$BO$47,$AI$47:$BL$77,$B11+1,FALSE)=\"\",\"\",HLOOKUP(E$6+$BO$47,$AI$47:$BL$77,$B11+1,FALSE))","v":0},{"$f":"IF(HLOOKUP(G$6+$BO$47,$E$47:$AH$77,$B11+1,FALSE)=\"\",\"\",HLOOKUP(G$6+$BO$47,$E$47:$AH$77,$B11+1,FALSE)*$D11)","v":2.2933932968335099E-4},{"$f":"IF(HLOOKUP(G$6+$BO$47,$AI$47:$BL$77,$B11+1,FALSE)=\"\",\"\",HLOOKUP(G$6+$BO$47,$AI$47:$BL$77,$B11+1,FALSE))","v":-138.33443270654669},{"$f":"IF(HLOOKUP(I$6+$BO$47,$E$47:$AH$77,$B11+1,FALSE)=\"\",\"\",HLOOKUP(I$6+$BO$47,$E$47:$AH$77,$B11+1,FALSE)*$D11)","v":3.2360924199942187E-2},{"$f":"IF(HLOOKUP(I$6+$BO$47,$AI$47:$BL$77,$B11+1,FALSE)=\"\",\"\",HLOOKUP(I$6+$BO$47,$AI$47:$BL$77,$B11+1,FALSE))","v":-47.328971978981038},{"$f":"IF(HLOOKUP(K$6+$BO$47,$E$47:$AH$77,$B11+1,FALSE)=\"\",\"\",HLOOKUP(K$6+$BO$47,$E$47:$AH$77,$B11+1,FALSE)*$D11)","v":0.51014776682372565},{"$f":"IF(HLOOKUP(K$6+$BO$47,$AI$47:$BL$77,$B11+1,FALSE)=\"\",\"\",HLOOKUP(K$6+$BO$47,$AI$47:$BL$77,$B11+1,FALSE))","v":180},{"$f":"IF(HLOOKUP(M$6+$BO$47,$E$47:$AH$77,$B11+1,FALSE)=\"\",\"\",HLOOKUP(M$6+$BO$47,$E$47:$AH$77,$B11+1,FALSE)*$D11)","v":0.1688786283278732},{"$f":"IF(HLOOKUP(M$6+$BO$47,$AI$47:$BL$77,$B11+1,FALSE)=\"\",\"\",HLOOKUP(M$6+$BO$47,$AI$47:$BL$77,$B11+1,FALSE))","v":140.72703447539291},{"$f":"IF(HLOOKUP(O$6+$BO$47,$E$47:$AH$77,$B11+1,FALSE)=\"\",\"\",HLOOKUP(O$6+$BO$47,$E$47:$AH$77,$B11+1,FALSE)*$D11)","v":2.0022655695543221E-3},{"$f":"IF(HLOOKUP(O$6+$BO$47,$AI$47:$BL$77,$B11+1,FALSE)=\"\",\"\",HLOOKUP(O$6+$BO$47,$AI$47:$BL$77,$B11+1,FALSE))","v":-177.0955148534141},{"$f":"IF(HLOOKUP(Q$6+$BO$47,$E$47:$AH$77,$B11+1,FALSE)=\"\",\"\",HLOOKUP(Q$6+$BO$47,$E$47:$AH$77,$B11+1,FALSE)*$D11)","v":2.5912570008915299E-3},{"$f":"IF(HLOOKUP(Q$6+$BO$47,$AI$47:$BL$77,$B11+1,FALSE)=\"\",\"\",HLOOKUP(Q$6+$BO$47,$AI$47:$BL$77,$B11+1,FALSE))","v":94.234202376317072},{"$f":"IF(HLOOKUP(S$6+$BO$47,$E$47:$AH$77,$B11+1,FALSE)=\"\",\"\",HLOOKUP(S$6+$BO$47,$E$47:$AH$77,$B11+1,FALSE)*$D11)","v":2.534259180636364E-3},{"$f":"IF(HLOOKUP(S$6+$BO$47,$AI$47:$BL$77,$B11+1,FALSE)=\"\",\"\",HLOOKUP(S$6+$BO$47,$AI$47:$BL$77,$B11+1,FALSE))","v":93.488104083720145},{"$f":"IF(HLOOKUP(U$6+$BO$47,$E$47:$AH$77,$B11+1,FALSE)=\"\",\"\",HLOOKUP(U$6+$BO$47,$E$47:$AH$77,$B11+1,FALSE)*$D11)","v":6.7486904225993831E-4},{"$f":"IF(HLOOKUP(U$6+$BO$47,$AI$47:$BL$77,$B11+1,FALSE)=\"\",\"\",HLOOKUP(U$6+$BO$47,$AI$47:$BL$77,$B11+1,FALSE))","v":172.3105279966274},{"$f":"IF(HLOOKUP(W$6+$BO$47,$E$47:$AH$77,$B11+1,FALSE)=\"\",\"\",HLOOKUP(W$6+$BO$47,$E$47:$AH$77,$B11+1,FALSE)*$D11)","v":2.151399854760653E-4},{"$f":"IF(HLOOKUP(W$6+$BO$47,$AI$47:$BL$77,$B11+1,FALSE)=\"\",\"\",HLOOKUP(W$6+$BO$47,$AI$47:$BL$77,$B11+1,FALSE))","v":-95.672008685067198},{"$f":"IF(HLOOKUP(Y$6+$BO$47,$E$47:$AH$77,$B11+1,FALSE)=\"\",\"\",HLOOKUP(Y$6+$BO$47,$E$47:$AH$77,$B11+1,FALSE)*$D11)","v":1.6084164535829461E-4},{"$f":"IF(HLOOKUP(Y$6+$BO$47,$AI$47:$BL$77,$B11+1,FALSE)=\"\",\"\",HLOOKUP(Y$6+$BO$47,$AI$47:$BL$77,$B11+1,FALSE))","v":-121.37884678878859},{"$f":"IF(HLOOKUP(AA$6+$BO$47,$E$47:$AH$77,$B11+1,FALSE)=\"\",\"\",HLOOKUP(AA$6+$BO$47,$E$47:$AH$77,$B11+1,FALSE)*$D11)","v":3.0640946326517221E-4},{"$f":"IF(HLOOKUP(AA$6+$BO$47,$AI$47:$BL$77,$B11+1,FALSE)=\"\",\"\",HLOOKUP(AA$6+$BO$47,$AI$47:$BL$77,$B11+1,FALSE))","v":87.869274085101779},{"$f":"IF(HLOOKUP(AC$6+$BO$47,$E$47:$AH$77,$B11+1,FALSE)=\"\",\"\",HLOOKUP(AC$6+$BO$47,$E$47:$AH$77,$B11+1,FALSE)*$D11)","v":2.8745237968093408E-5},{"$f":"IF(HLOOKUP(AC$6+$BO$47,$AI$47:$BL$77,$B11+1,FALSE)=\"\",\"\",HLOOKUP(AC$6+$BO$47,$AI$47:$BL$77,$B11+1,FALSE))","v":156.14005849891331},{"$f":"IF(HLOOKUP(AE$6+$BO$47,$E$47:$AH$77,$B11+1,FALSE)=\"\",\"\",HLOOKUP(AE$6+$BO$47,$E$47:$AH$77,$B11+1,FALSE)*$D11)","v":5.4174890693270062E-5},{"$f":"IF(HLOOKUP(AE$6+$BO$47,$AI$47:$BL$77,$B11+1,FALSE)=\"\",\"\",HLOOKUP(AE$6+$BO$47,$AI$47:$BL$77,$B11+1,FALSE))","v":-162.45310220178959},{"$f":"IF(HLOOKUP(AG$6+$BO$47,$E$47:$AH$77,$B11+1,FALSE)=\"\",\"\",HLOOKUP(AG$6+$BO$47,$E$47:$AH$77,$B11+1,FALSE)*$D11)","v":1.0977013431856179E-6},{"$f":"IF(HLOOKUP(AG$6+$BO$47,$AI$47:$BL$77,$B11+1,FALSE)=\"\",\"\",HLOOKUP(AG$6+$BO$47,$AI$47:$BL$77,$B11+1,FALSE))","v":-104.60336171416159},{"$f":"IF(HLOOKUP(AI$6+$BO$47,$E$47:$AH$77,$B11+1,FALSE)=\"\",\"\",HLOOKUP(AI$6+$BO$47,$E$47:$AH$77,$B11+1,FALSE)*$D11)","v":5.4185085195894808E-8},{"$f":"IF(HLOOKUP(AI$6+$BO$47,$AI$47:$BL$77,$B11+1,FALSE)=\"\",\"\",HLOOKUP(AI$6+$BO$47,$AI$47:$BL$77,$B11+1,FALSE))","v":-17.758505447384572},{"$f":"IF(HLOOKUP(AK$6+$BO$47,$E$47:$AH$77,$B11+1,FALSE)=\"\",\"\",HLOOKUP(AK$6+$BO$47,$E$47:$AH$77,$B11+1,FALSE)*$D11)","v":1.8728850304643651E-6},{"$f":"IF(HLOOKUP(AK$6+$BO$47,$AI$47:$BL$77,$B11+1,FALSE)=\"\",\"\",HLOOKUP(AK$6+$BO$47,$AI$47:$BL$77,$B11+1,FALSE))","v":160.00249294090469},{"$f":"IF(HLOOKUP(AM$6+$BO$47,$E$47:$AH$77,$B11+1,FALSE)=\"\",\"\",HLOOKUP(AM$6+$BO$47,$E$47:$AH$77,$B11+1,FALSE)*$D11)","v":2.7912423411932131E-6},{"$f":"IF(HLOOKUP(AM$6+$BO$47,$AI$47:$BL$77,$B11+1,FALSE)=\"\",\"\",HLOOKUP(AM$6+$BO$47,$AI$47:$BL$77,$B11+1,FALSE))","v":-160.05683365081131},{"$f":"IF(HLOOKUP(AO$6+$BO$47,$E$47:$AH$77,$B11+1,FALSE)=\"\",\"\",HLOOKUP(AO$6+$BO$47,$E$47:$AH$77,$B11+1,FALSE)*$D11)","v":3.9010812662437982E-7},{"$f":"IF(HLOOKUP(AO$6+$BO$47,$AI$47:$BL$77,$B11+1,FALSE)=\"\",\"\",HLOOKUP(AO$6+$BO$47,$AI$47:$BL$77,$B11+1,FALSE))","v":81.181544197742426},{"$f":"IF(HLOOKUP(AQ$6+$BO$47,$E$47:$AH$77,$B11+1,FALSE)=\"\",\"\",HLOOKUP(AQ$6+$BO$47,$E$47:$AH$77,$B11+1,FALSE)*$D11)","v":2.0553270039153799E-8},{"$f":"IF(HLOOKUP(AQ$6+$BO$47,$AI$47:$BL$77,$B11+1,FALSE)=\"\",\"\",HLOOKUP(AQ$6+$BO$47,$AI$47:$BL$77,$B11+1,FALSE))","v":-18.075860315582059},{"$f":"IF(HLOOKUP(AS$6+$BO$47,$E$47:$AH$77,$B11+1,FALSE)=\"\",\"\",HLOOKUP(AS$6+$BO$47,$E$47:$AH$77,$B11+1,FALSE)*$D11)","v":""},{"$f":"IF(HLOOKUP(AS$6+$BO$47,$AI$47:$BL$77,$B11+1,FALSE)=\"\",\"\",HLOOKUP(AS$6+$BO$47,$AI$47:$BL$77,$B11+1,FALSE))","v":""},{"$f":"IF(HLOOKUP(AU$6+$BO$47,$E$47:$AH$77,$B11+1,FALSE)=\"\",\"\",HLOOKUP(AU$6+$BO$47,$E$47:$AH$77,$B11+1,FALSE)*$D11)","v":""},{"$f":"IF(HLOOKUP(AU$6+$BO$47,$AI$47:$BL$77,$B11+1,FALSE)=\"\",\"\",HLOOKUP(AU$6+$BO$47,$AI$47:$BL$77,$B11+1,FALSE))","v":""},{"$f":"IF(HLOOKUP(AW$6+$BO$47,$E$47:$AH$77,$B11+1,FALSE)=\"\",\"\",HLOOKUP(AW$6+$BO$47,$E$47:$AH$77,$B11+1,FALSE)*$D11)","v":""},{"$f":"IF(HLOOKUP(AW$6+$BO$47,$AI$47:$BL$77,$B11+1,FALSE)=\"\",\"\",HLOOKUP(AW$6+$BO$47,$AI$47:$BL$77,$B11+1,FALSE))","v":""},{"$f":"IF(HLOOKUP(AY$6+$BO$47,$E$47:$AH$77,$B11+1,FALSE)=\"\",\"\",HLOOKUP(AY$6+$BO$47,$E$47:$AH$77,$B11+1,FALSE)*$D11)","v":""},{"$f":"IF(HLOOKUP(AY$6+$BO$47,$AI$47:$BL$77,$B11+1,FALSE)=\"\",\"\",HLOOKUP(AY$6+$BO$47,$AI$47:$BL$77,$B11+1,FALSE))","v":""},{"$f":"IF(HLOOKUP(BA$6+$BO$47,$E$47:$AH$77,$B11+1,FALSE)=\"\",\"\",HLOOKUP(BA$6+$BO$47,$E$47:$AH$77,$B11+1,FALSE)*$D11)","v":""},{"$f":"IF(HLOOKUP(BA$6+$BO$47,$AI$47:$BL$77,$B11+1,FALSE)=\"\",\"\",HLOOKUP(BA$6+$BO$47,$AI$47:$BL$77,$B11+1,FALSE))","v":""},{"$f":"IF(HLOOKUP(BC$6+$BO$47,$E$47:$AH$77,$B11+1,FALSE)=\"\",\"\",HLOOKUP(BC$6+$BO$47,$E$47:$AH$77,$B11+1,FALSE)*$D11)","v":""},{"$f":"IF(HLOOKUP(BC$6+$BO$47,$AI$47:$BL$77,$B11+1,FALSE)=\"\",\"\",HLOOKUP(BC$6+$BO$47,$AI$47:$BL$77,$B11+1,FALSE))","v":""},{"$f":"IF(HLOOKUP(BE$6+$BO$47,$E$47:$AH$77,$B11+1,FALSE)=\"\",\"\",HLOOKUP(BE$6+$BO$47,$E$47:$AH$77,$B11+1,FALSE)*$D11)","v":""},{"$f":"IF(HLOOKUP(BE$6+$BO$47,$AI$47:$BL$77,$B11+1,FALSE)=\"\",\"\",HLOOKUP(BE$6+$BO$47,$AI$47:$BL$77,$B11+1,FALSE))","v":""},{"$f":"IF(HLOOKUP(BG$6+$BO$47,$E$47:$AH$77,$B11+1,FALSE)=\"\",\"\",HLOOKUP(BG$6+$BO$47,$E$47:$AH$77,$B11+1,FALSE)*$D11)","v":""},{"$f":"IF(HLOOKUP(BG$6+$BO$47,$AI$47:$BL$77,$B11+1,FALSE)=\"\",\"\",HLOOKUP(BG$6+$BO$47,$AI$47:$BL$77,$B11+1,FALSE))","v":""},{"$f":"IF(HLOOKUP(BI$6+$BO$47,$E$47:$AH$77,$B11+1,FALSE)=\"\",\"\",HLOOKUP(BI$6+$BO$47,$E$47:$AH$77,$B11+1,FALSE)*$D11)","v":""},{"$f":"IF(HLOOKUP(BI$6+$BO$47,$AI$47:$BL$77,$B11+1,FALSE)=\"\",\"\",HLOOKUP(BI$6+$BO$47,$AI$47:$BL$77,$B11+1,FALSE))","v":""},{"$f":"IF(HLOOKUP(BK$6+$BO$47,$E$47:$AH$77,$B11+1,FALSE)=\"\",\"\",HLOOKUP(BK$6+$BO$47,$E$47:$AH$77,$B11+1,FALSE)*$D11)","v":""},{"$f":"IF(HLOOKUP(BK$6+$BO$47,$AI$47:$BL$77,$B11+1,FALSE)=\"\",\"\",HLOOKUP(BK$6+$BO$47,$AI$47:$BL$77,$B11+1,FALSE))","v":""},{"$f":"MAX(E11,G11,I11,K11,M11,O11,Q11,S11,U11,W11,Y11,AA11,AC11,AE11,AG11,AI11,AK11,AM11,AO11,AQ11,AS11,AU11,AW11,AY11,BA11,BC11,BE11,BG11,BI11,BK11)","v":0.99882726647760045},{"$f":"MATCH($BM11,E11:BK11,0)+4","v":5},{"$f":"INDIRECT(SUBSTITUTE(ADDRESS(1,$BN11,4),\"1\",\"7\"))","v":7.7106101011683598E-3}]
[null,{"$f":"B11+1","v":2},"ED Platform horizontal sway translation DOF (internal DOF index = DOF_Sw), m",1,1.8236036580484519E-4,-23.473400032942848,0.99878151503221824,180,0.16207711490805549,171.75672486163279,9.8206753298272997E-2,141.09059736314441,0.6596211636063144,180,1.1529338368644441E-6,-51.771820391179169,1.419079613928263E-3,8.3709279689355025,5.2531316102145658E-3,149.82075711568359,7.5627622624195256E-5,87.810869969438556,7.4055897590156601E-5,47.486842551898903,2.232409406413031E-5,83.003513094401313,1.8090934769659919E-5,-82.008496156945426,6.5503290691488027E-4,87.101543784759883,1.4627968490262371E-4,-91.14145891780467,2.0827688897518601E-7,133.2448004809967,6.9754014762410294E-8,-46.979572945057519,1.721008593189154E-7,-85.830053947182293,1.2754581497169421E-7,-100.06582489929551,2.010761784968864E-5,39.304027093433298,1.2379548783289009E-7,-100.1740801485858,"","","","","","","","","","","","","","","","","","","","",0.99878151503221824,7,{"$f":"INDIRECT(SUBSTITUTE(ADDRESS(1,$BN12,4),\"1\",\"7\"))","v":7.8618457735360001E-3}]
[null,3,"ED Platform vertical heave translation DOF (internal DOF index = DOF_Hv), m",1,2.8387274727952581E-4,-0.35210761184801731,9.0962760376503864E-8,-157.09190967033959,2.1206179273997759E-3,-102.4221245795041,1.864195050180106E-2,-168.46102076197349,6.2175474178601522E-3,151.83324258254439,0.95290474365005651,0,1.100559427446542E-4,90.48215077189839,1.0282897595826949E-4,93.268826070415514,2.3359526514333069E-5,178.3307819538648,4.2560000876061843E-5,-93.056652873105051,2.4315462322512922E-5,96.302897797359464,7.4278922982930754E-6,55.482750611744912,1.4014958978860111E-5,7.4800751541871318,2.5753615850701248E-5,-2.383894081555308,2.1219356635362049E-7,83.699289298929273,2.5014543278658321E-8,-122.05374161067429,3.6885003655305878E-7,-14.735673130520921,5.7930882612177268E-7,23.838500224063321,1.162556574918822E-7,-104.16958026802109,6.308857115862345E-9,-175.4540902554605,"","","","","","","","","","","","","","","","","","","","",0.95290474365005651,15,{"$f":"INDIRECT(SUBSTITUTE(ADDRESS(1,$BN13,4),\"1\",\"7\"))","v":5.0578619581903177E-2}]
[null,4,"ED Platform roll tilt rotation DOF (internal DOF index = DOF_R), rad",1,3.3125188523928651E-6,-14.77770555231062,5.5108283127351188E-4,178.98378716336029,1.5778806254700961E-2,75.543319130525106,1.6823986429534709E-2,-38.167093050791131,0.1130177898228792,0.42961618740456042,5.4563357186187734E-7,39.833339883733927,8.4706771139276524E-5,-171.5690410386263,3.1287798599695409E-4,-30.09506013020048,4.311349656845318E-6,-93.245797927858945,4.0468025884175377E-6,-134.75344571896991,1.2909786718677749E-6,-75.495581051055382,9.6998115306064455E-7,95.113447564090905,3.3828935005857497E-5,-93.064928582977757,7.7187099490165179E-6,88.664919659369076,8.909840658188254E-9,-48.061674015814219,2.9342908739583361E-9,131.9702492472299,7.2816538055761618E-9,93.234021946366965,5.3421774689809507E-9,79.3313670475615,8.3541700092597273E-7,-140.73725918046321,4.3977514079241372E-9,79.429972373806436,"","","","","","","","","","","","","","","","","","","","",0.1130177898228792,13,{"$f":"INDIRECT(SUBSTITUTE(ADDRESS(1,$BN14,4),\"1\",\"7\"))","v":3.6190268820279897E-2}]
[null,5,"ED Platform pitch tilt rotation DOF (internal DOF index = DOF_P), rad",1,5.342537619657102E-4,178.26764727380069,3.1467541514137149E-6,175.89248933793911,2.122991035303173E-3,0.79386981927329026,8.8083258145156149E-2,179.69355459339101,2.9113045841775698E-2,140.24937731161779,2.8342753611499658E-4,-176.74296685508571,1.5473485108814179E-4,94.173635968011027,1.5064479870842011E-4,93.557122252694683,3.7417026195740568E-5,171.95014696148991,1.2656180999073619E-5,-95.821421988372407,8.9267605007491101E-6,-121.4839799616623,1.626427289251145E-5,87.663340676370439,1.569120357614965E-6,153.98382731777889,2.7918172073085961E-6,-162.65503425715889,4.6506414957385478E-8,-105.5555356329984,2.282464436655645E-9,-20.627315079079981,7.8717746771118078E-8,159.29068640471181,1.165388252614463E-7,-160.5476628409231,1.6157598326887209E-8,81.189760017280946,7.8284829069349165E-10,-18.366318217173671,"","","","","","","","","","","","","","","","","","","","",8.8083258145156149E-2,11,{"$f":"INDIRECT(SUBSTITUTE(ADDRESS(1,$BN15,4),\"1\",\"7\"))","v":3.6130377473582387E-2}]
[null,6,"ED Platform yaw rotation DOF (internal DOF index = DOF_Y), rad",1,2.4334243933292129E-5,-95.182283513307354,2.3151562972658091E-5,-14.254363550010959,0.54003675294908471,74.876749288117239,1.931951197889172E-3,115.8799933082578,4.4981172128491847E-3,-174.46504319934741,4.4673221768528262E-6,41.700396384845952,6.2425894710034684E-6,-178.3769851890047,5.5402264344264361E-6,-48.960618081294143,3.689581301120028E-6,89.813069833246018,9.5343195550654183E-7,-160.0519803600757,1.260426442107404E-6,157.38474832248301,1.5998714839178899E-6,178.08771869584541,1.4292489105293691E-6,-89.446074329451747,1.4830376516536481E-7,18.53929919004517,3.7199028643053269E-9,92.839000546177203,1.6961235283277521E-10,91.233164559643114,2.296669263993155E-9,-124.73344357248349,1.0664526772793361E-9,-138.12526314990839,1.1167470359336011E-8,25.288397802721661,1.17794247375166E-8,77.647366762277471,"","","","","","","","","","","","","","","","","","","","",0.54003675294908471,9,{"$f":"INDIRECT(SUBSTITUTE(ADDRESS(1,$BN16,4),\"1\",\"7\"))","v":1.191062716661517E-2}]
[null,7,"ED 1st tower fore-aft bending mode DOF (internal DOF index = DOF_TFA1), m",6.9206546939340457E-3,5.7209187449077296E-6,172.54513110445711,5.6236929011337691E-8,170.81769234022579,1.7681350945991832E-4,1.466616918489126E-2,2.8931391721026289E-3,-179.15872429483491,9.609108192136503E-4,142.0837387805168,5.4117887128106344E-6,-6.7781493537458468,2.9654393702285159E-4,-86.000133788904847,2.9093010087571773E-4,-86.002202183445732,7.4559492221018165E-5,-8.0663485025304169,4.5003148917240866E-5,86.080892964363031,2.4917664733620794E-5,60.778692155933363,3.8925526963550247E-5,-92.105295197934879,5.786559600082749E-6,-39.06411674334413,7.2049337223507932E-6,17.553140654207191,4.052602548454926E-8,56.388427030015819,2.755560377322346E-8,86.489525900202665,5.6843283612592752E-8,-37.948991241437007,6.9687581523353743E-8,4.9014597970273046,5.6230836369678268E-9,18.12514667899822,1.5871708119304488E-9,-65.510651464248397,"","","","","","","","","","","","","","","","","","","","",2.8931391721026289E-3,11,{"$f":"INDIRECT(SUBSTITUTE(ADDRESS(1,$BN17,4),\"1\",\"7\"))","v":3.6130377473582387E-2}]
[null,8,"ED 1st tower side-to-side bending mode DOF (internal DOF index = DOF_TSS1), m",6.9206546939340457E-3,6.6302729000617796E-8,-27.52378960187562,5.8148111436629702E-6,176.45720650671251,4.9875652694980231E-4,73.714589340653831,5.5274497758512427E-4,-37.937970708289747,3.7207975444641041E-3,1.602744131769277,3.4001541305379701E-8,-157.12616769974571,1.626993842457287E-4,8.2187499165419311,6.0826184078564707E-4,149.87237706031161,1.0000252950144543E-5,81.729845005103982,1.0352431323203743E-5,33.377476363997637,9.5239161834095425E-6,159.11335293203919,2.8714002496169696E-6,-101.23862895022189,7.3194360344798777E-5,86.812552438093704,2.4426983727242622E-5,-91.063848749223027,3.9710191829544041E-8,109.4203880578002,8.0181182075342804E-10,-59.526282319260787,2.4631450651169375E-8,-114.0794937563516,1.1750885765031392E-8,-134.42574899009929,5.4905460761862971E-7,34.628972832945159,4.212814661847356E-7,79.894153006581661,"","","","","","","","","","","","","","","","","","","","",3.7207975444641041E-3,13,{"$f":"INDIRECT(SUBSTITUTE(ADDRESS(1,$BN18,4),\"1\",\"7\"))","v":3.6190268820279897E-2}]
[null,9,"ED 2nd tower fore-aft bending mode DOF (internal DOF index = DOF_TFA2), m",6.9206546939340457E-3,1.5648266654232437E-8,172.46522729528701,3.034217672868342E-10,-161.72081420463439,2.5558411815905682E-6,179.7764973253995,5.8698367009271917E-6,-178.90913979936599,2.0007427765858613E-6,138.86483494019691,3.6696481814528431E-7,-179.13968987309991,1.4159956089997416E-6,92.011990638030426,1.2439796271698265E-6,95.093585424954171,4.9189662780704817E-7,5.9708456162291519,2.0697421695957726E-7,-96.54436482909577,1.1170291233279975E-7,64.004577892237762,6.7527804494578343E-7,-86.92307662856615,4.9402552279345171E-8,19.244279741574552,1.9961076680151969E-7,23.1041092243651,4.9861211222066029E-8,82.554648145806695,2.6580215494248398E-9,-171.68699765650209,8.9858503605382264E-8,-14.836819485757109,1.3993717470390255E-7,23.382178297641399,2.3673663345299531E-8,-105.151362903099,1.6830691807429694E-9,159.66635186771501,"","","","","","","","","","","","","","","","","","","","",5.8698367009271917E-6,11,{"$f":"INDIRECT(SUBSTITUTE(ADDRESS(1,$BN19,4),\"1\",\"7\"))","v":3.6130377473582387E-2}]
[null,10,"ED 2nd tower side-to-side bending mode DOF (internal DOF index = DOF_TSS2), m",6.9206546939340457E-3,2.0291143252835412E-10,41.694104279410027,1.591230652569005E-8,176.19124190015091,9.4969130642556979E-7,72.283511733980106,9.8789562123324598E-7,-31.672508618163459,7.3009946510513847E-6,1.246512030243198,5.3986348063465952E-10,102.7708178966803,7.8612388361812865E-7,-172.55846798498689,2.7965542997426374E-6,-30.448560343423129,3.2417791935228336E-8,161.62557038044511,1.1781808601691454E-7,94.783257360359272,2.5422148670642018E-7,4.8538636378052296,4.4998614981527824E-8,-41.949886751417161,2.1997905338104767E-6,91.745652282936547,4.0171607901296145E-7,-85.283236877965479,8.7089251978404777E-9,142.79863178549201,3.3684449982385482E-9,-39.510339866883008,7.9289328530889293E-9,-75.843184137984181,5.9724821944454809E-9,-90.297578305524297,1.0431063346677713E-6,39.779951031065771,2.4690007057063614E-8,-99.634721504277877,"","","","","","","","","","","","","","","","","","","","",7.3009946510513847E-6,13,{"$f":"INDIRECT(SUBSTITUTE(ADDRESS(1,$BN20,4),\"1\",\"7\"))","v":3.6190268820279897E-2}]
[null,11,"ED Nacelle yaw DOF (internal DOF index = DOF_Yaw), rad",1,7.8702214141385278E-8,-85.015445148606105,5.0793133328288951E-7,176.44162965227031,5.6014040114931907E-5,80.603017127439074,9.927571742512655E-5,-66.751845353712113,3.1245610059588087E-4,-1.376864628805968,2.3369606014136671E-7,-86.272005050617835,4.0153516583667241E-5,1.846522451851615,3.2876678672825852E-5,127.8356894308105,3.5930367835943409E-5,-87.819437836510602,1.180924656903335E-5,22.209259375259041,1.6416168838492751E-5,-19.846700710764829,2.4087387945939369E-5,0.45187189164900021,2.3134975107125791E-5,93.176944337589759,2.8383646059176679E-6,-165.86823513683211,7.7763372040909744E-7,-74.840575534633103,3.7112298676491847E-8,-76.084271331891401,5.2846399385550967E-7,64.899175397356501,2.6423756515148369E-7,49.009253620249908,3.4723337104123889E-6,-151.64563055479829,1.0177288881592559E-5,-100.14803249055601,"","","","","","","","","","","","","","","","","","","","",3.1245610059588087E-4,13,{"$f":"INDIRECT(SUBSTITUTE(ADDRESS(1,$BN21,4),\"1\",\"7\"))","v":3.6190268820279897E-2}]
[null,12,"ED 1st flapwise bending-mode DOF of blade 1 (internal DOF index = DOF_BF(1,1)), m",8.5470085470085479E-3,8.4336893353951521E-6,172.64293088172471,3.2434061384117127E-7,-110.89919190725359,1.3687260387028002E-4,-6.3839236456577169,4.2714394229848903E-3,-179.45091149579119,1.5751922837638668E-3,130.2997829149769,4.2355838817863263E-5,-178.1833413723447,7.2717385944969903E-4,-81.873644205768329,7.6193515924244664E-4,-119.4460306854659,5.3324591056943518E-4,-5.3814717225794961,1.9324153997277728E-3,-91.684524377349049,5.1430174956619676E-4,-119.24268794774009,2.6105294873702439E-4,92.708203880700083,1.9963141170562172E-4,-121.8126274415004,4.0052551769218201E-5,110.1839979607303,4.3941548007075679E-6,-142.52960285846549,3.7934192555469734E-4,-97.485189557282069,7.204819559884789E-6,63.316524197957747,6.7766560621497147E-6,81.966773050873584,4.2998949334847283E-5,-81.335335354373669,8.3965221755162298E-7,96.674339183024983,"","","","","","","","","","","","","","","","","","","","",4.2714394229848903E-3,11,{"$f":"INDIRECT(SUBSTITUTE(ADDRESS(1,$BN22,4),\"1\",\"7\"))","v":3.6130377473582387E-2}]
[null,13,"ED 1st flapwise bending-mode DOF of blade 2 (internal DOF index = DOF_BF(2,1)), m",8.5470085470085479E-3,6.1324248455722567E-7,176.29251682636419,2.8460353623745437E-7,104.0236073845835,6.6499494315008607E-3,0,1.0550686921686266E-3,-177.52112763305641,1.3106297952086078E-4,-158.49203411881891,1.0977347704794044E-5,0.81321661673712675,2.347440734702068E-3,-90.632406065205743,1.9169765664170215E-3,-90.445549002585736,1.4545769532431506E-3,179.95035642684999,2.645566542554237E-4,106.36573767878011,2.4309700242815206E-4,34.909352653267888,1.5840236480643326E-3,88.520830996200132,1.3061309757208788E-4,-1.770467765790348,1.3808671125989993E-4,80.300372237174187,2.5661499098196235E-4,-162.67184304499571,5.9222927103308359E-6,16.507121334081489,3.1261684345955691E-4,84.140813250523195,3.4841155460743639E-4,85.266145296190217,9.3422735092448474E-5,-93.173492044276259,3.9320955193351324E-6,-135.68321785510261,"","","","","","","","","","","","","","","","","","","","",6.6499494315008607E-3,9,{"$f":"INDIRECT(SUBSTITUTE(ADDRESS(1,$BN23,4),\"1\",\"7\"))","v":1.191062716661517E-2}]
[null,14,"ED 1st flapwise bending-mode DOF of blade 3 (internal DOF index = DOF_BF(3,1)), m",8.5470085470085479E-3,4.3855064876273127E-6,-88.230111785149745,5.0407601051797058E-7,175.15744963018989,7.1403573582171271E-4,97.664007276613361,3.5988017838505569E-3,-88.01655909407809,9.9845232084600356E-4,-107.3065529858375,1.7092324268013589E-5,-126.7286609120587,1.5915514527710217E-3,-2.2242224675339979,8.6704212384526244E-4,17.286631979405129,1.9951646724114722E-3,-91.638507262336972,6.3360450292881856E-4,-5.5101015724529452,4.6364331740940293E-4,-2.6557913766989878,1.2991120462861455E-3,-3.6034399121324201,2.6324569347527797E-4,-72.842300350051062,1.1718262569527412E-4,-11.039799445165819,2.9914110123337916E-4,-96.605023021557358,1.2233722171106967E-5,-77.542528296740997,2.0844933642255147E-4,47.103525220028367,1.0213245059995393E-4,41.925453739145738,3.3500861147363293E-4,87.382054854104808,2.0291779151864533E-4,88.130035315925937,"","","","","","","","","","","","","","","","","","","","",3.5988017838505569E-3,11,{"$f":"INDIRECT(SUBSTITUTE(ADDRESS(1,$BN24,4),\"1\",\"7\"))","v":3.6130377473582387E-2}]
[null,15,"ED 1st edgewise bending-mode DOF of blade 1 (internal DOF index = DOF_BE(1,1)), m",8.5470085470085479E-3,5.5134859645307465E-7,172.47569126392671,1.3227206161528078E-7,-6.2995158449366064,3.9284955822502905E-5,-107.2286783727243,3.5434276168682538E-4,172.09718742697169,6.7791578299887664E-4,176.20009442861911,2.7620745446576912E-6,-177.36572124885069,3.8081678319481767E-4,-166.00962532997229,1.5296814700669847E-3,-34.215661875637657,5.4307732938431295E-5,-70.396809617291865,6.3955049243866072E-5,-73.652627160968109,2.1425931280220326E-4,-11.32145433682124,6.7422647893365266E-5,-2.5288055733434889,1.7678366655548864E-3,88.429222212566913,2.9761555505826816E-4,-90.575357336832596,2.5050277204430069E-7,6.3286598360237978,1.6238455887863592E-7,-161.21844674638729,2.6712957037575823E-7,128.71307794614199,2.4329404416510129E-7,102.0890002278193,4.8305389225418354E-5,-139.06746652790099,4.5378008421343473E-6,80.406170000321225,"","","","","","","","","","","","","","","","","","","","",1.7678366655548864E-3,29,{"$f":"INDIRECT(SUBSTITUTE(ADDRESS(1,$BN25,4),\"1\",\"7\"))","v":0.67718967159381704}]
[null,16,"ED 1st edgewise bending-mode DOF of blade 2 (internal DOF index = DOF_BE(2,1)), m",8.5470085470085479E-3,7.901274836940247E-8,170.41533531568959,4.2321460281977663E-6,-3.322818673030735,4.9948858352060919E-4,-51.075273029722851,4.5332689948844612E-4,147.991406850294,2.7587129625629525E-3,-178.4030579478551,2.0151916677287386E-6,-90.000289566954081,2.6724224462936033E-4,-145.46935499872259,8.8960140365408548E-4,-39.58951722114093,1.5984500519176831E-4,-98.00869839439099,5.8643533386037777E-4,-8.1346254331371295,1.470187687951124E-3,176.47551496375439,1.2272616638527085E-4,40.749187488683141,2.5980593253766156E-4,-93.533636634733782,1.3267120991024019E-3,-91.562567614276162,8.9516990197136751E-8,116.1842967715845,2.7884140807987996E-8,-126.505296407426,5.7959435643738684E-7,17.209130530445989,9.3935121314965051E-7,38.195803345757227,3.2422290109622816E-6,-139.3356425175146,2.0586522813900789E-6,-100.094483106189,"","","","","","","","","","","","","","","","","","","","",2.7587129625629525E-3,13,{"$f":"INDIRECT(SUBSTITUTE(ADDRESS(1,$BN26,4),\"1\",\"7\"))","v":3.6190268820279897E-2}]
[null,17,"ED 1st edgewise bending-mode DOF of blade 3 (internal DOF index = DOF_BE(3,1)), m",8.5470085470085479E-3,4.5409169394221019E-7,-156.9817623724955,1.2365242780783754E-8,169.3826042838588,4.0555348372427674E-5,94.474702565655079,3.6428829281741159E-4,-147.51661107589121,1.0773818810008121E-4,-175.47295467402739,1.2177933150945488E-4,-6.6273493967275378E-4,2.3273139398566217E-4,-67.384946283824178,1.627894280247095E-4,-1.7455941674526081,2.2423158168831538E-4,-15.200186501252251,7.4904716095225356E-4,82.443142303627795,1.4797543328432404E-3,-91.845535817728432,1.3434319370044692E-4,91.821320599470923,6.9403269348352226E-4,-179.1232176184057,1.2016593764137471E-3,178.38963953434941,5.3542081726685033E-7,91.686057752635506,4.7072995299179041E-8,-130.58073537662389,9.5316638058966935E-7,-15.376798773757489,1.4378610472823164E-6,23.928419060941319,1.1289127239874369E-6,38.500356920927757,1.970702756581823E-6,81.86185798748366,"","","","","","","","","","","","","","","","","","","","",1.4797543328432404E-3,25,{"$f":"INDIRECT(SUBSTITUTE(ADDRESS(1,$BN27,4),\"1\",\"7\"))","v":0.5899839245078311}]
[null,18,"ED 2nd flapwise bending-mode DOF of blade 1 (internal DOF index = DOF_BF(1,2)), m",8.5470085470085479E-3,2.7269679777986848E-6,-7.3628998457436223,1.0322523971147788E-7,71.640547394821951,3.4876820189622046E-5,169.98396752789961,1.3794968775789429E-3,0.45360712641433892,5.214024432992477E-4,-47.797459871764069,1.3660245603580276E-5,1.82857679099794,1.1685143997475395E-4,98.701644040023382,1.1344251871201925E-4,66.353611778833795,3.9692081332548246E-5,173.6338566114008,1.0761808696450122E-4,-90.899386812700456,3.9806637850742173E-5,-103.66908723865831,5.7245496382049977E-5,84.702051170304784,9.9254044262940612E-5,96.783583453015652,2.434496477545866E-5,-123.5625388626421,4.6155442192919669E-6,38.249568870968112,4.0228818251570773E-4,82.506166002210065,7.592305696995431E-6,-115.99413330098299,7.1015083477789133E-6,-97.177198202546776,4.9605702846478931E-5,91.871833634296891,1.5303274191381386E-6,-90.440956939093141,"","","","","","","","","","","","","","","","","","","","",1.3794968775789429E-3,11,{"$f":"INDIRECT(SUBSTITUTE(ADDRESS(1,$BN28,4),\"1\",\"7\"))","v":3.6130377473582387E-2}]
[null,19,"ED 2nd flapwise bending-mode DOF of blade 2 (internal DOF index = DOF_BF(2,2)), m",8.5470085470085479E-3,1.6704119971218538E-7,-4.1133178187515211,5.0883196456639284E-7,-174.13001730307101,1.9625393920342541E-3,178.62409749080641,3.3217483786952709E-4,-3.0155592952396222,3.7216492634776149E-4,4.5192347298149844,3.8979863163828196E-6,179.53687965488109,2.389697466011873E-4,91.25484590610256,2.3500611377507712E-4,100.3249995188711,1.1631506330749839E-4,176.72606959299591,8.8945171245402566E-5,-74.459477797465709,1.0247999049234309E-4,-160.58286887787281,1.0933553454064548E-4,84.417630564827434,2.4817286862147253E-5,122.6778107076245,8.1570074599783849E-5,-96.986784718355267,2.7328640451805775E-4,17.847666719696662,6.4777066275394679E-6,-162.61279224875719,3.3233653188888572E-4,-95.030150407081564,3.6594806225734235E-4,-93.694791218736654,9.8114926189204029E-5,86.795467291273681,4.3881907924840703E-6,47.912558775621221,"","","","","","","","","","","","","","","","","","","","",1.9625393920342541E-3,9,{"$f":"INDIRECT(SUBSTITUTE(ADDRESS(1,$BN29,4),\"1\",\"7\"))","v":1.191062716661517E-2}]
[null,20,"ED 2nd flapwise bending-mode DOF of blade 3 (internal DOF index = DOF_BF(3,2)), m",8.5470085470085479E-3,1.2906423227727958E-6,89.451238814316497,1.66777477702806E-7,-3.9630897494123731,2.0622993507903319E-4,-83.037374581093829,1.0594197878968617E-3,90.095426126545206,2.845575761160925E-4,72.424283875482686,1.2768496364368838E-5,161.94648331859361,8.8448247400970523E-5,-179.15783196163181,3.758863202534808E-5,-74.637933727743317,4.8226995017687177E-5,-89.066562101748772,3.7214728512024022E-5,44.281857943236467,8.1566737947842086E-5,-82.538579741078834,1.6709529443629768E-5,131.09764957174249,6.6801197784459884E-5,-125.7442631058,5.5732182465685845E-5,174.6401136130988,3.1866481224013471E-4,83.494880613377191,1.3039615018109447E-5,102.3829401486169,2.2219256037755319E-4,-132.8412626654171,1.0908040811515993E-4,-138.0565597428307,3.4808176417085298E-4,-91.001271121147667,1.9675635804626996E-4,-91.119653010528651,"","","","","","","","","","","","","","","","","","","","",1.0594197878968617E-3,11,{"$f":"INDIRECT(SUBSTITUTE(ADDRESS(1,$BN30,4),\"1\",\"7\"))","v":3.6130377473582387E-2}]
[null,21,null,{"$f":"1","v":1},"","","","","","","","","","","","","","","","","","","","","","","","","","","","","","","","","","","","","","","","","","","","","","","","","","","","","","","","","","","","",0,{"$error":"#N/A"},{"$f":"INDIRECT(SUBSTITUTE(ADDRESS(1,$BN31,4),\"1\",\"7\"))","v":{"$error":"#N/A"}}]
[null,22,null,{"$f":"1","v":1},"","","","","","","","","","","","","","","","","","","","","","","","","","","","","","","","","","","","","","","","","","","","","","","","","","","","","","","","","","","","",0,{"$error":"#N/A"},{"$f":"INDIRECT(SUBSTITUTE(ADDRESS(1,$BN32,4),\"1\",\"7\"))","v":{"$error":"#N/A"}}]
[null,23,null,{"$f":"1","v":1},"","","","","","","","","","","","","","","","","","","","","","","","","","","","","","","","","","","","","","","","","","","","","","","","","","","","","","","","","","","","",0,{"$error":"#N/A"},{"$f":"INDIRECT(SUBSTITUTE(ADDRESS(1,$BN33,4),\"1\",\"7\"))","v":{"$error":"#N/A"}}]
[null,24,null,{"$f":"1","v":1},"","","","","","","","","","","","","","","","","","","","","","","","","","","","","","","","","","","","","","","","","","","","","","","","","","","","","","","","","","","","",0,{"$error":"#N/A"},{"$f":"INDIRECT(SUBSTITUTE(ADDRESS(1,$BN34,4),\"1\",\"7\"))","v":{"$error":"#N/A"}}]
[null,25,null,{"$f":"1","v":1},"","","","","","","","","","","","","","","","","","","","","","","","","","","","","","","","","","","","","","","","","","","","","","","","","","","","","","","","","","","","",0,{"$error":"#N/A"},{"$f":"INDIRECT(SUBSTITUTE(ADDRESS(1,$BN35,4),\"1\",\"7\"))","v":{"$error":"#N/A"}}]
[null,26,null,{"$f":"1","v":1},"","","","","","","","","","","","","","","","","","","","","","","","","","","","","","","","","","","","","","","","","","","","","","","","","","","","","","","","","","","","",0,{"$error":"#N/A"},{"$f":"INDIRECT(SUBSTITUTE(ADDRESS(1,$BN36,4),\"1\",\"7\"))","v":{"$error":"#N/A"}}]
[null,27,null,{"$f":"1","v":1},"","","","","","","","","","","","","","","","","","","","","","","","","","","","","","","","","","","","","","","","","","","","","","","","","","","","","","","","","","","","",0,{"$error":"#N/A"},{"$f":"INDIRECT(SUBSTITUTE(ADDRESS(1,$BN37,4),\"1\",\"7\"))","v":{"$error":"#N/A"}}]
[null,28,null,{"$f":"1","v":1},"","","","","","","","","","","","","","","","","","","","","","","","","","","","","","","","","","","","","","","","","","","","","","","","","","","","","","","","","","","","",0,{"$error":"#N/A"},{"$f":"INDIRECT(SUBSTITUTE(ADDRESS(1,$BN38,4),\"1\",\"7\"))","v":{"$error":"#N/A"}}]
[null,29,null,{"$f":"1","v":1},"","","","","","","","","","","","","","","","","","","","","","","","","","","","","","","","","","","","","","","","","","","","","","","","","","","","","","","","","","","","",0,{"$error":"#N/A"},{"$f":"INDIRECT(SUBSTITUTE(ADDRESS(1,$BN39,4),\"1\",\"7\"))","v":{"$error":"#N/A"}}]
[null,30,null,{"$f":"1","v":1},"","","","","","","","","","","","","","","","","","","","","","","","","","","","","","","","","","","","","","","","","","","","","","","","","","","","","","","","","","","","",0,{"$error":"#N/A"},{"$f":"INDIRECT(SUBSTITUTE(ADDRESS(1,$BN40,4),\"1\",\"7\"))","v":{"$error":"#N/A"}}]
[null,null,null,null,{"$f":"MAX(E11:E40)","v":0.99882726647760045},null,{"$f":"MAX(G11:G40)","v":0.99878151503221824},null,{"$f":"MAX(I11:I40)","v":0.54003675294908471},null,{"$f":"MAX(K11:K40)","v":0.51014776682372565},null,{"$f":"MAX(M11:M40)","v":0.6596211636063144},null,{"$f":"MAX(O11:O40)","v":0.95290474365005651},null,{"$f":"MAX(Q11:Q40)","v":2.5912570008915299E-3},null,{"$f":"MAX(S11:S40)","v":5.2531316102145658E-3},null,{"$f":"MAX(U11:U40)","v":1.9951646724114722E-3},null,{"$f":"MAX(W11:W40)","v":1.9324153997277728E-3},null,{"$f":"MAX(Y11:Y40)","v":1.4797543328432404E-3},null,{"$f":"MAX(AA11:AA40)","v":1.5840236480643326E-3},null,{"$f":"MAX(AC11:AC40)","v":1.7678366655548864E-3},null,{"$f":"MAX(AE11:AE40)","v":1.3267120991024019E-3},null,{"$f":"MAX(AG11:AG40)","v":3.1866481224013471E-4},null,{"$f":"MAX(AI11:AI40)","v":4.0228818251570773E-4},null,{"$f":"MAX(AK11:AK40)","v":3.3233653188888572E-4},null,{"$f":"MAX(AM11:AM40)","v":3.6594806225734235E-4},null,{"$f":"MAX(AO11:AO40)","v":3.4808176417085298E-4},null,{"$f":"MAX(AQ11:AQ40)","v":2.0291779151864533E-4},null,{"$f":"MAX(AS11:AS40)","v":0},null,{"$f":"MAX(AU11:AU40)","v":0},null,{"$f":"MAX(AW11:AW40)","v":0},null,{"$f":"MAX(AY11:AY40)","v":0},null,{"$f":"MAX(BA11:BA40)","v":0},null,{"$f":"MAX(BC11:BC40)","v":0},null,{"$f":"MAX(BE11:BE40)","v":0},null,{"$f":"MAX(BG11:BG40)","v":0},null,{"$f":"MAX(BI11:BI40)","v":0},null,{"$f":"MAX(BK11:BK40)","v":0}]
[null,null,"Green Background = Maximum value of the mode shape magnitude within a row"]
[null,null,"Red Bold Text = Maximum value of the mode shape magnitude within a column"]
[]
[]
[]
[null,null,null,null,{"$f":"D48","v":56},{"$f":"D49","v":55},{"$f":"D50","v":54},{"$f":"D51","v":53},{"$f":"D52","v":52},{"$f":"D53","v":51},{"$f":"D54","v":50},{"$f":"D55","v":49},{"$f":"D56","v":48},{"$f":"D57","v":47},{"$f":"D58","v":46},{"$f":"D59","v":45},{"$f":"D60","v":43},{"$f":"D61","v":44},{"$f":"D62","v":42},{"$f":"D63","v":40},{"$f":"D64","v":41},{"$f":"D65","v":39},{"$f":"D66","v":37},{"$f":"D67","v":38},{"$f":"D68","v":57},{"$f":"D69","v":58},{"$f":"D70","v":59},{"$f":"D71","v":60},{"$f":"D72","v":61},{"$f":"D73","v":62},{"$f":"D74","v":63},{"$f":"D75","v":64},{"$f":"D76","v":65},{"$f":"D77","v":66},{"$f":"E47","v":56},55,54,53,52,51,50,49,48,47,46,45,43,44,42,40,41,39,37,38,57,58,59,60,61,62,63,64,65,66,null,null,{"$f":"CT77+1","v":36},{"$f":"BO47+1","v":37},38,39,40,41,42,43,44,45,46,47,48,49,50,51,52,53,54,55,56,57,58,59,60,61,62,63,64,65,66]
[null,null,null,{"$f":"CS48","v":56},2.0553270039153799E-8,3.9010812662437982E-7,2.7912423411932131E-6,1.8728850304643651E-6,5.4185085195894808E-8,1.0977013431856179E-6,5.4174890693270062E-5,2.8745237968093408E-5,3.0640946326517221E-4,1.6084164535829461E-4,2.151399854760653E-4,6.7486904225993831E-4,2.5912570008915299E-3,2.534259180636364E-3,2.0022655695543221E-3,0.51014776682372565,0.1688786283278732,3.2360924199942187E-2,0.99882726647760045,2.2933932968335099E-4,null,null,null,null,null,null,null,null,null,null,-18.075860315582059,81.181544197742426,-160.05683365081131,160.00249294090469,-17.758505447384572,-104.60336171416159,-162.45310220178959,156.14005849891331,87.869274085101779,-121.37884678878859,-95.672008685067198,172.3105279966274,94.234202376317072,93.488104083720145,-177.0955148534141,180,140.72703447539291,-47.328971978981038,0,-138.33443270654669,null,null,null,null,null,null,null,null,null,null,3.2631246907325037E-2,4.8055277376061518,4.8080882414248052,{"$f":"IF(MIN(BO$48:BO$77)=$BP$47,BO48,IF(BO48=MIN(BO$48:BO$77),BP$47,IF(BO48=\"\",$CT48,BO48)))","v":4.8080882414248052},4.8080882414248052,4.8080882414248052,4.8080882414248052,4.8080882414248052,4.8080882414248052,4.8080882414248052,4.8080882414248052,4.8080882414248052,4.8080882414248052,4.8080882414248052,4.8080882414248052,4.8080882414248052,4.8080882414248052,4.8080882414248052,4.8080882414248052,4.8080882414248052,4.8080882414248052,4.8080882414248052,56,56,56,56,56,56,56,56,56,56,56,{"$f":"CEILING(MAX(BO48:BO77),1)+1","v":6}]
[null,null,null,55,1.2379548783289009E-7,2.010761784968864E-5,1.2754581497169421E-7,1.721008593189154E-7,6.9754014762410294E-8,2.0827688897518601E-7,1.4627968490262371E-4,6.5503290691488027E-4,1.8090934769659919E-5,2.232409406413031E-5,7.4055897590156601E-5,7.5627622624195256E-5,1.419079613928263E-3,5.2531316102145658E-3,1.1529338368644441E-6,9.8206753298272997E-2,0.6596211636063144,0.16207711490805549,1.8236036580484519E-4,0.99878151503221824,null,null,null,null,null,null,null,null,null,null,-100.1740801485858,39.304027093433298,-100.06582489929551,-85.830053947182293,-46.979572945057519,133.2448004809967,-91.14145891780467,87.101543784759883,-82.008496156945426,83.003513094401313,47.486842551898903,87.810869969438556,8.3709279689355025,149.82075711568359,-51.771820391179169,141.09059736314441,180,171.75672486163279,-23.473400032942848,180,null,null,null,null,null,null,null,null,null,null,1.747458830328167E-2,2.6708511943089239,2.6712590749359268,{"$f":"IF(MIN(BO$48:BO$77)=$BP$47,BO49,IF(BO49=MIN(BO$48:BO$77),BP$47,IF(BO49=\"\",$CT49,BO49)))","v":2.6712590749359268},2.6712590749359268,2.6712590749359268,2.6712590749359268,2.6712590749359268,2.6712590749359268,2.6712590749359268,2.6712590749359268,2.6712590749359268,2.6712590749359268,2.6712590749359268,2.6712590749359268,2.6712590749359268,2.6712590749359268,2.6712590749359268,2.6712590749359268,2.6712590749359268,2.6712590749359268,55,55,55,55,55,55,55,55,55,55,55,55,{"$f":"CT48+1","v":7}]
[null,null,null,54,6.308857115862345E-9,1.162556574918822E-7,5.7930882612177268E-7,3.6885003655305878E-7,2.5014543278658321E-8,2.1219356635362049E-7,2.5753615850701248E-5,1.4014958978860111E-5,7.4278922982930754E-6,2.4315462322512922E-5,4.2560000876061843E-5,2.3359526514333069E-5,1.100559427446542E-4,1.0282897595826949E-4,0.95290474365005651,1.864195050180106E-2,6.2175474178601522E-3,2.1206179273997759E-3,2.8387274727952581E-4,9.0962760376503864E-8,null,null,null,null,null,null,null,null,null,null,-175.4540902554605,-104.16958026802109,23.838500224063321,-14.735673130520921,-122.05374161067429,83.699289298929273,-2.383894081555308,7.4800751541871318,55.482750611744912,96.302897797359464,-93.056652873105051,178.3307819538648,90.48215077189839,93.268826070415514,0,-168.46102076197349,151.83324258254439,-102.4221245795041,-0.35210761184801731,-157.09190967033959,null,null,null,null,null,null,null,null,null,null,6.4441587095291589E-2,2.570905828815981,2.576260635998457,{"$f":"IF(MIN(BO$48:BO$77)=$BP$47,BO50,IF(BO50=MIN(BO$48:BO$77),BP$47,IF(BO50=\"\",$CT50,BO50)))","v":2.576260635998457},2.576260635998457,2.576260635998457,2.576260635998457,2.576260635998457,2.576260635998457,2.576260635998457,2.576260635998457,2.576260635998457,2.576260635998457,2.576260635998457,2.576260635998457,2.576260635998457,2.576260635998457,2.576260635998457,2.576260635998457,2.576260635998457,54,54,54,54,54,54,54,54,54,54,54,54,54,8]
[null,null,null,53,4.3977514079241372E-9,8.3541700092597273E-7,5.3421774689809507E-9,7.2816538055761618E-9,2.9342908739583361E-9,8.909840658188254E-9,7.7187099490165179E-6,3.3828935005857497E-5,9.6998115306064455E-7,1.2909786718677749E-6,4.0468025884175377E-6,4.311349656845318E-6,8.4706771139276524E-5,3.1287798599695409E-4,5.4563357186187734E-7,1.6823986429534709E-2,0.1130177898228792,1.5778806254700961E-2,3.3125188523928651E-6,5.5108283127351188E-4,null,null,null,null,null,null,null,null,null,null,79.429972373806436,-140.73725918046321,79.3313670475615,93.234021946366965,131.9702492472299,-48.061674015814219,88.664919659369076,-93.064928582977757,95.113447564090905,-75.495581051055382,-134.75344571896991,-93.245797927858945,-171.5690410386263,-30.09506013020048,39.833339883733927,-38.167093050791131,0.42961618740456042,75.543319130525106,-14.77770555231062,178.98378716336029,null,null,null,null,null,null,null,null,null,null,8.7679952089923283E-2,2.4643369942688471,2.4738645970753499,{"$f":"IF(MIN(BO$48:BO$77)=$BP$47,BO51,IF(BO51=MIN(BO$48:BO$77),BP$47,IF(BO51=\"\",$CT51,BO51)))","v":2.4738645970753499},2.4738645970753499,2.4738645970753499,2.4738645970753499,2.4738645970753499,2.4738645970753499,2.4738645970753499,2.4738645970753499,2.4738645970753499,2.4738645970753499,2.4738645970753499,2.4738645970753499,2.4738645970753499,2.4738645970753499,2.4738645970753499,2.4738645970753499,53,53,53,53,53,53,53,53,53,53,53,53,53,53,9]
[null,null,null,52,7.8284829069349165E-10,1.6157598326887209E-8,1.165388252614463E-7,7.8717746771118078E-8,2.282464436655645E-9,4.6506414957385478E-8,2.7918172073085961E-6,1.569120357614965E-6,1.626427289251145E-5,8.9267605007491101E-6,1.2656180999073619E-5,3.7417026195740568E-5,1.5473485108814179E-4,1.5064479870842011E-4,2.8342753611499658E-4,8.8083258145156149E-2,2.9113045841775698E-2,2.122991035303173E-3,5.342537619657102E-4,3.1467541514137149E-6,null,null,null,null,null,null,null,null,null,null,-18.366318217173671,81.189760017280946,-160.5476628409231,159.29068640471181,-20.627315079079981,-105.5555356329984,-162.65503425715889,153.98382731777889,87.663340676370439,-121.4839799616623,-95.821421988372407,171.95014696148991,94.173635968011027,93.557122252694683,-176.74296685508571,179.69355459339101,140.24937731161779,0.79386981927329026,178.26764727380069,175.89248933793911,null,null,null,null,null,null,null,null,null,null,0.1304194951028648,2.4324399451689298,2.4533946279533652,{"$f":"IF(MIN(BO$48:BO$77)=$BP$47,BO52,IF(BO52=MIN(BO$48:BO$77),BP$47,IF(BO52=\"\",$CT52,BO52)))","v":2.4533946279533652},2.4533946279533652,2.4533946279533652,2.4533946279533652,2.4533946279533652,2.4533946279533652,2.4533946279533652,2.4533946279533652,2.4533946279533652,2.4533946279533652,2.4533946279533652,2.4533946279533652,2.4533946279533652,2.4533946279533652,2.4533946279533652,52,52,52,52,52,52,52,52,52,52,52,52,52,52,52,10]
[null,null,null,51,1.17794247375166E-8,1.1167470359336011E-8,1.0664526772793361E-9,2.296669263993155E-9,1.6961235283277521E-10,3.7199028643053269E-9,1.4830376516536481E-7,1.4292489105293691E-6,1.5998714839178899E-6,1.260426442107404E-6,9.5343195550654183E-7,3.689581301120028E-6,6.2425894710034684E-6,5.5402264344264361E-6,4.4673221768528262E-6,1.931951197889172E-3,4.4981172128491847E-3,0.54003675294908471,2.4334243933292129E-5,2.3151562972658091E-5,null,null,null,null,null,null,null,null,null,null,77.647366762277471,25.288397802721661,-138.12526314990839,-124.73344357248349,91.233164559643114,92.839000546177203,18.53929919004517,-89.446074329451747,178.08771869584541,157.38474832248301,-160.0519803600757,89.813069833246018,-178.3769851890047,-48.960618081294143,41.700396384845952,115.8799933082578,-174.46504319934741,74.876749288117239,-95.182283513307354,-14.254363550010959,null,null,null,null,null,null,null,null,null,null,0.1132919891124872,2.341677715301274,2.356851746731381,{"$f":"IF(MIN(BO$48:BO$77)=$BP$47,BO53,IF(BO53=MIN(BO$48:BO$77),BP$47,IF(BO53=\"\",$CT53,BO53)))","v":2.356851746731381},2.356851746731381,2.356851746731381,2.356851746731381,2.356851746731381,2.356851746731381,2.356851746731381,2.356851746731381,2.356851746731381,2.356851746731381,2.356851746731381,2.356851746731381,2.356851746731381,2.356851746731381,51,51,51,51,51,51,51,51,51,51,51,51,51,51,51,51,11]
[null,null,null,50,2.2933824646989021E-7,8.1250747012366622E-7,1.0069507092217E-5,8.2135702656015904E-6,3.9816469672119242E-6,5.8558080523899459E-6,1.0410768982110779E-3,8.3612892941395693E-4,5.6245440185981937E-3,3.600477965684537E-3,6.5027300027967194E-3,1.0773473828476021E-2,4.2849116180116942E-2,4.2037944926036838E-2,7.8197641005757262E-4,0.41804414467296941,0.1388468088222764,2.5548668049410899E-2,8.2664415404544239E-4,8.1259550574932405E-6,null,null,null,null,null,null,null,null,null,null,-65.510651464248397,18.12514667899822,4.9014597970273046,-37.948991241437007,86.489525900202665,56.388427030015819,17.553140654207191,-39.06411674334413,-92.105295197934879,60.778692155933363,86.080892964363031,-8.0663485025304169,-86.000133788904847,-86.002202183445732,-6.7781493537458468,-179.15872429483491,142.0837387805168,1.466616918489126E-2,172.54513110445711,170.81769234022579,null,null,null,null,null,null,null,null,null,null,2.7268569152451839E-2,0.72701135064802203,0.72728179516213298,{"$f":"IF(MIN(BO$48:BO$77)=$BP$47,BO54,IF(BO54=MIN(BO$48:BO$77),BP$47,IF(BO54=\"\",$CT54,BO54)))","v":0.72728179516213298},0.72728179516213298,0.72728179516213298,0.72728179516213298,0.72728179516213298,0.72728179516213298,0.72728179516213298,0.72728179516213298,0.72728179516213298,0.72728179516213298,0.72728179516213298,0.72728179516213298,0.72728179516213298,50,50,50,50,50,50,50,50,50,50,50,50,50,50,50,50,50,12]
[null,null,null,49,6.0873065456363377E-5,7.9335645527853907E-5,1.6979442386182111E-6,3.5591214618407189E-6,1.158577990397666E-7,5.7379241684099666E-6,3.529577013667923E-3,1.05762190980217E-2,4.1490297906840407E-4,1.376158268921762E-3,1.495874564046325E-3,1.444986550031136E-3,2.350924752658657E-2,8.7890794684322079E-2,4.9130527109208402E-6,7.9868885536162532E-2,0.53763664118734078,7.2067824361611688E-2,9.5804128269442685E-6,8.4021113620358096E-4,null,null,null,null,null,null,null,null,null,null,79.894153006581661,34.628972832945159,-134.42574899009929,-114.0794937563516,-59.526282319260787,109.4203880578002,-91.063848749223027,86.812552438093704,-101.23862895022189,159.11335293203919,33.377476363997637,81.729845005103982,8.2187499165419311,149.87237706031161,-157.12616769974571,-37.937970708289747,1.602744131769277,73.714589340653831,-27.52378960187562,176.45720650671251,null,null,null,null,null,null,null,null,null,null,2.7411810140728111E-2,0.67693520113881644,0.67718967159381704,{"$f":"IF(MIN(BO$48:BO$77)=$BP$47,BO55,IF(BO55=MIN(BO$48:BO$77),BP$47,IF(BO55=\"\",$CT55,BO55)))","v":0.67718967159381704},0.67718967159381704,0.67718967159381704,0.67718967159381704,0.67718967159381704,0.67718967159381704,0.67718967159381704,0.67718967159381704,0.67718967159381704,0.67718967159381704,0.67718967159381704,0.67718967159381704,49,49,49,49,49,49,49,49,49,49,49,49,49,49,49,49,49,49,13]
[null,null,null,48,2.4319508127145538E-7,3.420725985079056E-6,2.0220222058840401E-5,1.298410447845971E-5,3.8407082378414228E-7,7.204695715532431E-6,2.884275774898559E-5,7.1384217916039812E-6,9.757430110444098E-5,1.61405123175279E-5,2.990673947957412E-5,7.1076603234979433E-5,2.0460428552241769E-4,1.7974883622790409E-4,5.3024581397902863E-5,8.481620541004746E-4,2.8909732750277402E-4,3.693062715339292E-4,2.261096290203316E-6,4.3842928264111108E-8,null,null,null,null,null,null,null,null,null,null,159.66635186771501,-105.151362903099,23.382178297641399,-14.836819485757109,-171.68699765650209,82.554648145806695,23.1041092243651,19.244279741574552,-86.92307662856615,64.004577892237762,-96.54436482909577,5.9708456162291519,92.011990638030426,95.093585424954171,-179.13968987309991,-178.90913979936599,138.86483494019691,179.7764973253995,172.46522729528701,-161.72081420463439,null,null,null,null,null,null,null,null,null,null,2.581350170182407E-2,0.63457931694410985,0.63479084445936307,{"$f":"IF(MIN(BO$48:BO$77)=$BP$47,BO56,IF(BO56=MIN(BO$48:BO$77),BP$47,IF(BO56=\"\",$CT56,BO56)))","v":0.63479084445936307},0.63479084445936307,0.63479084445936307,0.63479084445936307,0.63479084445936307,0.63479084445936307,0.63479084445936307,0.63479084445936307,0.63479084445936307,0.63479084445936307,0.63479084445936307,48,48,48,48,48,48,48,48,48,48,48,48,48,48,48,48,48,48,48,14]
[null,null,null,47,3.5675825697104071E-6,1.5072364982781961E-4,8.6299381468639976E-7,1.145691152607085E-6,4.8672346002047904E-7,1.25839614646196E-6,5.8045964836977868E-5,3.1785873318294488E-4,6.5020748717558634E-6,3.6733733721644187E-5,1.7024124339014069E-5,4.6842088456808186E-6,1.135909705634015E-4,4.040881135413124E-4,7.8007573634305128E-8,1.4274597779009789E-4,1.0549572221036699E-3,1.3722564532196271E-4,2.9319687443184529E-8,2.299248731429584E-6,null,null,null,null,null,null,null,null,null,null,-99.634721504277877,39.779951031065771,-90.297578305524297,-75.843184137984181,-39.510339866883008,142.79863178549201,-85.283236877965479,91.745652282936547,-41.949886751417161,4.8538636378052296,94.783257360359272,161.62557038044511,-172.55846798498689,-30.448560343423129,102.7708178966803,-31.672508618163459,1.246512030243198,72.283511733980106,41.694104279410027,176.19124190015091,null,null,null,null,null,null,null,null,null,null,3.2205106860382589E-2,0.58967788864319715,0.5899839245078311,{"$f":"IF(MIN(BO$48:BO$77)=$BP$47,BO57,IF(BO57=MIN(BO$48:BO$77),BP$47,IF(BO57=\"\",$CT57,BO57)))","v":0.5899839245078311},0.5899839245078311,0.5899839245078311,0.5899839245078311,0.5899839245078311,0.5899839245078311,0.5899839245078311,0.5899839245078311,0.5899839245078311,0.5899839245078311,47,47,47,47,47,47,47,47,47,47,47,47,47,47,47,47,47,47,47,47,15]
[null,null,null,46,1.0177288881592559E-5,3.4723337104123889E-6,2.6423756515148369E-7,5.2846399385550967E-7,3.7112298676491847E-8,7.7763372040909744E-7,2.8383646059176679E-6,2.3134975107125791E-5,2.4087387945939369E-5,1.6416168838492751E-5,1.180924656903335E-5,3.5930367835943409E-5,4.0153516583667241E-5,3.2876678672825852E-5,2.3369606014136671E-7,9.927571742512655E-5,3.1245610059588087E-4,5.6014040114931907E-5,7.8702214141385278E-8,5.0793133328288951E-7,null,null,null,null,null,null,null,null,null,null,-100.14803249055601,-151.64563055479829,49.009253620249908,64.899175397356501,-76.084271331891401,-74.840575534633103,-165.86823513683211,93.176944337589759,0.45187189164900021,-19.846700710764829,22.209259375259041,-87.819437836510602,1.846522451851615,127.8356894308105,-86.272005050617835,-66.751845353712113,-1.376864628805968,80.603017127439074,-85.015445148606105,176.44162965227031,null,null,null,null,null,null,null,null,null,null,2.939626131922948E-2,0.57832649830654392,0.57857653795223896,{"$f":"IF(MIN(BO$48:BO$77)=$BP$47,BO58,IF(BO58=MIN(BO$48:BO$77),BP$47,IF(BO58=\"\",$CT58,BO58)))","v":0.57857653795223896},0.57857653795223896,0.57857653795223896,0.57857653795223896,0.57857653795223896,0.57857653795223896,0.57857653795223896,0.57857653795223896,0.57857653795223896,46,46,46,46,46,46,46,46,46,46,46,46,46,46,46,46,46,46,46,46,46,16]
[null,null,null,45,9.8239309453539879E-5,5.0308770721771319E-3,7.9286875927151649E-4,8.4296388850652027E-4,4.4383005289899587E-2,5.1411611168278542E-4,4.6861485569985291E-3,2.3356875169557739E-2,3.0543195002231849E-2,6.0173304699245013E-2,0.22609260176814941,6.2389771536623909E-2,8.5079341555614779E-2,8.9146413631366245E-2,4.955633141690001E-3,0.49975841248923208,0.18429749720037239,1.6014094652822761E-2,9.8674165224123278E-4,3.7947851819417033E-5,null,null,null,null,null,null,null,null,null,null,96.674339183024983,-81.335335354373669,81.966773050873584,63.316524197957747,-97.485189557282069,-142.52960285846549,110.1839979607303,-121.8126274415004,92.708203880700083,-119.24268794774009,-91.684524377349049,-5.3814717225794961,-81.873644205768329,-119.4460306854659,-178.1833413723447,-179.45091149579119,130.2997829149769,-6.3839236456577169,172.64293088172471,-110.89919190725359,null,null,null,null,null,null,null,null,null,null,2.8593448847440191E-2,0.50967001412126456,0.5098784913259321,{"$f":"IF(MIN(BO$48:BO$77)=$BP$47,BO59,IF(BO59=MIN(BO$48:BO$77),BP$47,IF(BO59=\"\",$CT59,BO59)))","v":0.5098784913259321},0.5098784913259321,0.5098784913259321,0.5098784913259321,0.5098784913259321,0.5098784913259321,0.5098784913259321,0.5098784913259321,45,45,45,45,45,45,45,45,45,45,45,45,45,45,45,45,45,45,45,45,45,45,17]
[null,null,null,43,4.6005517576221041E-4,1.093046000581647E-2,4.0764151889070052E-2,3.6576170684768157E-2,6.9290824710870774E-4,3.0023953944889589E-2,1.615614521740829E-2,1.5281732415934279E-2,0.18533076682352689,2.8442349284093789E-2,3.0953128547884571E-2,0.17018550352944861,0.27465056596014192,0.22428625827079149,1.2843496814609031E-3,0.1234430369837293,1.5334368603940709E-2,0.77804408348560061,7.1749370693195398E-5,3.3298613739782159E-5,null,null,null,null,null,null,null,null,null,null,-135.68321785510261,-93.173492044276259,85.266145296190217,84.140813250523195,16.507121334081489,-162.67184304499571,80.300372237174187,-1.770467765790348,88.520830996200132,34.909352653267888,106.36573767878011,179.95035642684999,-90.632406065205743,-90.445549002585736,0.81321661673712675,-177.52112763305641,-158.49203411881891,0,176.29251682636419,104.0236073845835,null,null,null,null,null,null,null,null,null,null,1.103734393482032E-2,0.42197796331113979,0.42200366896232983,{"$f":"IF(MIN(BO$48:BO$77)=$BP$47,BO60,IF(BO60=MIN(BO$48:BO$77),BP$47,IF(BO60=\"\",$CT60,BO60)))","v":0.42200366896232983},0.42200366896232983,0.42200366896232983,0.42200366896232983,0.42200366896232983,0.42200366896232983,43,43,43,43,43,43,43,43,43,43,43,43,43,43,43,43,43,43,43,43,43,43,43,43,18]
[null,null,null,44,2.3741381607681501E-2,3.9196007542415048E-2,1.1949496720194609E-2,2.4388572361438519E-2,1.4313454940195151E-3,3.499950884430536E-2,1.3710367206347071E-2,3.079974613660752E-2,0.151996109415479,5.4246268136900137E-2,7.4131726842671761E-2,0.2334342666721422,0.18621151997420951,0.1014439284898957,1.9998019393575898E-3,0.42105980871051513,0.11681892153898241,8.354218109114038E-2,5.1310425905239554E-4,5.8976893230602547E-5,null,null,null,null,null,null,null,null,null,null,88.130035315925937,87.382054854104808,41.925453739145738,47.103525220028367,-77.542528296740997,-96.605023021557358,-11.039799445165819,-72.842300350051062,-3.6034399121324201,-2.6557913766989878,-5.5101015724529452,-91.638507262336972,-2.2242224675339979,17.286631979405129,-126.7286609120587,-88.01655909407809,-107.3065529858375,97.664007276613361,-88.230111785149745,175.15744963018989,null,null,null,null,null,null,null,null,null,null,7.7762187011995616E-3,0.42645488219392469,0.42646777655194451,{"$f":"IF(MIN(BO$48:BO$77)=$BP$47,BO61,IF(BO61=MIN(BO$48:BO$77),BP$47,IF(BO61=\"\",$CT61,BO61)))","v":0.42646777655194451},0.42646777655194451,0.42646777655194451,0.42646777655194451,0.42646777655194451,0.42646777655194451,0.42646777655194451,44,44,44,44,44,44,44,44,44,44,44,44,44,44,44,44,44,44,44,44,44,44,44,19]
[null,null,null,42,5.3092269852971863E-4,5.6517305393739472E-3,2.8465403167316849E-5,3.1254159733963709E-5,1.8998993388800401E-5,2.9308824329183179E-5,3.4821019941817369E-2,0.20683688986992169,7.8884498035237359E-3,2.5068339597857779E-2,7.4827407615323293E-3,6.3540047537964609E-3,4.4555563633793663E-2,0.1789727319978372,3.2316272172494982E-4,4.1458103117358563E-2,7.9316146610868554E-2,4.5963398312328391E-3,6.450778578500973E-5,1.5475831208987849E-5,null,null,null,null,null,null,null,null,null,null,80.406170000321225,-139.06746652790099,102.0890002278193,128.71307794614199,-161.21844674638729,6.3286598360237978,-90.575357336832596,88.429222212566913,-2.5288055733434889,-11.32145433682124,-73.652627160968109,-70.396809617291865,-166.00962532997229,-34.215661875637657,-177.36572124885069,172.09718742697169,176.20009442861911,-107.2286783727243,172.47569126392671,-6.2995158449366064,null,null,null,null,null,null,null,null,null,null,5.6406201337480619E-3,5.0577814955763092E-2,5.0578619581903177E-2,{"$f":"IF(MIN(BO$48:BO$77)=$BP$47,BO62,IF(BO62=MIN(BO$48:BO$77),BP$47,IF(BO62=\"\",$CT62,BO62)))","v":5.0578619581903177E-2},5.0578619581903177E-2,5.0578619581903177E-2,5.0578619581903177E-2,5.0578619581903177E-2,42,42,42,42,42,42,42,42,42,42,42,42,42,42,42,42,42,42,42,42,42,42,42,42,42,20]
[null,null,null,40,2.408623169226392E-4,3.793407942825869E-4,1.099040919385091E-4,6.7812539703174249E-5,3.2624444745345952E-6,1.0473487853064999E-5,0.15522531559498101,3.0397294106906399E-2,1.435896146707669E-2,0.1720119594902815,6.8612934061664188E-2,1.8701865607436891E-2,3.1267342621635157E-2,0.10408336422752799,2.357774251242624E-4,5.3039247240148191E-2,0.32276941661986541,5.8440164271911267E-2,9.2444915592200877E-6,4.9516108529913856E-4,null,null,null,null,null,null,null,null,null,null,-100.094483106189,-139.3356425175146,38.195803345757227,17.209130530445989,-126.505296407426,116.1842967715845,-91.562567614276162,-93.533636634733782,40.749187488683141,176.47551496375439,-8.1346254331371295,-98.00869839439099,-145.46935499872259,-39.58951722114093,-90.000289566954081,147.991406850294,-178.4030579478551,-51.075273029722851,170.41533531568959,-3.322818673030735,null,null,null,null,null,null,null,null,null,null,2.3530371339813939E-2,3.6120373784333172E-2,3.6130377473582387E-2,{"$f":"IF(MIN(BO$48:BO$77)=$BP$47,BO63,IF(BO63=MIN(BO$48:BO$77),BP$47,IF(BO63=\"\",$CT63,BO63)))","v":3.6130377473582387E-2},3.6130377473582387E-2,3.6130377473582387E-2,40,40,40,40,40,40,40,40,40,40,40,40,40,40,40,40,40,40,40,40,40,40,40,40,40,40,40,21]
[null,null,null,41,2.3057222252007329E-4,1.320827887065301E-4,1.68229742532031E-4,1.115204665289913E-4,5.5075404500039474E-6,6.2644235620221486E-5,0.1405941470404084,8.1201825137572098E-2,1.5718153662952289E-2,0.1731312569426591,8.7638517831413659E-2,2.6235095057532899E-2,2.7229573096322471E-2,1.9046363078891008E-2,1.424818178660622E-2,4.2621730259637149E-2,1.26053680077095E-2,4.7449757595740376E-3,5.3128728191238588E-5,1.4467334053516991E-6,null,null,null,null,null,null,null,null,null,null,81.86185798748366,38.500356920927757,23.928419060941319,-15.376798773757489,-130.58073537662389,91.686057752635506,178.38963953434941,-179.1232176184057,91.821320599470923,-91.845535817728432,82.443142303627795,-15.200186501252251,-67.384946283824178,-1.7455941674526081,-6.6273493967275378E-4,-147.51661107589121,-175.47295467402739,94.474702565655079,-156.9817623724955,169.3826042838588,null,null,null,null,null,null,null,null,null,null,2.2382624411628419E-2,3.6181202350228189E-2,3.6190268820279897E-2,{"$f":"IF(MIN(BO$48:BO$77)=$BP$47,BO64,IF(BO64=MIN(BO$48:BO$77),BP$47,IF(BO64=\"\",$CT64,BO64)))","v":3.6190268820279897E-2},3.6190268820279897E-2,3.6190268820279897E-2,3.6190268820279897E-2,41,41,41,41,41,41,41,41,41,41,41,41,41,41,41,41,41,41,41,41,41,41,41,41,41,41,22]
[null,null,null,39,1.790483080391622E-4,5.8038672330380341E-3,8.3087647669013282E-4,8.8829976654846538E-4,4.7067717354337797E-2,5.4001867365716008E-4,2.8483608787286631E-3,1.1612723178764051E-2,6.697723076699847E-3,4.6573766285368341E-3,1.2591316174846641E-2,4.6439735159081444E-3,1.367161847704621E-2,1.327277468930625E-2,1.598248735618892E-3,0.16140113467673631,6.1004085866011977E-2,4.0805879621857791E-3,3.1905525340244611E-4,1.207735304624291E-5,null,null,null,null,null,null,null,null,null,null,-90.440956939093141,91.871833634296891,-97.177198202546776,-115.99413330098299,82.506166002210065,38.249568870968112,-123.5625388626421,96.783583453015652,84.702051170304784,-103.66908723865831,-90.899386812700456,173.6338566114008,98.701644040023382,66.353611778833795,1.82857679099794,0.45360712641433892,-47.797459871764069,169.98396752789961,-7.3628998457436223,71.640547394821951,null,null,null,null,null,null,null,null,null,null,0.25445979198407559,1.151856927271828E-2,1.191062716661517E-2,{"$f":"IF(MIN(BO$48:BO$77)=$BP$47,BO65,IF(BO65=MIN(BO$48:BO$77),BP$47,IF(BO65=\"\",$CT65,BO65)))","v":1.191062716661517E-2},1.191062716661517E-2,39,39,39,39,39,39,39,39,39,39,39,39,39,39,39,39,39,39,39,39,39,39,39,39,39,39,39,39,23]
[null,null,null,37,5.1341832272063621E-4,1.1479446364136871E-2,4.2815923284109048E-2,3.8883374230999627E-2,7.5789167542211766E-4,3.1974509328612753E-2,9.5436987281747095E-3,2.9036225628712282E-3,1.2792257541255519E-2,1.199015888760414E-2,1.0406585035712099E-2,1.3608862406977311E-2,2.795946035233891E-2,2.7495715311684019E-2,4.5606439901678983E-4,3.8864456030734663E-2,4.3543296382688092E-2,0.22961710886800771,1.9543820366325689E-5,5.9533339854267959E-5,null,null,null,null,null,null,null,null,null,null,47.912558775621221,86.795467291273681,-93.694791218736654,-95.030150407081564,-162.61279224875719,17.847666719696662,-96.986784718355267,122.6778107076245,84.417630564827434,-160.58286887787281,-74.459477797465709,176.72606959299591,91.25484590610256,100.3249995188711,179.53687965488109,-3.0155592952396222,4.5192347298149844,178.62409749080641,-4.1133178187515211,-174.13001730307101,null,null,null,null,null,null,null,null,null,null,5.5159054348893517E-2,7.6988713178474978E-3,7.7106101011683598E-3,{"$f":"IF(MIN(BO$48:BO$77)=$BP$47,BO66,IF(BO66=MIN(BO$48:BO$77),BP$47,IF(BO66=\"\",$CT66,BO66)))","v":37},37,37,37,37,37,37,37,37,37,37,37,37,37,37,37,37,37,37,37,37,37,37,37,37,37,37,37,37,37,24]
[null,null,null,38,2.3020493891413581E-2,4.0725566407989792E-2,1.276240774947371E-2,2.5996529564173719E-2,1.5256349571188051E-3,3.7283783032095758E-2,6.5206653484852434E-3,7.8157401407818062E-3,1.9550149449046829E-3,9.5433083398975237E-3,4.3541232359068103E-3,5.6425584170693988E-3,1.0348444945913551E-2,4.397869946965725E-3,1.493914074631154E-3,0.1239521151839328,3.3293236405582821E-2,2.412890240424688E-2,1.510051517644171E-4,1.95129648912283E-5,null,null,null,null,null,null,null,null,null,null,-91.119653010528651,-91.001271121147667,-138.0565597428307,-132.8412626654171,102.3829401486169,83.494880613377191,174.6401136130988,-125.7442631058,131.09764957174249,-82.538579741078834,44.281857943236467,-89.066562101748772,-179.15783196163181,-74.637933727743317,161.94648331859361,90.095426126545206,72.424283875482686,-83.037374581093829,89.451238814316497,-3.9630897494123731,null,null,null,null,null,null,null,null,null,null,2.2038237699881211E-2,7.8599363556239813E-3,7.8618457735360001E-3,{"$f":"IF(MIN(BO$48:BO$77)=$BP$47,BO67,IF(BO67=MIN(BO$48:BO$77),BP$47,IF(BO67=\"\",$CT67,BO67)))","v":7.8618457735360001E-3},38,38,38,38,38,38,38,38,38,38,38,38,38,38,38,38,38,38,38,38,38,38,38,38,38,38,38,38,38,25]
[null,null,null,57,null,null,null,null,null,null,null,null,null,null,null,null,null,null,null,null,null,null,null,null,null,null,null,null,null,null,null,null,null,null,null,null,null,null,null,null,null,null,null,null,null,null,null,null,null,null,null,null,null,null,null,null,null,null,null,null,null,null,null,null,null,null,null,{"$f":"IF(MIN(BO$48:BO$77)=$BP$47,BO68,IF(BO68=MIN(BO$48:BO$77),BP$47,IF(BO68=\"\",$CT68,BO68)))","v":26},26,26,26,26,26,26,26,26,26,26,26,26,26,26,26,26,26,26,26,57,57,57,57,57,57,57,57,57,57,26]
[null,null,null,58,null,null,null,null,null,null,null,null,null,null,null,null,null,null,null,null,null,null,null,null,null,null,null,null,null,null,null,null,null,null,null,null,null,null,null,null,null,null,null,null,null,null,null,null,null,null,null,null,null,null,null,null,null,null,null,null,null,null,null,null,null,null,null,{"$f":"IF(MIN(BO$48:BO$77)=$BP$47,BO69,IF(BO69=MIN(BO$48:BO$77),BP$47,IF(BO69=\"\",$CT69,BO69)))","v":27},27,27,27,27,27,27,27,27,27,27,27,27,27,27,27,27,27,27,27,27,58,58,58,58,58,58,58,58,58,27]
[null,null,null,59,null,null,null,null,null,null,null,null,null,null,null,null,null,null,null,null,null,null,null,null,null,null,null,null,null,null,null,null,null,null,null,null,null,null,null,null,null,null,null,null,null,null,null,null,null,null,null,null,null,null,null,null,null,null,null,null,null,null,null,null,null,null,null,{"$f":"IF(MIN(BO$48:BO$77)=$BP$47,BO70,IF(BO70=MIN(BO$48:BO$77),BP$47,IF(BO70=\"\",$CT70,BO70)))","v":28},28,28,28,28,28,28,28,28,28,28,28,28,28,28,28,28,28,28,28,28,28,59,59,59,59,59,59,59,59,28]
[null,null,null,60,null,null,null,null,null,null,null,null,null,null,null,null,null,null,null,null,null,null,null,null,null,null,null,null,null,null,null,null,null,null,null,null,null,null,null,null,null,null,null,null,null,null,null,null,null,null,null,null,null,null,null,null,null,null,null,null,null,null,null,null,null,null,null,{"$f":"IF(MIN(BO$48:BO$77)=$BP$47,BO71,IF(BO71=MIN(BO$48:BO$77),BP$47,IF(BO71=\"\",$CT71,BO71)))","v":29},29,29,29,29,29,29,29,29,29,29,29,29,29,29,29,29,29,29,29,29,29,29,60,60,60,60,60,60,60,29]
[null,null,null,61,null,null,null,null,null,null,null,null,null,null,null,null,null,null,null,null,null,null,null,null,null,null,null,null,null,null,null,null,null,null,null,null,null,null,null,null,null,null,null,null,null,null,null,null,null,null,null,null,null,null,null,null,null,null,null,null,null,null,null,null,null,null,null,{"$f":"IF(MIN(BO$48:BO$77)=$BP$47,BO72,IF(BO72=MIN(BO$48:BO$77),BP$47,IF(BO72=\"\",$CT72,BO72)))","v":30},30,30,30,30,30,30,30,30,30,30,30,30,30,30,30,30,30,30,30,30,30,30,30,61,61,61,61,61,61,30]
[null,null,null,62,null,null,null,null,null,null,null,null,null,null,null,null,null,null,null,null,null,null,null,null,null,null,null,null,null,null,null,null,null,null,null,null,null,null,null,null,null,null,null,null,null,null,null,null,null,null,null,null,null,null,null,null,null,null,null,null,null,null,null,null,null,null,null,{"$f":"IF(MIN(BO$48:BO$77)=$BP$47,BO73,IF(BO73=MIN(BO$48:BO$77),BP$47,IF(BO73=\"\",$CT73,BO73)))","v":31},31,31,31,31,31,31,31,31,31,31,31,31,31,31,31,31,31,31,31,31,31,31,31,31,62,62,62,62,62,31]
[null,null,null,63,null,null,null,null,null,null,null,null,null,null,null,null,null,null,null,null,null,null,null,null,null,null,null,null,null,null,null,null,null,null,null,null,null,null,null,null,null,null,null,null,null,null,null,null,null,null,null,null,null,null,null,null,null,null,null,null,null,null,null,null,null,null,null,{"$f":"IF(MIN(BO$48:BO$77)=$BP$47,BO74,IF(BO74=MIN(BO$48:BO$77),BP$47,IF(BO74=\"\",$CT74,BO74)))","v":32},32,32,32,32,32,32,32,32,32,32,32,32,32,32,32,32,32,32,32,32,32,32,32,32,32,63,63,63,63,32]
[null,null,null,64,null,null,null,null,null,null,null,null,null,null,null,null,null,null,null,null,null,null,null,null,null,null,null,null,null,null,null,null,null,null,null,null,null,null,null,null,null,null,null,null,null,null,null,null,null,null,null,null,null,null,null,null,null,null,null,null,null,null,null,null,null,null,null,{"$f":"IF(MIN(BO$48:BO$77)=$BP$47,BO75,IF(BO75=MIN(BO$48:BO$77),BP$47,IF(BO75=\"\",$CT75,BO75)))","v":33},33,33,33,33,33,33,33,33,33,33,33,33,33,33,33,33,33,33,33,33,33,33,33,33,33,33,64,64,64,33]
[null,null,null,65,null,null,null,null,null,null,null,null,null,null,null,null,null,null,null,null,null,null,null,null,null,null,null,null,null,null,null,null,null,null,null,null,null,null,null,null,null,null,null,null,null,null,null,null,null,null,null,null,null,null,null,null,null,null,null,null,null,null,null,null,null,null,null,{"$f":"IF(MIN(BO$48:BO$77)=$BP$47,BO76,IF(BO76=MIN(BO$48:BO$77),BP$47,IF(BO76=\"\",$CT76,BO76)))","v":34},34,34,34,34,34,34,34,34,34,34,34,34,34,34,34,34,34,34,34,34,34,34,34,34,34,34,34,65,65,34]
[null,null,null,66,null,null,null,null,null,null,null,null,null,null,null,null,null,null,null,null,null,null,null,null,null,null,null,null,null,null,null,null,null,null,null,null,null,null,null,null,null,null,null,null,null,null,null,null,null,null,null,null,null,null,null,null,null,null,null,null,null,null,null,null,null,null,null,{"$f":"IF(MIN(BO$48:BO$77)=$BP$47,BO77,IF(BO77=MIN(BO$48:BO$77),BP$47,IF(BO77=\"\",$CT77,BO77)))","v":35},35,35,35,35,35,35,35,35,35,35,35,35,35,35,35,35,35,35,35,35,35,35,35,35,35,35,35,35,66,35]

{"sheet":"6 RPM","index":4,"n_rows":77,"n_cols":98,"rows_kept":77,"cut":false,"hidden":false,"merged":[[8,56,8,57],[8,58,8,59],[8,60,8,61],[8,62,8,63],[8,44,8,45],[8,46,8,47],[8,48,8,49],[8,50,8,51],[8,52,8,53],[8,54,8,55],[8,32,8,33],[8,34,8,35],[8,36,8,37],[8,38,8,39],[8,40,8,41],[8,42,8,43],[8,20,8,21],[8,22,8,23],[8,24,8,25],[8,26,8,27],[8,28,8,29],[8,30,8,31],[7,62,7,63],[8,2,8,3],[8,4,8,5],[8,6,8,7],[8,8,8,9],[8,10,8,11],[8,12,8,13],[8,14,8,15],[8,16,8,17],[8,18,8,19],[7,50,7,51],[7,52,7,53],[7,54,7,55],[7,56,7,57],[7,58,7,59],[7,60,7,61],[7,38,7,39],[7,40,7,41],[7,42,7,43],[7,44,7,45],[7,46,7,47],[7,48,7,49],[7,26,7,27],[7,28,7,29],[7,30,7,31],[7,32,7,33],[7,34,7,35],[7,36,7,37],[7,14,7,15],[7,16,7,17],[7,18,7,19],[7,20,7,21],[7,22,7,23],[7,24,7,25],[6,56,6,57],[6,58,6,59],[6,60,6,61],[6,62,6,63],[7,2,7,3],[7,4,7,5],[7,6,7,7],[7,8,7,9],[7,10,7,11],[7,12,7,13],[6,44,6,45],[6,46,6,47],[6,48,6,49],[6,50,6,51],[6,52,6,53],[6,54,6,55],[6,32,6,33],[6,34,6,35],[6,36,6,37],[6,38,6,39],[6,40,6,41],[6,42,6,43],[6,20,6,21],[6,22,6,23],[6,24,6,25],[6,26,6,27],[6,28,6,29],[6,30,6,31],[5,62,5,63],[6,2,6,3],[6,4,6,5],[6,6,6,7],[6,8,6,9],[6,10,6,11],[6,12,6,13],[6,14,6,15],[6,16,6,17],[6,18,6,19],[5,50,5,51],[5,52,5,53],[5,54,5,55],[5,56,5,57],[5,58,5,59],[5,60,5,61],[5,38,5,39],[5,40,5,41],[5,42,5,43],[5,44,5,45],[5,2,5,3],[5,4,5,5],[5,6,5,7],[5,8,5,9],[5,10,5,11],[5,12,5,13],[5,46,5,47],[5,48,5,49],[5,26,5,27],[5,28,5,29],[5,30,5,31],[5,32,5,33],[5,34,5,35],[5,36,5,37],[5,14,5,15],[5,16,5,17],[5,18,5,19],[5,20,5,21],[5,22,5,23],[5,24,5,25]]}
["This worksheet is used to sort the mode shapes and frequencies and to help you determine which modes are which for up to 30 modes (up to 30 DOFs)."]
["To use this spreadsheet, paste the appropriate data output from MBC3 into the six gray cells marked with comments (DescStates, MBC_ModeShapeMagnitude, MBC_ModeShapePhaseDeg_MBC_DampingRatio, MBC_DampedFrequencyHz, MBC_NaturalFrequencyHz).  The Scaling should be calculated according to the comment, but is not output by MBC3.  Do not change any other cell!"]
["NOTE: This spreadsheet doesn't work if any natural (undamped) frequency is 0.0 or if any natural (undamped) frequency is in duplicate--to avoid the resulting error, in the cells where the frequencies are pasted-in, change the error-causing frequency (or frequencies) by a very small amount!"]
[null,null,null,"BladeLength",117,"TowerHt",144.495]
[null,null,"Mode Shapes and Frequencies"]
[null,null,"Mode Number",null,1,null,{"$f":"E6+1","v":2},null,{"$f":"G6+1","v":3},null,{"$f":"I6+1","v":4},null,{"$f":"K6+1","v":5},null,{"$f":"M6+1","v":6},null,{"$f":"O6+1","v":7},null,{"$f":"Q6+1","v":8},null,{"$f":"S6+1","v":9},null,{"$f":"U6+1","v":10},null,{"$f":"W6+1","v":11},null,{"$f":"Y6+1","v":12},null,{"$f":"AA6+1","v":13},null,{"$f":"AC6+1","v":14},null,{"$f":"AE6+1","v":15},null,{"$f":"AG6+1","v":16},null,{"$f":"AI6+1","v":17},null,{"$f":"AK6+1","v":18},null,{"$f":"AM6+1","v":19},null,{"$f":"AO6+1","v":20},null,{"$f":"AQ6+1","v":21},null,{"$f":"AS6+1","v":22},null,{"$f":"AU6+1","v":23},null,{"$f":"AW6+1","v":24},null,{"$f":"AY6+1","v":25},null,{"$f":"BA6+1","v":26},null,{"$f":"BC6+1","v":27},null,{"$f":"BE6+1","v":28},null,{"$f":"BG6+1","v":29},null,{"$f":"BI6+1","v":30}]
[null,null,"Natural (Undamped) Frequencies (Hz)",null,{"$f":"IF(VLOOKUP(E$6+$BO$47,$D$48:$BO$77,64,FALSE)=\"\",\"\",VLOOKUP(E$6+$BO$47,$D$48:$BO$77,64,FALSE))","v":7.733141384580965E-3},null,{"$f":"IF(VLOOKUP(G$6+$BO$47,$D$48:$BO$77,64,FALSE)=\"\",\"\",VLOOKUP(G$6+$BO$47,$D$48:$BO$77,64,FALSE))","v":7.8357961127240913E-3},null,{"$f":"IF(VLOOKUP(I$6+$BO$47,$D$48:$BO$77,64,FALSE)=\"\",\"\",VLOOKUP(I$6+$BO$47,$D$48:$BO$77,64,FALSE))","v":1.1923831735100809E-2},null,{"$f":"IF(VLOOKUP(K$6+$BO$47,$D$48:$BO$77,64,FALSE)=\"\",\"\",VLOOKUP(K$6+$BO$47,$D$48:$BO$77,64,FALSE))","v":3.6111583310311203E-2},null,{"$f":"IF(VLOOKUP(M$6+$BO$47,$D$48:$BO$77,64,FALSE)=\"\",\"\",VLOOKUP(M$6+$BO$47,$D$48:$BO$77,64,FALSE))","v":3.6179054180370492E-2},null,{"$f":"IF(VLOOKUP(O$6+$BO$47,$D$48:$BO$77,64,FALSE)=\"\",\"\",VLOOKUP(O$6+$BO$47,$D$48:$BO$77,64,FALSE))","v":5.0577356649838187E-2},null,{"$f":"IF(VLOOKUP(Q$6+$BO$47,$D$48:$BO$77,64,FALSE)=\"\",\"\",VLOOKUP(Q$6+$BO$47,$D$48:$BO$77,64,FALSE))","v":0.41459812704726939},null,{"$f":"IF(VLOOKUP(S$6+$BO$47,$D$48:$BO$77,64,FALSE)=\"\",\"\",VLOOKUP(S$6+$BO$47,$D$48:$BO$77,64,FALSE))","v":0.42627664964985301},null,{"$f":"IF(VLOOKUP(U$6+$BO$47,$D$48:$BO$77,64,FALSE)=\"\",\"\",VLOOKUP(U$6+$BO$47,$D$48:$BO$77,64,FALSE))","v":0.49443400167658719},null,{"$f":"IF(VLOOKUP(W$6+$BO$47,$D$48:$BO$77,64,FALSE)=\"\",\"\",VLOOKUP(W$6+$BO$47,$D$48:$BO$77,64,FALSE))","v":0.55864311635259112},null,{"$f":"IF(VLOOKUP(Y$6+$BO$47,$D$48:$BO$77,64,FALSE)=\"\",\"\",VLOOKUP(Y$6+$BO$47,$D$48:$BO$77,64,FALSE))","v":0.58917677013575398},null,{"$f":"IF(VLOOKUP(AA$6+$BO$47,$D$48:$BO$77,64,FALSE)=\"\",\"\",VLOOKUP(AA$6+$BO$47,$D$48:$BO$77,64,FALSE))","v":0.67086266488124457},null,{"$f":"IF(VLOOKUP(AC$6+$BO$47,$D$48:$BO$77,64,FALSE)=\"\",\"\",VLOOKUP(AC$6+$BO$47,$D$48:$BO$77,64,FALSE))","v":0.68163709985043353},null,{"$f":"IF(VLOOKUP(AE$6+$BO$47,$D$48:$BO$77,64,FALSE)=\"\",\"\",VLOOKUP(AE$6+$BO$47,$D$48:$BO$77,64,FALSE))","v":0.7622735399223981},null,{"$f":"IF(VLOOKUP(AG$6+$BO$47,$D$48:$BO$77,64,FALSE)=\"\",\"\",VLOOKUP(AG$6+$BO$47,$D$48:$BO$77,64,FALSE))","v":2.3275521155834031},null,{"$f":"IF(VLOOKUP(AI$6+$BO$47,$D$48:$BO$77,64,FALSE)=\"\",\"\",VLOOKUP(AI$6+$BO$47,$D$48:$BO$77,64,FALSE))","v":2.4621338199541869},null,{"$f":"IF(VLOOKUP(AK$6+$BO$47,$D$48:$BO$77,64,FALSE)=\"\",\"\",VLOOKUP(AK$6+$BO$47,$D$48:$BO$77,64,FALSE))","v":2.5193333796433368},null,{"$f":"IF(VLOOKUP(AM$6+$BO$47,$D$48:$BO$77,64,FALSE)=\"\",\"\",VLOOKUP(AM$6+$BO$47,$D$48:$BO$77,64,FALSE))","v":2.578592240363299},null,{"$f":"IF(VLOOKUP(AO$6+$BO$47,$D$48:$BO$77,64,FALSE)=\"\",\"\",VLOOKUP(AO$6+$BO$47,$D$48:$BO$77,64,FALSE))","v":2.671372635985124},null,{"$f":"IF(VLOOKUP(AQ$6+$BO$47,$D$48:$BO$77,64,FALSE)=\"\",\"\",VLOOKUP(AQ$6+$BO$47,$D$48:$BO$77,64,FALSE))","v":4.8100436845300729},null,{"$f":"IF(VLOOKUP(AS$6+$BO$47,$D$48:$BO$77,64,FALSE)=\"\",\"\",VLOOKUP(AS$6+$BO$47,$D$48:$BO$77,64,FALSE))","v":""},null,{"$f":"IF(VLOOKUP(AU$6+$BO$47,$D$48:$BO$77,64,FALSE)=\"\",\"\",VLOOKUP(AU$6+$BO$47,$D$48:$BO$77,64,FALSE))","v":""},null,{"$f":"IF(VLOOKUP(AW$6+$BO$47,$D$48:$BO$77,64,FALSE)=\"\",\"\",VLOOKUP(AW$6+$BO$47,$D$48:$BO$77,64,FALSE))","v":""},null,{"$f":"IF(VLOOKUP(AY$6+$BO$47,$D$48:$BO$77,64,FALSE)=\"\",\"\",VLOOKUP(AY$6+$BO$47,$D$48:$BO$77,64,FALSE))","v":""},null,{"$f":"IF(VLOOKUP(BA$6+$BO$47,$D$48:$BO$77,64,FALSE)=\"\",\"\",VLOOKUP(BA$6+$BO$47,$D$48:$BO$77,64,FALSE))","v":""},null,{"$f":"IF(VLOOKUP(BC$6+$BO$47,$D$48:$BO$77,64,FALSE)=\"\",\"\",VLOOKUP(BC$6+$BO$47,$D$48:$BO$77,64,FALSE))","v":""},null,{"$f":"IF(VLOOKUP(BE$6+$BO$47,$D$48:$BO$77,64,FALSE)=\"\",\"\",VLOOKUP(BE$6+$BO$47,$D$48:$BO$77,64,FALSE))","v":""},null,{"$f":"IF(VLOOKUP(BG$6+$BO$47,$D$48:$BO$77,64,FALSE)=\"\",\"\",VLOOKUP(BG$6+$BO$47,$D$48:$BO$77,64,FALSE))","v":""},null,{"$f":"IF(VLOOKUP(BI$6+$BO$47,$D$48:$BO$77,64,FALSE)=\"\",\"\",VLOOKUP(BI$6+$BO$47,$D$48:$BO$77,64,FALSE))","v":""},null,{"$f":"IF(VLOOKUP(BK$6+$BO$47,$D$48:$BO$77,64,FALSE)=\"\",\"\",VLOOKUP(BK$6+$BO$47,$D$48:$BO$77,64,FALSE))","v":""}]
[null,null,"Damped Frequencies (Hz)",null,{"$f":"IF(VLOOKUP(E$6+$BO$47,$D$48:$BO$77,63,FALSE)=\"\",\"\",VLOOKUP(E$6+$BO$47,$D$48:$BO$77,63,FALSE))","v":7.7228545312502169E-3},null,{"$f":"IF(VLOOKUP(G$6+$BO$47,$D$48:$BO$77,63,FALSE)=\"\",\"\",VLOOKUP(G$6+$BO$47,$D$48:$BO$77,63,FALSE))","v":7.8338764418007939E-3},null,{"$f":"IF(VLOOKUP(I$6+$BO$47,$D$48:$BO$77,63,FALSE)=\"\",\"\",VLOOKUP(I$6+$BO$47,$D$48:$BO$77,63,FALSE))","v":1.1533707361641899E-2},null,{"$f":"IF(VLOOKUP(K$6+$BO$47,$D$48:$BO$77,63,FALSE)=\"\",\"\",VLOOKUP(K$6+$BO$47,$D$48:$BO$77,63,FALSE))","v":3.6102021284458732E-2},null,{"$f":"IF(VLOOKUP(M$6+$BO$47,$D$48:$BO$77,63,FALSE)=\"\",\"\",VLOOKUP(M$6+$BO$47,$D$48:$BO$77,63,FALSE))","v":3.6169563124687547E-2},null,{"$f":"IF(VLOOKUP(O$6+$BO$47,$D$48:$BO$77,63,FALSE)=\"\",\"\",VLOOKUP(O$6+$BO$47,$D$48:$BO$77,63,FALSE))","v":5.0576553749188638E-2},null,{"$f":"IF(VLOOKUP(Q$6+$BO$47,$D$48:$BO$77,63,FALSE)=\"\",\"\",VLOOKUP(Q$6+$BO$47,$D$48:$BO$77,63,FALSE))","v":0.41455063795921038},null,{"$f":"IF(VLOOKUP(S$6+$BO$47,$D$48:$BO$77,63,FALSE)=\"\",\"\",VLOOKUP(S$6+$BO$47,$D$48:$BO$77,63,FALSE))","v":0.42626477035237947},null,{"$f":"IF(VLOOKUP(U$6+$BO$47,$D$48:$BO$77,63,FALSE)=\"\",\"\",VLOOKUP(U$6+$BO$47,$D$48:$BO$77,63,FALSE))","v":0.49425983433790882},null,{"$f":"IF(VLOOKUP(W$6+$BO$47,$D$48:$BO$77,63,FALSE)=\"\",\"\",VLOOKUP(W$6+$BO$47,$D$48:$BO$77,63,FALSE))","v":0.55831054788757817},null,{"$f":"IF(VLOOKUP(Y$6+$BO$47,$D$48:$BO$77,63,FALSE)=\"\",\"\",VLOOKUP(Y$6+$BO$47,$D$48:$BO$77,63,FALSE))","v":0.58893836651550935},null,{"$f":"IF(VLOOKUP(AA$6+$BO$47,$D$48:$BO$77,63,FALSE)=\"\",\"\",VLOOKUP(AA$6+$BO$47,$D$48:$BO$77,63,FALSE))","v":0.67066012924937013},null,{"$f":"IF(VLOOKUP(AC$6+$BO$47,$D$48:$BO$77,63,FALSE)=\"\",\"\",VLOOKUP(AC$6+$BO$47,$D$48:$BO$77,63,FALSE))","v":0.68138919022002309},null,{"$f":"IF(VLOOKUP(AE$6+$BO$47,$D$48:$BO$77,63,FALSE)=\"\",\"\",VLOOKUP(AE$6+$BO$47,$D$48:$BO$77,63,FALSE))","v":0.76201617197224036},null,{"$f":"IF(VLOOKUP(AG$6+$BO$47,$D$48:$BO$77,63,FALSE)=\"\",\"\",VLOOKUP(AG$6+$BO$47,$D$48:$BO$77,63,FALSE))","v":2.3121039911150558},null,{"$f":"IF(VLOOKUP(AI$6+$BO$47,$D$48:$BO$77,63,FALSE)=\"\",\"\",VLOOKUP(AI$6+$BO$47,$D$48:$BO$77,63,FALSE))","v":2.441259108323552},null,{"$f":"IF(VLOOKUP(AK$6+$BO$47,$D$48:$BO$77,63,FALSE)=\"\",\"\",VLOOKUP(AK$6+$BO$47,$D$48:$BO$77,63,FALSE))","v":2.514070036951086},null,{"$f":"IF(VLOOKUP(AM$6+$BO$47,$D$48:$BO$77,63,FALSE)=\"\",\"\",VLOOKUP(AM$6+$BO$47,$D$48:$BO$77,63,FALSE))","v":2.569265201179689},null,{"$f":"IF(VLOOKUP(AO$6+$BO$47,$D$48:$BO$77,63,FALSE)=\"\",\"\",VLOOKUP(AO$6+$BO$47,$D$48:$BO$77,63,FALSE))","v":2.670961955814346},null,{"$f":"IF(VLOOKUP(AQ$6+$BO$47,$D$48:$BO$77,63,FALSE)=\"\",\"\",VLOOKUP(AQ$6+$BO$47,$D$48:$BO$77,63,FALSE))","v":4.8074795265882448},null,{"$f":"IF(VLOOKUP(AS$6+$BO$47,$D$48:$BO$77,63,FALSE)=\"\",\"\",VLOOKUP(AS$6+$BO$47,$D$48:$BO$77,63,FALSE))","v":""},null,{"$f":"IF(VLOOKUP(AU$6+$BO$47,$D$48:$BO$77,63,FALSE)=\"\",\"\",VLOOKUP(AU$6+$BO$47,$D$48:$BO$77,63,FALSE))","v":""},null,{"$f":"IF(VLOOKUP(AW$6+$BO$47,$D$48:$BO$77,63,FALSE)=\"\",\"\",VLOOKUP(AW$6+$BO$47,$D$48:$BO$77,63,FALSE))","v":""},null,{"$f":"IF(VLOOKUP(AY$6+$BO$47,$D$48:$BO$77,63,FALSE)=\"\",\"\",VLOOKUP(AY$6+$BO$47,$D$48:$BO$77,63,FALSE))","v":""},null,{"$f":"IF(VLOOKUP(BA$6+$BO$47,$D$48:$BO$77,63,FALSE)=\"\",\"\",VLOOKUP(BA$6+$BO$47,$D$48:$BO$77,63,FALSE))","v":""},null,{"$f":"IF(VLOOKUP(BC$6+$BO$47,$D$48:$BO$77,63,FALSE)=\"\",\"\",VLOOKUP(BC$6+$BO$47,$D$48:$BO$77,63,FALSE))","v":""},null,{"$f":"IF(VLOOKUP(BE$6+$BO$47,$D$48:$BO$77,63,FALSE)=\"\",\"\",VLOOKUP(BE$6+$BO$47,$D$48:$BO$77,63,FALSE))","v":""},null,{"$f":"IF(VLOOKUP(BG$6+$BO$47,$D$48:$BO$77,63,FALSE)=\"\",\"\",VLOOKUP(BG$6+$BO$47,$D$48:$BO$77,63,FALSE))","v":""},null,{"$f":"IF(VLOOKUP(BI$6+$BO$47,$D$48:$BO$77,63,FALSE)=\"\",\"\",VLOOKUP(BI$6+$BO$47,$D$48:$BO$77,63,FALSE))","v":""},null,{"$f":"IF(VLOOKUP(BK$6+$BO$47,$D$48:$BO$77,63,FALSE)=\"\",\"\",VLOOKUP(BK$6+$BO$47,$D$48:$BO$77,63,FALSE))","v":""}]
[null,null,"Damping Ratio (-)",null,{"$f":"IF(VLOOKUP(E$6+$BO$47,$D$48:$BO$77,62,FALSE)=\"\",\"\",VLOOKUP(E$6+$BO$47,$D$48:$BO$77,62,FALSE))","v":5.1562482748810763E-2},null,{"$f":"IF(VLOOKUP(G$6+$BO$47,$D$48:$BO$77,62,FALSE)=\"\",\"\",VLOOKUP(G$6+$BO$47,$D$48:$BO$77,62,FALSE))","v":2.2134016373350791E-2},null,{"$f":"IF(VLOOKUP(I$6+$BO$47,$D$48:$BO$77,62,FALSE)=\"\",\"\",VLOOKUP(I$6+$BO$47,$D$48:$BO$77,62,FALSE))","v":0.25370377403234728},null,{"$f":"IF(VLOOKUP(K$6+$BO$47,$D$48:$BO$77,62,FALSE)=\"\",\"\",VLOOKUP(K$6+$BO$47,$D$48:$BO$77,62,FALSE))","v":2.301112958640671E-2},null,{"$f":"IF(VLOOKUP(M$6+$BO$47,$D$48:$BO$77,62,FALSE)=\"\",\"\",VLOOKUP(M$6+$BO$47,$D$48:$BO$77,62,FALSE))","v":2.2904202220369509E-2},null,{"$f":"IF(VLOOKUP(O$6+$BO$47,$D$48:$BO$77,62,FALSE)=\"\",\"\",VLOOKUP(O$6+$BO$47,$D$48:$BO$77,62,FALSE))","v":5.6346392343136946E-3},null,{"$f":"IF(VLOOKUP(Q$6+$BO$47,$D$48:$BO$77,62,FALSE)=\"\",\"\",VLOOKUP(Q$6+$BO$47,$D$48:$BO$77,62,FALSE))","v":1.5135117893078431E-2},null,{"$f":"IF(VLOOKUP(S$6+$BO$47,$D$48:$BO$77,62,FALSE)=\"\",\"\",VLOOKUP(S$6+$BO$47,$D$48:$BO$77,62,FALSE))","v":7.4655460579161259E-3},null,{"$f":"IF(VLOOKUP(U$6+$BO$47,$D$48:$BO$77,62,FALSE)=\"\",\"\",VLOOKUP(U$6+$BO$47,$D$48:$BO$77,62,FALSE))","v":2.6540306995723639E-2},null,{"$f":"IF(VLOOKUP(W$6+$BO$47,$D$48:$BO$77,62,FALSE)=\"\",\"\",VLOOKUP(W$6+$BO$47,$D$48:$BO$77,62,FALSE))","v":3.4500362623317238E-2},null,{"$f":"IF(VLOOKUP(Y$6+$BO$47,$D$48:$BO$77,62,FALSE)=\"\",\"\",VLOOKUP(Y$6+$BO$47,$D$48:$BO$77,62,FALSE))","v":2.8444917315754131E-2},null,{"$f":"IF(VLOOKUP(AA$6+$BO$47,$D$48:$BO$77,62,FALSE)=\"\",\"\",VLOOKUP(AA$6+$BO$47,$D$48:$BO$77,62,FALSE))","v":2.4570620531449081E-2},null,{"$f":"IF(VLOOKUP(AC$6+$BO$47,$D$48:$BO$77,62,FALSE)=\"\",\"\",VLOOKUP(AC$6+$BO$47,$D$48:$BO$77,62,FALSE))","v":2.696780475421506E-2},null,{"$f":"IF(VLOOKUP(AE$6+$BO$47,$D$48:$BO$77,62,FALSE)=\"\",\"\",VLOOKUP(AE$6+$BO$47,$D$48:$BO$77,62,FALSE))","v":2.598364931486255E-2},null,{"$f":"IF(VLOOKUP(AG$6+$BO$47,$D$48:$BO$77,62,FALSE)=\"\",\"\",VLOOKUP(AG$6+$BO$47,$D$48:$BO$77,62,FALSE))","v":0.115022118401174},null,{"$f":"IF(VLOOKUP(AI$6+$BO$47,$D$48:$BO$77,62,FALSE)=\"\",\"\",VLOOKUP(AI$6+$BO$47,$D$48:$BO$77,62,FALSE))","v":0.1299412190738386},null,{"$f":"IF(VLOOKUP(AK$6+$BO$47,$D$48:$BO$77,62,FALSE)=\"\",\"\",VLOOKUP(AK$6+$BO$47,$D$48:$BO$77,62,FALSE))","v":6.4606475981633285E-2},null,{"$f":"IF(VLOOKUP(AM$6+$BO$47,$D$48:$BO$77,62,FALSE)=\"\",\"\",VLOOKUP(AM$6+$BO$47,$D$48:$BO$77,62,FALSE))","v":8.4977213308865637E-2},null,{"$f":"IF(VLOOKUP(AO$6+$BO$47,$D$48:$BO$77,62,FALSE)=\"\",\"\",VLOOKUP(AO$6+$BO$47,$D$48:$BO$77,62,FALSE))","v":1.7534078083258641E-2},null,{"$f":"IF(VLOOKUP(AQ$6+$BO$47,$D$48:$BO$77,62,FALSE)=\"\",\"\",VLOOKUP(AQ$6+$BO$47,$D$48:$BO$77,62,FALSE))","v":3.2647880126260902E-2},null,{"$f":"IF(VLOOKUP(AS$6+$BO$47,$D$48:$BO$77,62,FALSE)=\"\",\"\",VLOOKUP(AS$6+$BO$47,$D$48:$BO$77,62,FALSE))","v":""},null,{"$f":"IF(VLOOKUP(AU$6+$BO$47,$D$48:$BO$77,62,FALSE)=\"\",\"\",VLOOKUP(AU$6+$BO$47,$D$48:$BO$77,62,FALSE))","v":""},null,{"$f":"IF(VLOOKUP(AW$6+$BO$47,$D$48:$BO$77,62,FALSE)=\"\",\"\",VLOOKUP(AW$6+$BO$47,$D$48:$BO$77,62,FALSE))","v":""},null,{"$f":"IF(VLOOKUP(AY$6+$BO$47,$D$48:$BO$77,62,FALSE)=\"\",\"\",VLOOKUP(AY$6+$BO$47,$D$48:$BO$77,62,FALSE))","v":""},null,{"$f":"IF(VLOOKUP(BA$6+$BO$47,$D$48:$BO$77,62,FALSE)=\"\",\"\",VLOOKUP(BA$6+$BO$47,$D$48:$BO$77,62,FALSE))","v":""},null,{"$f":"IF(VLOOKUP(BC$6+$BO$47,$D$48:$BO$77,62,FALSE)=\"\",\"\",VLOOKUP(BC$6+$BO$47,$D$48:$BO$77,62,FALSE))","v":""},null,{"$f":"IF(VLOOKUP(BE$6+$BO$47,$D$48:$BO$77,62,FALSE)=\"\",\"\",VLOOKUP(BE$6+$BO$47,$D$48:$BO$77,62,FALSE))","v":""},null,{"$f":"IF(VLOOKUP(BG$6+$BO$47,$D$48:$BO$77,62,FALSE)=\"\",\"\",VLOOKUP(BG$6+$BO$47,$D$48:$BO$77,62,FALSE))","v":""},null,{"$f":"IF(VLOOKUP(BI$6+$BO$47,$D$48:$BO$77,62,FALSE)=\"\",\"\",VLOOKUP(BI$6+$BO$47,$D$48:$BO$77,62,FALSE))","v":""},null,{"$f":"IF(VLOOKUP(BK$6+$BO$47,$D$48:$BO$77,62,FALSE)=\"\",\"\",VLOOKUP(BK$6+$BO$47,$D$48:$BO$77,62,FALSE))","v":""}]
[null,null,"States","Scaling","Magnitude (rad)","Phase (deg)","Magnitude (rad)","Phase (deg)","Magnitude (rad)","Phase (deg)","Magnitude (rad)","Phase (deg)","Magnitude (rad)","Phase (deg)","Magnitude (rad)","Phase (deg)","Magnitude (rad)","Phase (deg)","Magnitude (rad)","Phase (deg)","Magnitude (rad)","Phase (deg)","Magnitude (rad)","Phase (deg)","Magnitude (rad)","Phase (deg)","Magnitude (rad)","Phase (deg)","Magnitude (rad)","Phase (deg)","Magnitude (rad)","Phase (deg)","Magnitude (rad)","Phase (deg)","Magnitude (rad)","Phase (deg)","Magnitude (rad)","Phase (deg)","Magnitude (rad)","Phase (deg)","Magnitude (rad)","Phase (deg)","Magnitude (rad)","Phase (deg)","Magnitude (rad)","Phase (deg)","Magnitude (rad)","Phase (deg)","Magnitude (rad)","Phase (deg)","Magnitude (rad)","Phase (deg)","Magnitude (rad)","Phase (deg)","Magnitude (rad)","Phase (deg)","Magnitude (rad)","Phase (deg)","Magnitude (rad)","Phase (deg)","Magnitude (rad)","Phase (deg)","Magnitude (rad)","Phase (deg)"]
[null,1,"ED Platform horizontal surge translation DOF (internal DOF index = DOF_Sg), m",1,{"$f":"IF(HLOOKUP(E$6+$BO$47,$E$47:$AH$77,$B11+1,FALSE)=\"\",\"\",HLOOKUP(E$6+$BO$47,$E$47:$AH$77,$B11+1,FALSE)*$D11)","v":0.9988197040480612},{"$f":"IF(HLOOKUP(E$6+$BO$47,$AI$47:$BL$77,$B11+1,FALSE)=\"\",\"\",HLOOKUP(E$6+$BO$47,$AI$47:$BL$77,$B11+1,FALSE))","v":180},{"$f":"IF(HLOOKUP(G$6+$BO$47,$E$47:$AH$77,$B11+1,FALSE)=\"\",\"\",HLOOKUP(G$6+$BO$47,$E$47:$AH$77,$B11+1,FALSE)*$D11)","v":9.0230300999449733E-4},{"$f":"IF(HLOOKUP(G$6+$BO$47,$AI$47:$BL$77,$B11+1,FALSE)=\"\",\"\",HLOOKUP(G$6+$BO$47,$AI$47:$BL$77,$B11+1,FALSE))","v":46.480188799334947},{"$f":"IF(HLOOKUP(I$6+$BO$47,$E$47:$AH$77,$B11+1,FALSE)=\"\",\"\",HLOOKUP(I$6+$BO$47,$E$47:$AH$77,$B11+1,FALSE)*$D11)","v":3.6479471926336722E-2},{"$f":"IF(HLOOKUP(I$6+$BO$47,$AI$47:$BL$77,$B11+1,FALSE)=\"\",\"\",HLOOKUP(I$6+$BO$47,$AI$47:$BL$77,$B11+1,FALSE))","v":-40.279849852422018},{"$f":"IF(HLOOKUP(K$6+$BO$47,$E$47:$AH$77,$B11+1,FALSE)=\"\",\"\",HLOOKUP(K$6+$BO$47,$E$47:$AH$77,$B11+1,FALSE)*$D11)","v":0.40988643479318959},{"$f":"IF(HLOOKUP(K$6+$BO$47,$AI$47:$BL$77,$B11+1,FALSE)=\"\",\"\",HLOOKUP(K$6+$BO$47,$AI$47:$BL$77,$B11+1,FALSE))","v":-91.650572581334032},{"$f":"IF(HLOOKUP(M$6+$BO$47,$E$47:$AH$77,$B11+1,FALSE)=\"\",\"\",HLOOKUP(M$6+$BO$47,$E$47:$AH$77,$B11+1,FALSE)*$D11)","v":0.37176622981230351},{"$f":"IF(HLOOKUP(M$6+$BO$47,$AI$47:$BL$77,$B11+1,FALSE)=\"\",\"\",HLOOKUP(M$6+$BO$47,$AI$47:$BL$77,$B11+1,FALSE))","v":86.875800424368038},{"$f":"IF(HLOOKUP(O$6+$BO$47,$E$47:$AH$77,$B11+1,FALSE)=\"\",\"\",HLOOKUP(O$6+$BO$47,$E$47:$AH$77,$B11+1,FALSE)*$D11)","v":1.8650199589855579E-3},{"$f":"IF(HLOOKUP(O$6+$BO$47,$AI$47:$BL$77,$B11+1,FALSE)=\"\",\"\",HLOOKUP(O$6+$BO$47,$AI$47:$BL$77,$B11+1,FALSE))","v":-176.9740142288359},{"$f":"IF(HLOOKUP(Q$6+$BO$47,$E$47:$AH$77,$B11+1,FALSE)=\"\",\"\",HLOOKUP(Q$6+$BO$47,$E$47:$AH$77,$B11+1,FALSE)*$D11)","v":2.028109033268664E-3},{"$f":"IF(HLOOKUP(Q$6+$BO$47,$AI$47:$BL$77,$B11+1,FALSE)=\"\",\"\",HLOOKUP(Q$6+$BO$47,$AI$47:$BL$77,$B11+1,FALSE))","v":-83.752244345598243},{"$f":"IF(HLOOKUP(S$6+$BO$47,$E$47:$AH$77,$B11+1,FALSE)=\"\",\"\",HLOOKUP(S$6+$BO$47,$E$47:$AH$77,$B11+1,FALSE)*$D11)","v":1.6944701582943941E-3},{"$f":"IF(HLOOKUP(S$6+$BO$47,$AI$47:$BL$77,$B11+1,FALSE)=\"\",\"\",HLOOKUP(S$6+$BO$47,$AI$47:$BL$77,$B11+1,FALSE))","v":25.484347803516449},{"$f":"IF(HLOOKUP(U$6+$BO$47,$E$47:$AH$77,$B11+1,FALSE)=\"\",\"\",HLOOKUP(U$6+$BO$47,$E$47:$AH$77,$B11+1,FALSE)*$D11)","v":9.9719517561434033E-4},{"$f":"IF(HLOOKUP(U$6+$BO$47,$AI$47:$BL$77,$B11+1,FALSE)=\"\",\"\",HLOOKUP(U$6+$BO$47,$AI$47:$BL$77,$B11+1,FALSE))","v":171.53034579486729},{"$f":"IF(HLOOKUP(W$6+$BO$47,$E$47:$AH$77,$B11+1,FALSE)=\"\",\"\",HLOOKUP(W$6+$BO$47,$E$47:$AH$77,$B11+1,FALSE)*$D11)","v":1.411776045657902E-4},{"$f":"IF(HLOOKUP(W$6+$BO$47,$AI$47:$BL$77,$B11+1,FALSE)=\"\",\"\",HLOOKUP(W$6+$BO$47,$AI$47:$BL$77,$B11+1,FALSE))","v":58.591561881095068},{"$f":"IF(HLOOKUP(Y$6+$BO$47,$E$47:$AH$77,$B11+1,FALSE)=\"\",\"\",HLOOKUP(Y$6+$BO$47,$E$47:$AH$77,$B11+1,FALSE)*$D11)","v":3.2488363977177211E-4},{"$f":"IF(HLOOKUP(Y$6+$BO$47,$AI$47:$BL$77,$B11+1,FALSE)=\"\",\"\",HLOOKUP(Y$6+$BO$47,$AI$47:$BL$77,$B11+1,FALSE))","v":-98.171692609074},{"$f":"IF(HLOOKUP(AA$6+$BO$47,$E$47:$AH$77,$B11+1,FALSE)=\"\",\"\",HLOOKUP(AA$6+$BO$47,$E$47:$AH$77,$B11+1,FALSE)*$D11)","v":2.1763873685239931E-4},{"$f":"IF(HLOOKUP(AA$6+$BO$47,$AI$47:$BL$77,$B11+1,FALSE)=\"\",\"\",HLOOKUP(AA$6+$BO$47,$AI$47:$BL$77,$B11+1,FALSE))","v":-91.673994977534804},{"$f":"IF(HLOOKUP(AC$6+$BO$47,$E$47:$AH$77,$B11+1,FALSE)=\"\",\"\",HLOOKUP(AC$6+$BO$47,$E$47:$AH$77,$B11+1,FALSE)*$D11)","v":7.4214541772000463E-5},{"$f":"IF(HLOOKUP(AC$6+$BO$47,$AI$47:$BL$77,$B11+1,FALSE)=\"\",\"\",HLOOKUP(AC$6+$BO$47,$AI$47:$BL$77,$B11+1,FALSE))","v":170.4943648037362},{"$f":"IF(HLOOKUP(AE$6+$BO$47,$E$47:$AH$77,$B11+1,FALSE)=\"\",\"\",HLOOKUP(AE$6+$BO$47,$E$47:$AH$77,$B11+1,FALSE)*$D11)","v":4.4369612202343678E-5},{"$f":"IF(HLOOKUP(AE$6+$BO$47,$AI$47:$BL$77,$B11+1,FALSE)=\"\",\"\",HLOOKUP(AE$6+$BO$47,$AI$47:$BL$77,$B11+1,FALSE))","v":-162.8441748008313},{"$f":"IF(HLOOKUP(AG$6+$BO$47,$E$47:$AH$77,$B11+1,FALSE)=\"\",\"\",HLOOKUP(AG$6+$BO$47,$E$47:$AH$77,$B11+1,FALSE)*$D11)","v":1.10657382000774E-6},{"$f":"IF(HLOOKUP(AG$6+$BO$47,$AI$47:$BL$77,$B11+1,FALSE)=\"\",\"\",HLOOKUP(AG$6+$BO$47,$AI$47:$BL$77,$B11+1,FALSE))","v":60.453923538075017},{"$f":"IF(HLOOKUP(AI$6+$BO$47,$E$47:$AH$77,$B11+1,FALSE)=\"\",\"\",HLOOKUP(AI$6+$BO$47,$E$47:$AH$77,$B11+1,FALSE)*$D11)","v":6.2637920394038452E-8},{"$f":"IF(HLOOKUP(AI$6+$BO$47,$AI$47:$BL$77,$B11+1,FALSE)=\"\",\"\",HLOOKUP(AI$6+$BO$47,$AI$47:$BL$77,$B11+1,FALSE))","v":154.78979594774319},{"$f":"IF(HLOOKUP(AK$6+$BO$47,$E$47:$AH$77,$B11+1,FALSE)=\"\",\"\",HLOOKUP(AK$6+$BO$47,$E$47:$AH$77,$B11+1,FALSE)*$D11)","v":2.765818996386658E-6},{"$f":"IF(HLOOKUP(AK$6+$BO$47,$AI$47:$BL$77,$B11+1,FALSE)=\"\",\"\",HLOOKUP(AK$6+$BO$47,$AI$47:$BL$77,$B11+1,FALSE))","v":174.2095001516382},{"$f":"IF(HLOOKUP(AM$6+$BO$47,$E$47:$AH$77,$B11+1,FALSE)=\"\",\"\",HLOOKUP(AM$6+$BO$47,$E$47:$AH$77,$B11+1,FALSE)*$D11)","v":1.8545475442480071E-6},{"$f":"IF(HLOOKUP(AM$6+$BO$47,$AI$47:$BL$77,$B11+1,FALSE)=\"\",\"\",HLOOKUP(AM$6+$BO$47,$AI$47:$BL$77,$B11+1,FALSE))","v":-168.44418503803519},{"$f":"IF(HLOOKUP(AO$6+$BO$47,$E$47:$AH$77,$B11+1,FALSE)=\"\",\"\",HLOOKUP(AO$6+$BO$47,$E$47:$AH$77,$B11+1,FALSE)*$D11)","v":5.0433661391029151E-7},{"$f":"IF(HLOOKUP(AO$6+$BO$47,$AI$47:$BL$77,$B11+1,FALSE)=\"\",\"\",HLOOKUP(AO$6+$BO$47,$AI$47:$BL$77,$B11+1,FALSE))","v":79.266322346304861},{"$f":"IF(HLOOKUP(AQ$6+$BO$47,$E$47:$AH$77,$B11+1,FALSE)=\"\",\"\",HLOOKUP(AQ$6+$BO$47,$E$47:$AH$77,$B11+1,FALSE)*$D11)","v":3.0213390434521403E-8},{"$f":"IF(HLOOKUP(AQ$6+$BO$47,$AI$47:$BL$77,$B11+1,FALSE)=\"\",\"\",HLOOKUP(AQ$6+$BO$47,$AI$47:$BL$77,$B11+1,FALSE))","v":163.66705588200259},{"$f":"IF(HLOOKUP(AS$6+$BO$47,$E$47:$AH$77,$B11+1,FALSE)=\"\",\"\",HLOOKUP(AS$6+$BO$47,$E$47:$AH$77,$B11+1,FALSE)*$D11)","v":""},{"$f":"IF(HLOOKUP(AS$6+$BO$47,$AI$47:$BL$77,$B11+1,FALSE)=\"\",\"\",HLOOKUP(AS$6+$BO$47,$AI$47:$BL$77,$B11+1,FALSE))","v":""},{"$f":"IF(HLOOKUP(AU$6+$BO$47,$E$47:$AH$77,$B11+1,FALSE)=\"\",\"\",HLOOKUP(AU$6+$BO$47,$E$47:$AH$77,$B11+1,FALSE)*$D11)","v":""},{"$f":"IF(HLOOKUP(AU$6+$BO$47,$AI$47:$BL$77,$B11+1,FALSE)=\"\",\"\",HLOOKUP(AU$6+$BO$47,$AI$47:$BL$77,$B11+1,FALSE))","v":""},{"$f":"IF(HLOOKUP(AW$6+$BO$47,$E$47:$AH$77,$B11+1,FALSE)=\"\",\"\",HLOOKUP(AW$6+$BO$47,$E$47:$AH$77,$B11+1,FALSE)*$D11)","v":""},{"$f":"IF(HLOOKUP(AW$6+$BO$47,$AI$47:$BL$77,$B11+1,FALSE)=\"\",\"\",HLOOKUP(AW$6+$BO$47,$AI$47:$BL$77,$B11+1,FALSE))","v":""},{"$f":"IF(HLOOKUP(AY$6+$BO$47,$E$47:$AH$77,$B11+1,FALSE)=\"\",\"\",HLOOKUP(AY$6+$BO$47,$E$47:$AH$77,$B11+1,FALSE)*$D11)","v":""},{"$f":"IF(HLOOKUP(AY$6+$BO$47,$AI$47:$BL$77,$B11+1,FALSE)=\"\",\"\",HLOOKUP(AY$6+$BO$47,$AI$47:$BL$77,$B11+1,FALSE))","v":""},{"$f":"IF(HLOOKUP(BA$6+$BO$47,$E$47:$AH$77,$B11+1,FALSE)=\"\",\"\",HLOOKUP(BA$6+$BO$47,$E$47:$AH$77,$B11+1,FALSE)*$D11)","v":""},{"$f":"IF(HLOOKUP(BA$6+$BO$47,$AI$47:$BL$77,$B11+1,FALSE)=\"\",\"\",HLOOKUP(BA$6+$BO$47,$AI$47:$BL$77,$B11+1,FALSE))","v":""},{"$f":"IF(HLOOKUP(BC$6+$BO$47,$E$47:$AH$77,$B11+1,FALSE)=\"\",\"\",HLOOKUP(BC$6+$BO$47,$E$47:$AH$77,$B11+1,FALSE)*$D11)","v":""},{"$f":"IF(HLOOKUP(BC$6+$BO$47,$AI$47:$BL$77,$B11+1,FALSE)=\"\",\"\",HLOOKUP(BC$6+$BO$47,$AI$47:$BL$77,$B11+1,FALSE))","v":""},{"$f":"IF(HLOOKUP(BE$6+$BO$47,$E$47:$AH$77,$B11+1,FALSE)=\"\",\"\",HLOOKUP(BE$6+$BO$47,$E$47:$AH$77,$B11+1,FALSE)*$D11)","v":""},{"$f":"IF(HLOOKUP(BE$6+$BO$47,$AI$47:$BL$77,$B11+1,FALSE)=\"\",\"\",HLOOKUP(BE$6+$BO$47,$AI$47:$BL$77,$B11+1,FALSE))","v":""},{"$f":"IF(HLOOKUP(BG$6+$BO$47,$E$47:$AH$77,$B11+1,FALSE)=\"\",\"\",HLOOKUP(BG$6+$BO$47,$E$47:$AH$77,$B11+1,FALSE)*$D11)","v":""},{"$f":"IF(HLOOKUP(BG$6+$BO$47,$AI$47:$BL$77,$B11+1,FALSE)=\"\",\"\",HLOOKUP(BG$6+$BO$47,$AI$47:$BL$77,$B11+1,FALSE))","v":""},{"$f":"IF(HLOOKUP(BI$6+$BO$47,$E$47:$AH$77,$B11+1,FALSE)=\"\",\"\",HLOOKUP(BI$6+$BO$47,$E$47:$AH$77,$B11+1,FALSE)*$D11)","v":""},{"$f":"IF(HLOOKUP(BI$6+$BO$47,$AI$47:$BL$77,$B11+1,FALSE)=\"\",\"\",HLOOKUP(BI$6+$BO$47,$AI$47:$BL$77,$B11+1,FALSE))","v":""},{"$f":"IF(HLOOKUP(BK$6+$BO$47,$E$47:$AH$77,$B11+1,FALSE)=\"\",\"\",HLOOKUP(BK$6+$BO$47,$E$47:$AH$77,$B11+1,FALSE)*$D11)","v":""},{"$f":"IF(HLOOKUP(BK$6+$BO$47,$AI$47:$BL$77,$B11+1,FALSE)=\"\",\"\",HLOOKUP(BK$6+$BO$47,$AI$47:$BL$77,$B11+1,FALSE))","v":""},{"$f":"MAX(E11,G11,I11,K11,M11,O11,Q11,S11,U11,W11,Y11,AA11,AC11,AE11,AG11,AI11,AK11,AM11,AO11,AQ11,AS11,AU11,AW11,AY11,BA11,BC11,BE11,BG11,BI11,BK11)","v":0.9988197040480612},{"$f":"MATCH($BM11,E11:BK11,0)+4","v":5},{"$f":"INDIRECT(SUBSTITUTE(ADDRESS(1,$BN11,4),\"1\",\"7\"))","v":7.733141384580965E-3}]
[null,{"$f":"B11+1","v":2},"ED Platform horizontal sway translation DOF (internal DOF index = DOF_Sw), m",1,9.9320661410900427E-4,98.548986925025929,0.99878914843295308,0,0.1688075612253182,-164.69545006114191,0.3123127287852438,-165.36899219069369,0.41783499754216491,152.12661093101161,4.7467190510943938E-6,-148.05215084590941,6.197946936584214E-4,-174.48492344523569,6.8059152021648682E-3,93.219348344098321,8.5669750333211114E-5,84.027421571728823,7.2154776952780691E-5,-12.02440458095127,9.2799715639868969E-5,47.028230946425808,1.409221649492213E-4,163.86212494623979,5.8256937899939503E-4,-92.763940822365512,9.2575906871623979E-5,-90.544654103464779,2.010523206138165E-7,-48.203564728665206,7.2471313928945187E-8,136.9523837910223,1.8533173781079501E-7,-85.193079253986383,1.923129632357108E-7,-98.38531162762952,1.9635649109569359E-5,36.360324060668113,1.2673191213037319E-7,79.69727925004014,"","","","","","","","","","","","","","","","","","","","",0.99878914843295308,7,{"$f":"INDIRECT(SUBSTITUTE(ADDRESS(1,$BN12,4),\"1\",\"7\"))","v":7.8357961127240913E-3}]
[null,3,"ED Platform vertical heave translation DOF (internal DOF index = DOF_Hv), m",1,1.962696054176051E-4,179.87606072125541,5.0114358344417611E-7,87.01449367483977,2.045106659809671E-3,-102.6199593187297,1.4811846427680049E-2,-85.504081666695484,1.3586220826336729E-2,93.082295766805714,0.95290168316843271,0,6.8102627392601297E-5,-87.260241715177528,4.7705486756316207E-5,33.573435775955367,3.0657153849394082E-5,178.33957746896539,3.7148089740163628E-5,-91.063401338066413,2.361566779758571E-5,-94.058657292864268,3.2314271877169441E-6,167.1485657052589,7.1132108729823274E-6,-177.86054928168849,2.605747506428847E-5,-1.8467262893930581,2.2053304794731979E-7,-110.9050581556439,2.4451500291103561E-8,51.800561322868347,5.8437371494907777E-7,-2.254678856513038,4.0175630816735388E-7,16.710835165833728,1.4920228786709929E-7,-105.43496575696859,9.7548329054197453E-9,-1.730988815377309,"","","","","","","","","","","","","","","","","","","","",0.95290168316843271,15,{"$f":"INDIRECT(SUBSTITUTE(ADDRESS(1,$BN13,4),\"1\",\"7\"))","v":5.0577356649838187E-2}]
[null,4,"ED Platform roll tilt rotation DOF (internal DOF index = DOF_R), rad",1,4.5302830898825732E-6,155.88394797810849,5.4049113589668425E-4,-1.258767938913905,1.188820317307861E-2,78.427935870457432,5.3680667114548622E-2,15.136435939465949,7.2046643935757673E-2,-27.486287668151679,1.2607396758364661E-6,38.409565039439897,3.7250192124332872E-5,5.5340877965740809,4.0549543985622579E-4,-86.694090531960995,4.8052705641209088E-6,-97.075889294307956,4.4601099988330314E-6,168.23663291387399,4.8818563341576506E-6,-132.3739690469688,7.2737696977327786E-6,-16.551182352390729,3.0115674641242389E-5,87.09107600717995,4.900874095616538E-6,89.22627595094562,8.5757468406211414E-9,130.71489793463999,3.0498032690402739E-9,-44.133186702090597,7.7832659856962966E-9,94.343076650540723,8.0376942959036832E-9,80.89992972566489,8.1571989323894602E-7,-143.67842511838359,4.713514625463416E-9,-100.7726503237802,"","","","","","","","","","","","","","","","","","","","",7.2046643935757673E-2,13,{"$f":"INDIRECT(SUBSTITUTE(ADDRESS(1,$BN14,4),\"1\",\"7\"))","v":3.6179054180370492E-2}]
[null,5,"ED Platform pitch tilt rotation DOF (internal DOF index = DOF_P), rad",1,5.4637909494418993E-4,-1.631381408649192,3.5639381011333559E-6,-17.989347518791419,2.3395312748420811E-3,1.6081032288965511,7.057820154944211E-2,-91.891710492260216,6.4069563034468507E-2,86.500851951329835,2.8397265840641111E-4,-176.77715838190139,1.219001768242571E-4,-83.903309474055035,1.0061910965942291E-4,25.596649960475581,5.5922093882976518E-5,171.19778477003831,7.5809119707743064E-6,58.15829019469453,1.851473698731671E-5,-98.127886899371063,1.137941197822952E-5,-91.924238321864536,3.7948146723167272E-6,171.17435610831359,2.2928427260202319E-6,-163.34175827425091,4.7175571084343541E-8,59.526171155665423,2.6496847620025488E-9,152.69192736054819,1.164217020813517E-7,173.73333171496901,7.7772770033612098E-8,-169.1035032091867,2.102904586577506E-8,79.228459631646274,1.158268269019697E-9,163.46297966459821,"","","","","","","","","","","","","","","","","","","","",7.057820154944211E-2,11,{"$f":"INDIRECT(SUBSTITUTE(ADDRESS(1,$BN15,4),\"1\",\"7\"))","v":3.6111583310311203E-2}]
[null,6,"ED Platform yaw rotation DOF (internal DOF index = DOF_Y), rad",1,3.6476061592215223E-5,80.079337922626721,1.2932174619769579E-4,-32.6147984960106,0.39434942772525211,75.039136020846783,3.8999323456714468E-3,-163.137013453366,1.7162180439693349E-3,140.0954558578031,6.2243987418423993E-6,46.265927883504993,5.8002368230687768E-6,-0.66068870506784616,2.688876919054421E-6,-111.85244310768201,3.8822555771182494E-6,91.384359964126048,9.4446219789658459E-7,-29.91046149452815,1.053968050848396E-6,-174.7612014151797,1.6857210384132351E-6,-1.5189722418788301,3.1071801028291938E-7,122.6349685904285,1.4768348995507641E-7,-32.21577495867178,3.8386882782055912E-9,-86.095206281327947,1.3031241959175141E-10,-110.11410943551979,1.971789950859407E-9,-117.36237119589229,1.8898894886265199E-9,-148.9472133279213,2.0837776251292781E-8,28.866262302860619,1.1695399478430969E-8,-102.3992789855199,"","","","","","","","","","","","","","","","","","","","",0.39434942772525211,9,{"$f":"INDIRECT(SUBSTITUTE(ADDRESS(1,$BN16,4),\"1\",\"7\"))","v":1.1923831735100809E-2}]
[null,7,"ED 1st tower fore-aft bending mode DOF (internal DOF index = DOF_TFA1), m",6.9206546939340457E-3,5.9353732135815195E-6,-6.8207375610649361,7.7298477339576453E-8,-52.604523574872758,1.9397226738404385E-4,-0.28173599943863681,2.3271464340308672E-3,-90.840168646626438,2.1039206316461464E-3,87.963226307542527,2.3805214418703374E-6,-16.533114039587691,2.3191664771134079E-4,96.087461259638232,1.946272979806528E-4,-153.1375609859171,1.1212392321387619E-4,-8.724404659466396,1.4476759972885876E-5,-123.8520910286657,5.9841133465392613E-5,84.482885260282359,2.7204734281659018E-5,87.122686528345355,7.6466428551508488E-6,4.0709961041703986,6.0193392744205714E-6,15.936686762516089,4.2519263295413996E-8,-137.98138927843459,2.7790215408245808E-8,-93.399988199931471,7.6559595910279857E-8,-19.626778144446931,4.7633309025296086E-8,-8.9176101788364068,4.6115975088016551E-9,-15.46301273733817,1.8566130398727471E-9,125.0499178428158,"","","","","","","","","","","","","","","","","","","","",2.3271464340308672E-3,11,{"$f":"INDIRECT(SUBSTITUTE(ADDRESS(1,$BN17,4),\"1\",\"7\"))","v":3.6111583310311203E-2}]
[null,8,"ED 1st tower side-to-side bending mode DOF (internal DOF index = DOF_TSS1), m",6.9206546939340457E-3,9.9177093282162419E-8,136.4055633371598,5.7234754926398546E-6,-4.5273699375179088,5.0741008723515944E-4,77.455957777027464,1.7723927431911063E-3,15.98272368134341,2.3634701140453985E-3,-26.249115815151661,5.4911139185305983E-8,-167.28650916318259,6.9993038823738257E-5,-174.8120056556447,7.8740874496035704E-4,93.239449783660135,1.0411957053093462E-5,76.253051977863493,1.7998770423667051E-5,-8.2453057421870657,9.180027436623225E-6,57.292410918932653,1.4791297928965885E-5,158.89157505666199,6.6521612659582567E-5,-92.841333486176381,1.7838861980701664E-5,-90.632213876474111,3.9691650280208045E-8,-70.474264393240773,1.175468410046353E-9,133.51686052274701,2.0976466993132011E-8,-109.6968655610101,2.1415454420237896E-8,-141.29688334238531,5.4049071250962683E-7,31.593881357513439,4.2036300553790413E-7,-100.14157854726891,"","","","","","","","","","","","","","","","","","","","",2.3634701140453985E-3,13,{"$f":"INDIRECT(SUBSTITUTE(ADDRESS(1,$BN18,4),\"1\",\"7\"))","v":3.6179054180370492E-2}]
[null,9,"ED 2nd tower fore-aft bending mode DOF (internal DOF index = DOF_TFA2), m",6.9206546939340457E-3,1.5892062382494662E-8,-7.1504548161537373,9.7304956646092513E-10,54.88991227243163,2.8012829031199743E-6,179.85475299057239,4.5725206329649833E-6,-91.315595754536233,4.363198629186105E-6,86.667997624634239,3.7371845794435513E-7,-179.19779974023751,1.2923141540958047E-6,-87.221326844079883,8.2838410266580709E-7,29.207052688272181,4.5692198428249411E-7,9.6583411295789841,2.3993261804058762E-7,-109.2176332561958,4.2940919093905961E-8,-80.066540030991021,6.266149744107994E-7,93.627964936200286,2.7503302750350366E-7,-12.14864031282567,1.9489986989301615E-7,22.58392306223671,4.9779894280777763E-8,-112.13932701902949,2.9677019770893766E-9,-0.87660373833245075,1.3597492625507727E-7,-2.2108090949293868,9.3773756425660464E-8,16.34684849784076,3.0620702803099927E-8,-107.1126711362885,2.4863996121723692E-9,-17.868560520162799,"","","","","","","","","","","","","","","","","","","","",4.5725206329649833E-6,11,{"$f":"INDIRECT(SUBSTITUTE(ADDRESS(1,$BN19,4),\"1\",\"7\"))","v":3.6111583310311203E-2}]
[null,10,"ED 2nd tower side-to-side bending mode DOF (internal DOF index = DOF_TSS2), m",6.9206546939340457E-3,2.5599223579602831E-10,-138.93160279567039,1.5533772805065961E-8,-4.5301746984292048,9.4373503620216887E-7,76.510318709331784,3.2771785138709896E-6,16.26440910691187,4.7688559918408449E-6,-26.052750082569691,8.6722174157253117E-10,103.2965056323573,3.703774904039109E-7,4.0175858773537616,3.6156976267576676E-6,-86.973710796246621,3.8490589934363885E-8,143.1008263134683,1.7185835677156469E-7,174.71051178886449,2.1660032420185076E-7,41.675565790794607,4.8790700216401418E-7,170.88648479931169,1.9624878336341313E-6,-88.296557243494405,2.4963313978566959E-7,-84.069327955446838,8.223739059007322E-9,-39.118493974728644,3.4948568963228252E-9,144.33982887079191,8.8239200708442222E-9,-75.626585718381861,9.2430868760681048E-9,-88.231231768800086,1.0184916944667975E-6,36.838700016527582,2.477339467268744E-8,80.285521708511766,"","","","","","","","","","","","","","","","","","","","",4.7688559918408449E-6,13,{"$f":"INDIRECT(SUBSTITUTE(ADDRESS(1,$BN20,4),\"1\",\"7\"))","v":3.6179054180370492E-2}]
[null,11,"ED Nacelle yaw DOF (internal DOF index = DOF_Yaw), rad",1,1.2284190819973891E-7,94.03171899169169,5.0006133141703625E-7,-4.600117078101869,5.431184955296395E-5,82.614275828430678,2.2669664292215139E-4,10.58559329400429,1.479139721423172E-4,-37.096906827286027,3.612358784843238E-7,-86.463799918449979,3.9523060597701479E-5,-179.27655345565049,4.4104855530976808E-5,83.192286042412675,3.4996706388068781E-5,-86.492445068828914,1.0521344252479419E-5,152.26855082768901,1.41141594239206E-5,9.2512555275939867,2.9501757417241018E-5,-179.94695442890529,1.0027925096772109E-5,-72.2436564117138,2.8095935516194269E-6,168.74763518311161,7.6595898823733751E-7,105.420833968221,3.2928647814703427E-8,94.952067234559308,4.5070217798237202E-7,68.573878125804328,4.5408234486428641E-7,38.164966848073007,3.4628126127638079E-6,-154.70148800618779,1.015603817362825E-5,79.815209317511432,"","","","","","","","","","","","","","","","","","","","",2.2669664292215139E-4,11,{"$f":"INDIRECT(SUBSTITUTE(ADDRESS(1,$BN21,4),\"1\",\"7\"))","v":3.6111583310311203E-2}]
[null,12,"ED 1st flapwise bending-mode DOF of blade 1 (internal DOF index = DOF_BF(1,1)), m",8.5470085470085479E-3,8.6107891335454292E-6,-6.818875431145023,4.033025026354539E-7,73.863831138610678,1.5901609455675874E-4,0.54829812555215918,3.1936385224915183E-3,-91.128463598265284,3.3385088683521953E-3,84.602479946570341,4.6462885398171043E-5,-178.37192354986621,5.199951113926542E-4,98.008724473882808,7.2004663556141601E-4,157.26104163021961,5.7594767102421833E-4,-7.3799781900776118,3.258628682108866E-4,-98.818369357226231,2.1104491890849958E-3,-91.629993569454811,1.6937054284920961E-4,-76.771929610764559,1.7092313557793377E-4,64.263050635983802,2.5531274990495266E-5,115.5487576418635,3.2545169144872926E-6,33.937470534348677,3.7809085975265951E-4,82.54269790542034,7.4943255717091496E-6,72.501458711720801,5.5392398262290475E-6,71.481729747860328,4.2906184545931615E-5,-84.817627850666781,8.4219677959327482E-7,-82.905028874299504,"","","","","","","","","","","","","","","","","","","","",3.3385088683521953E-3,13,{"$f":"INDIRECT(SUBSTITUTE(ADDRESS(1,$BN22,4),\"1\",\"7\"))","v":3.6179054180370492E-2}]
[null,13,"ED 1st flapwise bending-mode DOF of blade 2 (internal DOF index = DOF_BF(2,1)), m",8.5470085470085479E-3,8.9475785568807356E-7,-7.6611951988819156,2.199512734867707E-6,-105.0877164425421,7.2833310633928991E-3,0,1.0473821861319019E-3,-84.778026144993547,4.018515237091836E-4,86.732106197982503,9.8984106326201641E-6,2.0815839106647971,2.2969603342982764E-3,89.132788511196381,1.2966882271789649E-3,-161.23739095802989,1.5277976754026036E-3,-179.87638065289039,1.9096186631754541E-4,133.6328543185092,1.0243209617175052E-4,75.181842381867312,1.4241665510895429E-3,-91.40793454600221,7.7076794832476811E-4,165.26817987356,1.3865641284602589E-4,63.986089008049007,2.7144113766520441E-4,6.6478781747640117,3.3051680402628062E-6,173.26402790014899,3.1773332154639222E-4,85.043080353340287,3.2078818228107816E-4,84.333716015726125,1.2654965880040626E-4,-95.171204164048319,5.1773091242492945E-6,35.285935541584429,"","","","","","","","","","","","","","","","","","","","",7.2833310633928991E-3,9,{"$f":"INDIRECT(SUBSTITUTE(ADDRESS(1,$BN23,4),\"1\",\"7\"))","v":1.1923831735100809E-2}]
[null,14,"ED 1st flapwise bending-mode DOF of blade 3 (internal DOF index = DOF_BF(3,1)), m",8.5470085470085479E-3,6.7456892581102628E-6,91.499636874514493,5.0155685267523059E-7,-10.54029696540025,5.7927396825077962E-4,93.989143991299898,4.4689197537380468E-3,0,3.6439293792103348E-3,180,2.3423867439335293E-5,-115.3400254948229,1.9010957123939548E-3,177.71759310471811,6.4364568178558793E-4,-55.708589153930987,1.9784697853565516E-3,-91.520826155404649,2.3569669788955051E-4,-158.8046935324241,5.5684844137170316E-4,0.70255930751202478,1.2661021182935361E-3,176.97662298414849,7.9125472885614441E-4,80.36022588252095,1.2510798431480242E-4,-29.097129604696399,2.9249702706342058E-4,83.290579669117804,1.0179217679348412E-5,96.124248356661752,1.8854357436823429E-4,54.010732507143977,1.6723049138017368E-4,24.89120228392985,3.2374849375644139E-4,87.271558484314298,2.0278830229764644E-4,-91.870918205366962,"","","","","","","","","","","","","","","","","","","","",4.4689197537380468E-3,11,{"$f":"INDIRECT(SUBSTITUTE(ADDRESS(1,$BN24,4),\"1\",\"7\"))","v":3.6111583310311203E-2}]
[null,15,"ED 1st edgewise bending-mode DOF of blade 1 (internal DOF index = DOF_BE(1,1)), m",8.5470085470085479E-3,5.5727915460372572E-7,-7.439268011706563,1.5229311324840198E-7,168.15771394303829,5.5375764890788752E-5,-103.22817800929271,4.0268323672053058E-4,-133.32096788620871,5.0038067346061391E-4,131.53474262690261,3.0041423765526798E-6,-177.21024504701009,1.4680051884212626E-4,17.7783368050554,1.9274250891766361E-3,-90.427748254322523,4.6612671106689271E-5,-60.130849880004853,1.4869313668298189E-4,-179.81181720694769,1.739969948082054E-4,-22.12106205256574,4.3106046858985229E-4,170.5711580449879,1.5414953811223539E-3,-91.545328743699642,1.7191929659586839E-4,-90.113333087584792,2.2420583678134009E-7,-172.34100703514829,1.7491551461329472E-7,19.144098370424299,3.1347373320958909E-7,119.3938460324846,3.8448661265721013E-7,110.86527374689059,4.7155752024285629E-5,-141.99789370774599,4.5360875189766361E-6,-99.638125954076443,"","","","","","","","","","","","","","","","","","","","",1.9274250891766361E-3,19,{"$f":"INDIRECT(SUBSTITUTE(ADDRESS(1,$BN25,4),\"1\",\"7\"))","v":0.42627664964985301}]
[null,16,"ED 1st edgewise bending-mode DOF of blade 2 (internal DOF index = DOF_BE(2,1)), m",8.5470085470085479E-3,1.0650724270266034E-7,-18.13271552934226,4.2198168500319812E-6,177.20025342074521,5.37088062407866E-4,-46.806316624726897,1.3161868186720388E-3,-161.34526005894099,1.7772910366301395E-3,153.10812927587031,3.1069040335721584E-6,-98.311818643273753,1.465496207115748E-4,59.37033497830037,1.1982413901795805E-3,-94.156786351529163,3.0130627763702507E-4,-92.795956684293344,1.5925594917112309E-3,-2.450637233884422,3.1389004137346866E-4,-170.4051835020137,6.780795523017264E-5,-54.86654749003781,9.9587600345018727E-5,100.2323950662889,1.2546116029404147E-3,-91.488921014995213,1.0033101191307411E-7,-94.511384506168653,2.992827800427083E-8,45.792192745887313,8.6483288234140523E-7,21.318026658341701,7.1863714853785434E-7,36.837405495625497,3.2220296695884967E-6,-141.56665704701319,2.0318327752155336E-6,79.703183983565637,"","","","","","","","","","","","","","","","","","","","",1.7772910366301395E-3,13,{"$f":"INDIRECT(SUBSTITUTE(ADDRESS(1,$BN26,4),\"1\",\"7\"))","v":3.6179054180370492E-2}]
[null,17,"ED 1st edgewise bending-mode DOF of blade 3 (internal DOF index = DOF_BE(3,1)), m",8.5470085470085479E-3,6.1040481383280534E-7,33.814171194867868,2.5982273801637437E-9,-85.439571688181374,3.2398463707151497E-5,101.6432495903952,3.8105327624527466E-4,-48.062228767859423,3.2410704626716942E-4,134.9266884497892,1.222913640582113E-4,-0.27437976284762672,1.6090477559568969E-4,131.38351968541531,3.5680744522153461E-4,-17.86421716906516,3.7764158682702627E-4,-7.2340319270464404,1.6463288817579703E-3,88.022882478725165,1.8608855548004011E-4,-69.285182599017489,1.7928542592974495E-4,-100.65930491339989,3.5466326412099636E-4,4.7594144246174421,1.1844930521036131E-3,178.50158830786401,5.1389844314567721E-7,-101.92787043597239,4.5555015549630258E-8,41.8296230000037,1.4169753209934746E-6,-2.2072352879606809,9.5194196669285561E-7,15.457963006663039,1.0602661565584377E-6,36.588178425520077,1.9678106609731089E-6,-97.513204684084229,"","","","","","","","","","","","","","","","","","","","",1.6463288817579703E-3,23,{"$f":"INDIRECT(SUBSTITUTE(ADDRESS(1,$BN27,4),\"1\",\"7\"))","v":0.55864311635259112}]
[null,18,"ED 2nd flapwise bending-mode DOF of blade 1 (internal DOF index = DOF_BF(1,2)), m",8.5470085470085479E-3,2.8879591172715676E-6,173.17074718187521,1.4263653855869573E-7,-103.2340925726093,4.5045159640307138E-5,178.02925221753009,1.0685489278874848E-3,88.260687544770661,1.1256694869664248E-3,-94.816580071770275,1.5536416083683744E-5,1.625545524709388,9.5713276359816416E-5,-82.073909877718933,1.1519851573298086E-4,-16.602123904938018,6.7819627845731997E-5,171.64542391414881,5.0300129184395599E-6,93.463760432003426,9.4724088399994027E-5,-86.656820512356873,4.5415046273381636E-5,-122.6114151553777,8.153608364085535E-5,-92.632261484672128,1.805444104059342E-5,-132.01595441170559,3.4131350252811902E-6,-145.06952873847911,4.0096629748662523E-4,-97.466195606013656,7.8967809908171973E-6,-106.5384098320885,5.8228588564071946E-6,-107.65045725077761,4.9443805004653426E-5,88.568927560026538,1.5316890292013558E-6,89.696843118813675,"","","","","","","","","","","","","","","","","","","","",1.1256694869664248E-3,13,{"$f":"INDIRECT(SUBSTITUTE(ADDRESS(1,$BN28,4),\"1\",\"7\"))","v":3.6179054180370492E-2}]
[null,19,"ED 2nd flapwise bending-mode DOF of blade 2 (internal DOF index = DOF_BF(2,2)), m",8.5470085470085479E-3,2.6090514660627674E-7,170.90847074518109,9.2018593217472924E-7,41.624571378476112,2.2164910594966009E-3,178.76648079670289,3.596580599818493E-4,69.670986121729385,2.6830393424404796E-4,-46.029527718006051,3.8038341047667469E-6,179.91866857379691,2.0432584643565558E-4,-86.981575500897648,1.5249327837757719E-4,39.883297049983582,1.2935788240040752E-4,177.19592904865891,9.584377004083864E-5,12.007851162624741,1.1716602680568301E-4,-102.815150732182,6.5382652003669254E-5,-96.772827161562347,2.2091623370428961E-5,-117.3742241727639,7.4578140040731347E-5,-93.108060204352995,2.8917582384601915E-4,-172.87924184174341,3.6698016497603247E-6,-4.4422150563423921,3.3666900283294747E-4,-93.70425838414323,3.383324384373582E-4,-94.874714547535845,1.3288441266631003E-4,84.840670625384149,5.6287616468135423E-6,-141.27424403722361,"","","","","","","","","","","","","","","","","","","","",2.2164910594966009E-3,9,{"$f":"INDIRECT(SUBSTITUTE(ADDRESS(1,$BN29,4),\"1\",\"7\"))","v":1.1923831735100809E-2}]
[null,20,"ED 2nd flapwise bending-mode DOF of blade 3 (internal DOF index = DOF_BF(3,2)), m",8.5470085470085479E-3,2.0527196197959052E-6,-90.255165651901862,1.6986644039446258E-7,171.3148524868262,1.6757879985751105E-4,-87.605438901328029,1.3619204815410386E-3,178.7972626609216,1.0995546141728703E-3,-1.395312862974041,1.3528683891037864E-5,151.9327224860258,1.1015504932103232E-4,-0.22254243465680151,3.9733893103798484E-5,-100.9038052107301,4.5136220710008425E-5,-87.285577828432281,8.4493810829680801E-5,97.39742911851296,4.2320254276175095E-5,-32.355498766407301,4.6067707310627268E-5,-23.85301021725309,3.6945172205598271E-5,61.151287671039803,5.4097410969728735E-5,-177.75253181078111,3.1159670141053819E-4,-96.604900805422659,1.0854040620233702E-5,-83.996291354744102,2.0102226202821916E-4,-125.965101320467,1.7841334514352643E-4,-155.03332740119569,3.3670772548418645E-4,-91.004680156772153,1.9666477487508959E-4,88.882363037464046,"","","","","","","","","","","","","","","","","","","","",1.3619204815410386E-3,11,{"$f":"INDIRECT(SUBSTITUTE(ADDRESS(1,$BN30,4),\"1\",\"7\"))","v":3.6111583310311203E-2}]
[null,21,null,{"$f":"1","v":1},"","","","","","","","","","","","","","","","","","","","","","","","","","","","","","","","","","","","","","","","","","","","","","","","","","","","","","","","","","","","",0,{"$error":"#N/A"},{"$f":"INDIRECT(SUBSTITUTE(ADDRESS(1,$BN31,4),\"1\",\"7\"))","v":{"$error":"#N/A"}}]
[null,22,null,{"$f":"1","v":1},"","","","","","","","","","","","","","","","","","","","","","","","","","","","","","","","","","","","","","","","","","","","","","","","","","","","","","","","","","","","",0,{"$error":"#N/A"},{"$f":"INDIRECT(SUBSTITUTE(ADDRESS(1,$BN32,4),\"1\",\"7\"))","v":{"$error":"#N/A"}}]
[null,23,null,{"$f":"1","v":1},"","","","","","","","","","","","","","","","","","","","","","","","","","","","","","","","","","","","","","","","","","","","","","","","","","","","","","","","","","","","",0,{"$error":"#N/A"},{"$f":"INDIRECT(SUBSTITUTE(ADDRESS(1,$BN33,4),\"1\",\"7\"))","v":{"$error":"#N/A"}}]
[null,24,null,{"$f":"1","v":1},"","","","","","","","","","","","","","","","","","","","","","","","","","","","","","","","","","","","","","","","","","","","","","","","","","","","","","","","","","","","",0,{"$error":"#N/A"},{"$f":"INDIRECT(SUBSTITUTE(ADDRESS(1,$BN34,4),\"1\",\"7\"))","v":{"$error":"#N/A"}}]
[null,25,null,{"$f":"1","v":1},"","","","","","","","","","","","","","","","","","","","","","","","","","","","","","","","","","","","","","","","","","","","","","","","","","","","","","","","","","","","",0,{"$error":"#N/A"},{"$f":"INDIRECT(SUBSTITUTE(ADDRESS(1,$BN35,4),\"1\",\"7\"))","v":{"$error":"#N/A"}}]
[null,26,null,{"$f":"1","v":1},"","","","","","","","","","","","","","","","","","","","","","","","","","","","","","","","","","","","","","","","","","","","","","","","","","","","","","","","","","","","",0,{"$error":"#N/A"},{"$f":"INDIRECT(SUBSTITUTE(ADDRESS(1,$BN36,4),\"1\",\"7\"))","v":{"$error":"#N/A"}}]
[null,27,null,{"$f":"1","v":1},"","","","","","","","","","","","","","","","","","","","","","","","","","","","","","","","","","","","","","","","","","","","","","","","","","","","","","","","","","","","",0,{"$error":"#N/A"},{"$f":"INDIRECT(SUBSTITUTE(ADDRESS(1,$BN37,4),\"1\",\"7\"))","v":{"$error":"#N/A"}}]
[null,28,null,{"$f":"1","v":1},"","","","","","","","","","","","","","","","","","","","","","","","","","","","","","","","","","","","","","","","","","","","","","","","","","","","","","","","","","","","",0,{"$error":"#N/A"},{"$f":"INDIRECT(SUBSTITUTE(ADDRESS(1,$BN38,4),\"1\",\"7\"))","v":{"$error":"#N/A"}}]
[null,29,null,{"$f":"1","v":1},"","","","","","","","","","","","","","","","","","","","","","","","","","","","","","","","","","","","","","","","","","","","","","","","","","","","","","","","","","","","",0,{"$error":"#N/A"},{"$f":"INDIRECT(SUBSTITUTE(ADDRESS(1,$BN39,4),\"1\",\"7\"))","v":{"$error":"#N/A"}}]
[null,30,null,{"$f":"1","v":1},"","","","","","","","","","","","","","","","","","","","","","","","","","","","","","","","","","","","","","","","","","","","","","","","","","","","","","","","","","","","",0,{"$error":"#N/A"},{"$f":"INDIRECT(SUBSTITUTE(ADDRESS(1,$BN40,4),\"1\",\"7\"))","v":{"$error":"#N/A"}}]
[null,null,null,null,{"$f":"MAX(E11:E40)","v":0.9988197040480612},null,{"$f":"MAX(G11:G40)","v":0.99878914843295308},null,{"$f":"MAX(I11:I40)","v":0.39434942772525211},null,{"$f":"MAX(K11:K40)","v":0.40988643479318959},null,{"$f":"MAX(M11:M40)","v":0.41783499754216491},null,{"$f":"MAX(O11:O40)","v":0.95290168316843271},null,{"$f":"MAX(Q11:Q40)","v":2.2969603342982764E-3},null,{"$f":"MAX(S11:S40)","v":6.8059152021648682E-3},null,{"$f":"MAX(U11:U40)","v":1.9784697853565516E-3},null,{"$f":"MAX(W11:W40)","v":1.6463288817579703E-3},null,{"$f":"MAX(Y11:Y40)","v":2.1104491890849958E-3},null,{"$f":"MAX(AA11:AA40)","v":1.4241665510895429E-3},null,{"$f":"MAX(AC11:AC40)","v":1.5414953811223539E-3},null,{"$f":"MAX(AE11:AE40)","v":1.2546116029404147E-3},null,{"$f":"MAX(AG11:AG40)","v":3.1159670141053819E-4},null,{"$f":"MAX(AI11:AI40)","v":4.0096629748662523E-4},null,{"$f":"MAX(AK11:AK40)","v":3.3666900283294747E-4},null,{"$f":"MAX(AM11:AM40)","v":3.383324384373582E-4},null,{"$f":"MAX(AO11:AO40)","v":3.3670772548418645E-4},null,{"$f":"MAX(AQ11:AQ40)","v":2.0278830229764644E-4},null,{"$f":"MAX(AS11:AS40)","v":0},null,{"$f":"MAX(AU11:AU40)","v":0},null,{"$f":"MAX(AW11:AW40)","v":0},null,{"$f":"MAX(AY11:AY40)","v":0},null,{"$f":"MAX(BA11:BA40)","v":0},null,{"$f":"MAX(BC11:BC40)","v":0},null,{"$f":"MAX(BE11:BE40)","v":0},null,{"$f":"MAX(BG11:BG40)","v":0},null,{"$f":"MAX(BI11:BI40)","v":0},null,{"$f":"MAX(BK11:BK40)","v":0}]
[null,null,"Green Background = Maximum value of the mode shape magnitude within a row"]
[null,null,"Red Bold Text = Maximum value of the mode shape magnitude within a column"]
[]
[]
[]
[null,null,null,null,{"$f":"D48","v":56},{"$f":"D49","v":55},{"$f":"D50","v":54},{"$f":"D51","v":53},{"$f":"D52","v":52},{"$f":"D53","v":51},{"$f":"D54","v":50},{"$f":"D55","v":49},{"$f":"D56","v":48},{"$f":"D57","v":47},{"$f":"D58","v":46},{"$f":"D59","v":45},{"$f":"D60","v":43},{"$f":"D61","v":44},{"$f":"D62","v":42},{"$f":"D63","v":40},{"$f":"D64","v":41},{"$f":"D65","v":39},{"$f":"D66","v":37},{"$f":"D67","v":38},{"$f":"D68","v":57},{"$f":"D69","v":58},{"$f":"D70","v":59},{"$f":"D71","v":60},{"$f":"D72","v":61},{"$f":"D73","v":62},{"$f":"D74","v":63},{"$f":"D75","v":64},{"$f":"D76","v":65},{"$f":"D77","v":66},{"$f":"E47","v":56},55,54,53,52,51,50,49,48,47,46,45,43,44,42,40,41,39,37,38,57,58,59,60,61,62,63,64,65,66,null,null,{"$f":"CT77+1","v":36},{"$f":"BO47+1","v":37},38,39,40,41,42,43,44,45,46,47,48,49,50,51,52,53,54,55,56,57,58,59,60,61,62,63,64,65,66]
[null,null,null,{"$f":"CS48","v":56},3.0213390434521403E-8,5.0433661391029151E-7,1.8545475442480071E-6,2.765818996386658E-6,6.2637920394038452E-8,1.10657382000774E-6,4.4369612202343678E-5,7.4214541772000463E-5,2.1763873685239931E-4,3.2488363977177211E-4,1.411776045657902E-4,9.9719517561434033E-4,2.028109033268664E-3,1.6944701582943941E-3,1.8650199589855579E-3,0.40988643479318959,0.37176622981230351,3.6479471926336722E-2,0.9988197040480612,9.0230300999449733E-4,null,null,null,null,null,null,null,null,null,null,163.66705588200259,79.266322346304861,-168.44418503803519,174.2095001516382,154.78979594774319,60.453923538075017,-162.8441748008313,170.4943648037362,-91.673994977534804,-98.171692609074,58.591561881095068,171.53034579486729,-83.752244345598243,25.484347803516449,-176.9740142288359,-91.650572581334032,86.875800424368038,-40.279849852422018,180,46.480188799334947,null,null,null,null,null,null,null,null,null,null,3.2647880126260902E-2,4.8074795265882448,4.8100436845300729,{"$f":"IF(MIN(BO$48:BO$77)=$BP$47,BO48,IF(BO48=MIN(BO$48:BO$77),BP$47,IF(BO48=\"\",$CT48,BO48)))","v":4.8100436845300729},4.8100436845300729,4.8100436845300729,4.8100436845300729,4.8100436845300729,4.8100436845300729,4.8100436845300729,4.8100436845300729,4.8100436845300729,4.8100436845300729,4.8100436845300729,4.8100436845300729,4.8100436845300729,4.8100436845300729,4.8100436845300729,4.8100436845300729,4.8100436845300729,4.8100436845300729,4.8100436845300729,56,56,56,56,56,56,56,56,56,56,56,{"$f":"CEILING(MAX(BO48:BO77),1)+1","v":6}]
[null,null,null,55,1.2673191213037319E-7,1.9635649109569359E-5,1.923129632357108E-7,1.8533173781079501E-7,7.2471313928945187E-8,2.010523206138165E-7,9.2575906871623979E-5,5.8256937899939503E-4,1.409221649492213E-4,9.2799715639868969E-5,7.2154776952780691E-5,8.5669750333211114E-5,6.197946936584214E-4,6.8059152021648682E-3,4.7467190510943938E-6,0.3123127287852438,0.41783499754216491,0.1688075612253182,9.9320661410900427E-4,0.99878914843295308,null,null,null,null,null,null,null,null,null,null,79.69727925004014,36.360324060668113,-98.38531162762952,-85.193079253986383,136.9523837910223,-48.203564728665206,-90.544654103464779,-92.763940822365512,163.86212494623979,47.028230946425808,-12.02440458095127,84.027421571728823,-174.48492344523569,93.219348344098321,-148.05215084590941,-165.36899219069369,152.12661093101161,-164.69545006114191,98.548986925025929,0,null,null,null,null,null,null,null,null,null,null,1.7534078083258641E-2,2.670961955814346,2.671372635985124,{"$f":"IF(MIN(BO$48:BO$77)=$BP$47,BO49,IF(BO49=MIN(BO$48:BO$77),BP$47,IF(BO49=\"\",$CT49,BO49)))","v":2.671372635985124},2.671372635985124,2.671372635985124,2.671372635985124,2.671372635985124,2.671372635985124,2.671372635985124,2.671372635985124,2.671372635985124,2.671372635985124,2.671372635985124,2.671372635985124,2.671372635985124,2.671372635985124,2.671372635985124,2.671372635985124,2.671372635985124,2.671372635985124,55,55,55,55,55,55,55,55,55,55,55,55,{"$f":"CT48+1","v":7}]
[null,null,null,54,9.7548329054197453E-9,1.4920228786709929E-7,4.0175630816735388E-7,5.8437371494907777E-7,2.4451500291103561E-8,2.2053304794731979E-7,2.605747506428847E-5,7.1132108729823274E-6,3.2314271877169441E-6,2.361566779758571E-5,3.7148089740163628E-5,3.0657153849394082E-5,6.8102627392601297E-5,4.7705486756316207E-5,0.95290168316843271,1.4811846427680049E-2,1.3586220826336729E-2,2.045106659809671E-3,1.962696054176051E-4,5.0114358344417611E-7,null,null,null,null,null,null,null,null,null,null,-1.730988815377309,-105.43496575696859,16.710835165833728,-2.254678856513038,51.800561322868347,-110.9050581556439,-1.8467262893930581,-177.86054928168849,167.1485657052589,-94.058657292864268,-91.063401338066413,178.33957746896539,-87.260241715177528,33.573435775955367,0,-85.504081666695484,93.082295766805714,-102.6199593187297,179.87606072125541,87.01449367483977,null,null,null,null,null,null,null,null,null,null,8.4977213308865637E-2,2.569265201179689,2.578592240363299,{"$f":"IF(MIN(BO$48:BO$77)=$BP$47,BO50,IF(BO50=MIN(BO$48:BO$77),BP$47,IF(BO50=\"\",$CT50,BO50)))","v":2.578592240363299},2.578592240363299,2.578592240363299,2.578592240363299,2.578592240363299,2.578592240363299,2.578592240363299,2.578592240363299,2.578592240363299,2.578592240363299,2.578592240363299,2.578592240363299,2.578592240363299,2.578592240363299,2.578592240363299,2.578592240363299,2.578592240363299,54,54,54,54,54,54,54,54,54,54,54,54,54,8]
[null,null,null,53,4.713514625463416E-9,8.1571989323894602E-7,8.0376942959036832E-9,7.7832659856962966E-9,3.0498032690402739E-9,8.5757468406211414E-9,4.900874095616538E-6,3.0115674641242389E-5,7.2737696977327786E-6,4.8818563341576506E-6,4.4601099988330314E-6,4.8052705641209088E-6,3.7250192124332872E-5,4.0549543985622579E-4,1.2607396758364661E-6,5.3680667114548622E-2,7.2046643935757673E-2,1.188820317307861E-2,4.5302830898825732E-6,5.4049113589668425E-4,null,null,null,null,null,null,null,null,null,null,-100.7726503237802,-143.67842511838359,80.89992972566489,94.343076650540723,-44.133186702090597,130.71489793463999,89.22627595094562,87.09107600717995,-16.551182352390729,-132.3739690469688,168.23663291387399,-97.075889294307956,5.5340877965740809,-86.694090531960995,38.409565039439897,15.136435939465949,-27.486287668151679,78.427935870457432,155.88394797810849,-1.258767938913905,null,null,null,null,null,null,null,null,null,null,6.4606475981633285E-2,2.514070036951086,2.5193333796433368,{"$f":"IF(MIN(BO$48:BO$77)=$BP$47,BO51,IF(BO51=MIN(BO$48:BO$77),BP$47,IF(BO51=\"\",$CT51,BO51)))","v":2.5193333796433368},2.5193333796433368,2.5193333796433368,2.5193333796433368,2.5193333796433368,2.5193333796433368,2.5193333796433368,2.5193333796433368,2.5193333796433368,2.5193333796433368,2.5193333796433368,2.5193333796433368,2.5193333796433368,2.5193333796433368,2.5193333796433368,2.5193333796433368,53,53,53,53,53,53,53,53,53,53,53,53,53,53,9]
[null,null,null,52,1.158268269019697E-9,2.102904586577506E-8,7.7772770033612098E-8,1.164217020813517E-7,2.6496847620025488E-9,4.7175571084343541E-8,2.2928427260202319E-6,3.7948146723167272E-6,1.137941197822952E-5,1.851473698731671E-5,7.5809119707743064E-6,5.5922093882976518E-5,1.219001768242571E-4,1.0061910965942291E-4,2.8397265840641111E-4,7.057820154944211E-2,6.4069563034468507E-2,2.3395312748420811E-3,5.4637909494418993E-4,3.5639381011333559E-6,null,null,null,null,null,null,null,null,null,null,163.46297966459821,79.228459631646274,-169.1035032091867,173.73333171496901,152.69192736054819,59.526171155665423,-163.34175827425091,171.17435610831359,-91.924238321864536,-98.127886899371063,58.15829019469453,171.19778477003831,-83.903309474055035,25.596649960475581,-176.77715838190139,-91.891710492260216,86.500851951329835,1.6081032288965511,-1.631381408649192,-17.989347518791419,null,null,null,null,null,null,null,null,null,null,0.1299412190738386,2.441259108323552,2.4621338199541869,{"$f":"IF(MIN(BO$48:BO$77)=$BP$47,BO52,IF(BO52=MIN(BO$48:BO$77),BP$47,IF(BO52=\"\",$CT52,BO52)))","v":2.4621338199541869},2.4621338199541869,2.4621338199541869,2.4621338199541869,2.4621338199541869,2.4621338199541869,2.4621338199541869,2.4621338199541869,2.4621338199541869,2.4621338199541869,2.4621338199541869,2.4621338199541869,2.4621338199541869,2.4621338199541869,2.4621338199541869,52,52,52,52,52,52,52,52,52,52,52,52,52,52,52,10]
[null,null,null,51,1.1695399478430969E-8,2.0837776251292781E-8,1.8898894886265199E-9,1.971789950859407E-9,1.3031241959175141E-10,3.8386882782055912E-9,1.4768348995507641E-7,3.1071801028291938E-7,1.6857210384132351E-6,1.053968050848396E-6,9.4446219789658459E-7,3.8822555771182494E-6,5.8002368230687768E-6,2.688876919054421E-6,6.2243987418423993E-6,3.8999323456714468E-3,1.7162180439693349E-3,0.39434942772525211,3.6476061592215223E-5,1.2932174619769579E-4,null,null,null,null,null,null,null,null,null,null,-102.3992789855199,28.866262302860619,-148.9472133279213,-117.36237119589229,-110.11410943551979,-86.095206281327947,-32.21577495867178,122.6349685904285,-1.5189722418788301,-174.7612014151797,-29.91046149452815,91.384359964126048,-0.66068870506784616,-111.85244310768201,46.265927883504993,-163.137013453366,140.0954558578031,75.039136020846783,80.079337922626721,-32.6147984960106,null,null,null,null,null,null,null,null,null,null,0.115022118401174,2.3121039911150558,2.3275521155834031,{"$f":"IF(MIN(BO$48:BO$77)=$BP$47,BO53,IF(BO53=MIN(BO$48:BO$77),BP$47,IF(BO53=\"\",$CT53,BO53)))","v":2.3275521155834031},2.3275521155834031,2.3275521155834031,2.3275521155834031,2.3275521155834031,2.3275521155834031,2.3275521155834031,2.3275521155834031,2.3275521155834031,2.3275521155834031,2.3275521155834031,2.3275521155834031,2.3275521155834031,2.3275521155834031,51,51,51,51,51,51,51,51,51,51,51,51,51,51,51,51,11]
[null,null,null,50,2.6827130119641261E-7,6.6635278203429521E-7,6.8827749876101589E-6,1.106247881105589E-5,4.0155471754144783E-6,6.1438209498708456E-6,8.697644284574005E-4,1.1049016593550219E-3,3.93094808002832E-3,8.6467445800819057E-3,2.0918194322821449E-3,1.6201346284789041E-2,3.3510796011050191E-2,2.8122671421714429E-2,3.4397344574305441E-4,0.33626102398529018,0.30400601166970992,2.802802277565742E-2,8.5763175249646171E-4,1.11692434831821E-5,null,null,null,null,null,null,null,null,null,null,125.0499178428158,-15.46301273733817,-8.9176101788364068,-19.626778144446931,-93.399988199931471,-137.98138927843459,15.936686762516089,4.0709961041703986,87.122686528345355,84.482885260282359,-123.8520910286657,-8.724404659466396,96.087461259638232,-153.1375609859171,-16.533114039587691,-90.840168646626438,87.963226307542527,-0.28173599943863681,-6.8207375610649361,-52.604523574872758,null,null,null,null,null,null,null,null,null,null,2.598364931486255E-2,0.76201617197224036,0.7622735399223981,{"$f":"IF(MIN(BO$48:BO$77)=$BP$47,BO54,IF(BO54=MIN(BO$48:BO$77),BP$47,IF(BO54=\"\",$CT54,BO54)))","v":0.7622735399223981},0.7622735399223981,0.7622735399223981,0.7622735399223981,0.7622735399223981,0.7622735399223981,0.7622735399223981,0.7622735399223981,0.7622735399223981,0.7622735399223981,0.7622735399223981,0.7622735399223981,0.7622735399223981,50,50,50,50,50,50,50,50,50,50,50,50,50,50,50,50,50,12]
[null,null,null,49,6.074035248519946E-5,7.809820550407854E-5,3.0944260864522749E-6,3.03099459817261E-6,1.698493079096478E-7,5.7352450072386618E-6,2.577626361901487E-3,9.6120404212463838E-3,2.1372685942459258E-3,1.326468064454873E-3,2.600732332367771E-3,1.5044757343867399E-3,1.011364414483606E-2,0.1137766266030468,7.9343850565807883E-6,0.25610188942739892,0.34150961412898989,7.3318220555044375E-2,1.433059409380606E-5,8.2701359130899583E-4,null,null,null,null,null,null,null,null,null,null,-100.14157854726891,31.593881357513439,-141.29688334238531,-109.6968655610101,133.51686052274701,-70.474264393240773,-90.632213876474111,-92.841333486176381,158.89157505666199,57.292410918932653,-8.2453057421870657,76.253051977863493,-174.8120056556447,93.239449783660135,-167.28650916318259,15.98272368134341,-26.249115815151661,77.455957777027464,136.4055633371598,-4.5273699375179088,null,null,null,null,null,null,null,null,null,null,2.696780475421506E-2,0.68138919022002309,0.68163709985043353,{"$f":"IF(MIN(BO$48:BO$77)=$BP$47,BO55,IF(BO55=MIN(BO$48:BO$77),BP$47,IF(BO55=\"\",$CT55,BO55)))","v":0.68163709985043353},0.68163709985043353,0.68163709985043353,0.68163709985043353,0.68163709985043353,0.68163709985043353,0.68163709985043353,0.68163709985043353,0.68163709985043353,0.68163709985043353,0.68163709985043353,0.68163709985043353,49,49,49,49,49,49,49,49,49,49,49,49,49,49,49,49,49,49,13]
[null,null,null,48,3.5927231196084652E-7,4.4245384515339242E-6,1.354983893472581E-5,1.9647696969227391E-5,4.2881809717952951E-7,7.1929458241009837E-6,2.8162056700191369E-5,3.9740897309118768E-5,9.0542730727488462E-5,6.2047481044739421E-6,3.4669063643774708E-5,6.6022942118898993E-5,1.8673293369607331E-4,1.196973609146958E-4,5.4000448580669597E-5,6.6070636886027528E-4,6.3046038592424634E-4,4.0477137308632069E-4,2.2963235539585662E-6,1.4060079710577139E-7,null,null,null,null,null,null,null,null,null,null,-17.868560520162799,-107.1126711362885,16.34684849784076,-2.2108090949293868,-0.87660373833245075,-112.13932701902949,22.58392306223671,-12.14864031282567,93.627964936200286,-80.066540030991021,-109.2176332561958,9.6583411295789841,-87.221326844079883,29.207052688272181,-179.19779974023751,-91.315595754536233,86.667997624634239,179.85475299057239,-7.1504548161537373,54.88991227243163,null,null,null,null,null,null,null,null,null,null,2.4570620531449081E-2,0.67066012924937013,0.67086266488124457,{"$f":"IF(MIN(BO$48:BO$77)=$BP$47,BO56,IF(BO56=MIN(BO$48:BO$77),BP$47,IF(BO56=\"\",$CT56,BO56)))","v":0.67086266488124457},0.67086266488124457,0.67086266488124457,0.67086266488124457,0.67086266488124457,0.67086266488124457,0.67086266488124457,0.67086266488124457,0.67086266488124457,0.67086266488124457,0.67086266488124457,48,48,48,48,48,48,48,48,48,48,48,48,48,48,48,48,48,48,48,14]
[null,null,null,47,3.5796316632299722E-6,1.4716695739197991E-4,1.335579838157461E-6,1.275012330636636E-6,5.0498934723416664E-7,1.1882891753312631E-6,3.6070740533330327E-5,2.8356967952096381E-4,7.0500122277689228E-5,3.1297663845546427E-5,2.4832673261707241E-5,5.5616977925659104E-6,5.3517695475913109E-5,5.2245022857834921E-4,1.253092055485229E-7,4.735359093617887E-4,6.8907584654104292E-4,1.3636499405603241E-4,3.6989598111347113E-8,2.2445525014680061E-6,null,null,null,null,null,null,null,null,null,null,80.285521708511766,36.838700016527582,-88.231231768800086,-75.626585718381861,144.33982887079191,-39.118493974728644,-84.069327955446838,-88.296557243494405,170.88648479931169,41.675565790794607,174.71051178886449,143.1008263134683,4.0175858773537616,-86.973710796246621,103.2965056323573,16.26440910691187,-26.052750082569691,76.510318709331784,-138.93160279567039,-4.5301746984292048,null,null,null,null,null,null,null,null,null,null,2.8444917315754131E-2,0.58893836651550935,0.58917677013575398,{"$f":"IF(MIN(BO$48:BO$77)=$BP$47,BO57,IF(BO57=MIN(BO$48:BO$77),BP$47,IF(BO57=\"\",$CT57,BO57)))","v":0.58917677013575398},0.58917677013575398,0.58917677013575398,0.58917677013575398,0.58917677013575398,0.58917677013575398,0.58917677013575398,0.58917677013575398,0.58917677013575398,0.58917677013575398,47,47,47,47,47,47,47,47,47,47,47,47,47,47,47,47,47,47,47,47,15]
[null,null,null,46,1.015603817362825E-5,3.4628126127638079E-6,4.5408234486428641E-7,4.5070217798237202E-7,3.2928647814703427E-8,7.6595898823733751E-7,2.8095935516194269E-6,1.0027925096772109E-5,2.9501757417241018E-5,1.41141594239206E-5,1.0521344252479419E-5,3.4996706388068781E-5,3.9523060597701479E-5,4.4104855530976808E-5,3.612358784843238E-7,2.2669664292215139E-4,1.479139721423172E-4,5.431184955296395E-5,1.2284190819973891E-7,5.0006133141703625E-7,null,null,null,null,null,null,null,null,null,null,79.815209317511432,-154.70148800618779,38.164966848073007,68.573878125804328,94.952067234559308,105.420833968221,168.74763518311161,-72.2436564117138,-179.94695442890529,9.2512555275939867,152.26855082768901,-86.492445068828914,-179.27655345565049,83.192286042412675,-86.463799918449979,10.58559329400429,-37.096906827286027,82.614275828430678,94.03171899169169,-4.600117078101869,null,null,null,null,null,null,null,null,null,null,3.4500362623317238E-2,0.55831054788757817,0.55864311635259112,{"$f":"IF(MIN(BO$48:BO$77)=$BP$47,BO58,IF(BO58=MIN(BO$48:BO$77),BP$47,IF(BO58=\"\",$CT58,BO58)))","v":0.55864311635259112},0.55864311635259112,0.55864311635259112,0.55864311635259112,0.55864311635259112,0.55864311635259112,0.55864311635259112,0.55864311635259112,0.55864311635259112,46,46,46,46,46,46,46,46,46,46,46,46,46,46,46,46,46,46,46,46,46,16]
[null,null,null,45,9.8537023212413147E-5,5.0200235918739988E-3,6.4809105966879849E-4,8.7683609188997044E-4,4.4236630591061157E-2,3.8077847899501321E-4,2.9871591738879458E-3,1.999800686261825E-2,1.9816353513357522E-2,0.2469225551229445,3.8125955580673727E-2,6.7385877509833533E-2,6.0839428032940533E-2,8.4245456360685658E-2,5.4361575915860116E-3,0.37365570713150759,0.39060553759720679,1.860488306314077E-2,1.0074623286248151E-3,4.7186392808348103E-5,null,null,null,null,null,null,null,null,null,null,-82.905028874299504,-84.817627850666781,71.481729747860328,72.501458711720801,82.54269790542034,33.937470534348677,115.5487576418635,64.263050635983802,-76.771929610764559,-91.629993569454811,-98.818369357226231,-7.3799781900776118,98.008724473882808,157.26104163021961,-178.37192354986621,-91.128463598265284,84.602479946570341,0.54829812555215918,-6.818875431145023,73.863831138610678,null,null,null,null,null,null,null,null,null,null,2.6540306995723639E-2,0.49425983433790882,0.49443400167658719,{"$f":"IF(MIN(BO$48:BO$77)=$BP$47,BO59,IF(BO59=MIN(BO$48:BO$77),BP$47,IF(BO59=\"\",$CT59,BO59)))","v":0.49443400167658719},0.49443400167658719,0.49443400167658719,0.49443400167658719,0.49443400167658719,0.49443400167658719,0.49443400167658719,0.49443400167658719,45,45,45,45,45,45,45,45,45,45,45,45,45,45,45,45,45,45,45,45,45,45,17]
[null,null,null,43,6.0574516753716739E-4,1.480631007964753E-2,3.7532217326886143E-2,3.7174798620927887E-2,3.867046607107483E-4,3.1758613106828912E-2,1.6222800302985028E-2,9.0179849953997859E-2,0.16662748647747649,1.1984555252094809E-2,2.234253835915281E-2,0.17875232802210461,0.26874435911289829,0.15171252257993889,1.1581140440165591E-3,0.1225437157774325,4.701662827397448E-2,0.85214973441696906,1.046866691155046E-4,2.5734298997952168E-4,null,null,null,null,null,null,null,null,null,null,35.285935541584429,-95.171204164048319,84.333716015726125,85.043080353340287,173.26402790014899,6.6478781747640117,63.986089008049007,165.26817987356,-91.40793454600221,75.181842381867312,133.6328543185092,-179.87638065289039,89.132788511196381,-161.23739095802989,2.0815839106647971,-84.778026144993547,86.732106197982503,0,-7.6611951988819156,-105.0877164425421,null,null,null,null,null,null,null,null,null,null,1.5135117893078431E-2,0.41455063795921038,0.41459812704726939,{"$f":"IF(MIN(BO$48:BO$77)=$BP$47,BO60,IF(BO60=MIN(BO$48:BO$77),BP$47,IF(BO60=\"\",$CT60,BO60)))","v":0.41459812704726939},0.41459812704726939,0.41459812704726939,0.41459812704726939,0.41459812704726939,0.41459812704726939,43,43,43,43,43,43,43,43,43,43,43,43,43,43,43,43,43,43,43,43,43,43,43,43,18]
[null,null,null,44,2.3726231368824631E-2,3.787857376950364E-2,1.9565967491480318E-2,2.205959820108341E-2,1.1909684684837641E-3,3.4222152166420203E-2,1.4637634164831881E-2,9.2576803276168892E-2,0.1481339478403437,6.5151267640489258E-2,2.7576513653077409E-2,0.23148096488671649,0.2224281983500927,7.5306544768913783E-2,2.7405924904022288E-3,0.52286361118735147,0.42633973736760911,6.777505428534121E-2,7.8924564319890066E-4,5.8682151763001978E-5,null,null,null,null,null,null,null,null,null,null,-91.870918205366962,87.271558484314298,24.89120228392985,54.010732507143977,96.124248356661752,83.290579669117804,-29.097129604696399,80.36022588252095,176.97662298414849,0.70255930751202478,-158.8046935324241,-91.520826155404649,177.71759310471811,-55.708589153930987,-115.3400254948229,0,180,93.989143991299898,91.499636874514493,-10.54029696540025,null,null,null,null,null,null,null,null,null,null,7.4655460579161259E-3,0.42626477035237947,0.42627664964985301,{"$f":"IF(MIN(BO$48:BO$77)=$BP$47,BO61,IF(BO61=MIN(BO$48:BO$77),BP$47,IF(BO61=\"\",$CT61,BO61)))","v":0.42627664964985301},0.42627664964985301,0.42627664964985301,0.42627664964985301,0.42627664964985301,0.42627664964985301,0.42627664964985301,44,44,44,44,44,44,44,44,44,44,44,44,44,44,44,44,44,44,44,44,44,44,44,19]
[null,null,null,42,5.3072223972026639E-4,5.5172229868414181E-3,4.4984933680893581E-5,3.6676426785521921E-5,2.0465115209755481E-5,2.623208290341679E-5,2.01145577017166E-2,0.18035495959131539,5.0434074825012713E-2,2.0357648392560029E-2,1.7397096991908879E-2,5.453682519482644E-3,1.7175660704528771E-2,0.2255087354336664,3.5148465805666352E-4,4.7113938696302073E-2,5.8544538794891819E-2,6.4789644922222831E-3,6.5201661088635902E-5,1.7818294250063031E-5,null,null,null,null,null,null,null,null,null,null,-99.638125954076443,-141.99789370774599,110.86527374689059,119.3938460324846,19.144098370424299,-172.34100703514829,-90.113333087584792,-91.545328743699642,170.5711580449879,-22.12106205256574,-179.81181720694769,-60.130849880004853,17.7783368050554,-90.427748254322523,-177.21024504701009,-133.32096788620871,131.53474262690261,-103.22817800929271,-7.439268011706563,168.15771394303829,null,null,null,null,null,null,null,null,null,null,5.6346392343136946E-3,5.0576553749188638E-2,5.0577356649838187E-2,{"$f":"IF(MIN(BO$48:BO$77)=$BP$47,BO62,IF(BO62=MIN(BO$48:BO$77),BP$47,IF(BO62=\"\",$CT62,BO62)))","v":5.0577356649838187E-2},5.0577356649838187E-2,5.0577356649838187E-2,5.0577356649838187E-2,5.0577356649838187E-2,42,42,42,42,42,42,42,42,42,42,42,42,42,42,42,42,42,42,42,42,42,42,42,42,42,20]
[null,null,null,40,2.3772443470021739E-4,3.7697747134185408E-4,8.4080546378928952E-5,1.0118544723394441E-4,3.501608526499687E-6,1.173872839382967E-5,0.1467895575440285,1.1651749240367189E-2,7.9335307619301989E-3,3.6725134840695832E-2,0.18632946053021399,3.5252834483531927E-2,1.7146305623254251E-2,0.14019424265101091,3.6350777192794252E-4,0.15399385778462851,0.20794305128572629,6.2839303301720315E-2,1.2461347396211259E-5,4.9371857145374173E-4,null,null,null,null,null,null,null,null,null,null,79.703183983565637,-141.56665704701319,36.837405495625497,21.318026658341701,45.792192745887313,-94.511384506168653,-91.488921014995213,100.2323950662889,-54.86654749003781,-170.4051835020137,-2.450637233884422,-92.795956684293344,59.37033497830037,-94.156786351529163,-98.311818643273753,-161.34526005894099,153.10812927587031,-46.806316624726897,-18.13271552934226,177.20025342074521,null,null,null,null,null,null,null,null,null,null,2.301112958640671E-2,3.6102021284458732E-2,3.6111583310311203E-2,{"$f":"IF(MIN(BO$48:BO$77)=$BP$47,BO63,IF(BO63=MIN(BO$48:BO$77),BP$47,IF(BO63=\"\",$CT63,BO63)))","v":3.6111583310311203E-2},3.6111583310311203E-2,3.6111583310311203E-2,40,40,40,40,40,40,40,40,40,40,40,40,40,40,40,40,40,40,40,40,40,40,40,40,40,40,40,21]
[null,null,null,41,2.3023384733385371E-4,1.240511403173372E-4,1.113772101030641E-4,1.6578611255623651E-4,5.3299368193067397E-6,6.0126117848044223E-5,0.13858568709612271,4.1495601902156572E-2,2.0976394833780158E-2,2.177236099116469E-2,0.19262047916568251,4.4184065658762067E-2,1.8825858744695691E-2,4.1746471090919543E-2,1.4308089594810719E-2,4.4583233320697128E-2,3.792052441325882E-2,3.790620253736725E-3,7.141736321843822E-5,3.0399260347915799E-7,null,null,null,null,null,null,null,null,null,null,-97.513204684084229,36.588178425520077,15.457963006663039,-2.2072352879606809,41.8296230000037,-101.92787043597239,178.50158830786401,4.7594144246174421,-100.65930491339989,-69.285182599017489,88.022882478725165,-7.2340319270464404,131.38351968541531,-17.86421716906516,-0.27437976284762672,-48.062228767859423,134.9266884497892,101.6432495903952,33.814171194867868,-85.439571688181374,null,null,null,null,null,null,null,null,null,null,2.2904202220369509E-2,3.6169563124687547E-2,3.6179054180370492E-2,{"$f":"IF(MIN(BO$48:BO$77)=$BP$47,BO64,IF(BO64=MIN(BO$48:BO$77),BP$47,IF(BO64=\"\",$CT64,BO64)))","v":3.6179054180370492E-2},3.6179054180370492E-2,3.6179054180370492E-2,3.6179054180370492E-2,41,41,41,41,41,41,41,41,41,41,41,41,41,41,41,41,41,41,41,41,41,41,41,41,41,41,22]
[null,null,null,39,1.7920761641655861E-4,5.7849251855444503E-3,6.8127448619964169E-4,9.2392337592561193E-4,4.6913056805935147E-2,3.9933679795789922E-4,2.11236960174943E-3,9.5397217859800754E-3,5.3135604139856506E-3,1.1082718342799299E-2,5.885115114574285E-4,7.934896457950643E-3,1.119845333409852E-2,1.3478226340758759E-2,1.8177606817909981E-3,0.12502022456283571,0.1317033299750717,5.2702836779159349E-3,3.3789121672077337E-4,1.6688475011367398E-5,null,null,null,null,null,null,null,null,null,null,89.696843118813675,88.568927560026538,-107.65045725077761,-106.5384098320885,-97.466195606013656,-145.06952873847911,-132.01595441170559,-92.632261484672128,-122.6114151553777,-86.656820512356873,93.463760432003426,171.64542391414881,-82.073909877718933,-16.602123904938018,1.625545524709388,88.260687544770661,-94.816580071770275,178.02925221753009,173.17074718187521,-103.2340925726093,null,null,null,null,null,null,null,null,null,null,0.25370377403234728,1.1533707361641899E-2,1.1923831735100809E-2,{"$f":"IF(MIN(BO$48:BO$77)=$BP$47,BO65,IF(BO65=MIN(BO$48:BO$77),BP$47,IF(BO65=\"\",$CT65,BO65)))","v":1.1923831735100809E-2},1.1923831735100809E-2,39,39,39,39,39,39,39,39,39,39,39,39,39,39,39,39,39,39,39,39,39,39,39,39,39,39,39,39,23]
[null,null,null,37,6.5856511267718438E-4,1.554747628195827E-2,3.9584895297170908E-2,3.9390273331454853E-2,4.2936679302195792E-4,3.3833571389984239E-2,8.7256423847655671E-3,2.5847199343401882E-3,7.6497702844293023E-3,1.3708425136264911E-2,1.1213721094778121E-2,1.5134872240847679E-2,2.3906124032971699E-2,1.784171357017653E-2,4.4504859025770933E-4,4.2079993017876363E-2,3.1391560306553608E-2,0.2593294539611023,3.0525902152934378E-5,1.076617540644433E-4,null,null,null,null,null,null,null,null,null,null,-141.27424403722361,84.840670625384149,-94.874714547535845,-93.70425838414323,-4.4422150563423921,-172.87924184174341,-93.108060204352995,-117.3742241727639,-96.772827161562347,-102.815150732182,12.007851162624741,177.19592904865891,-86.981575500897648,39.883297049983582,179.91866857379691,69.670986121729385,-46.029527718006051,178.76648079670289,170.90847074518109,41.624571378476112,null,null,null,null,null,null,null,null,null,null,5.1562482748810763E-2,7.7228545312502169E-3,7.733141384580965E-3,{"$f":"IF(MIN(BO$48:BO$77)=$BP$47,BO66,IF(BO66=MIN(BO$48:BO$77),BP$47,IF(BO66=\"\",$CT66,BO66)))","v":37},37,37,37,37,37,37,37,37,37,37,37,37,37,37,37,37,37,37,37,37,37,37,37,37,37,37,37,37,37,24]
[null,null,null,38,2.3009778660385481E-2,3.9394803881649808E-2,2.0874361381792592E-2,2.351960465730164E-2,1.269922752567343E-3,3.6456814065032962E-2,6.3293970834582616E-3,4.3225851480549974E-3,5.38992175534339E-3,4.9514697503124858E-3,9.8857758670726527E-3,5.2809378230709849E-3,1.2888140770560779E-2,4.6488654931444223E-3,1.58285601525143E-3,0.15934469634030149,0.12864788985822581,1.960671958332879E-2,2.4016819551612089E-4,1.987437352615212E-5,null,null,null,null,null,null,null,null,null,null,88.882363037464046,-91.004680156772153,-155.03332740119569,-125.965101320467,-83.996291354744102,-96.604900805422659,-177.75253181078111,61.151287671039803,-23.85301021725309,-32.355498766407301,97.39742911851296,-87.285577828432281,-0.22254243465680151,-100.9038052107301,151.9327224860258,178.7972626609216,-1.395312862974041,-87.605438901328029,-90.255165651901862,171.3148524868262,null,null,null,null,null,null,null,null,null,null,2.2134016373350791E-2,7.8338764418007939E-3,7.8357961127240913E-3,{"$f":"IF(MIN(BO$48:BO$77)=$BP$47,BO67,IF(BO67=MIN(BO$48:BO$77),BP$47,IF(BO67=\"\",$CT67,BO67)))","v":7.8357961127240913E-3},38,38,38,38,38,38,38,38,38,38,38,38,38,38,38,38,38,38,38,38,38,38,38,38,38,38,38,38,38,25]
[null,null,null,57,null,null,null,null,null,null,null,null,null,null,null,null,null,null,null,null,null,null,null,null,null,null,null,null,null,null,null,null,null,null,null,null,null,null,null,null,null,null,null,null,null,null,null,null,null,null,null,null,null,null,null,null,null,null,null,null,null,null,null,null,null,null,null,{"$f":"IF(MIN(BO$48:BO$77)=$BP$47,BO68,IF(BO68=MIN(BO$48:BO$77),BP$47,IF(BO68=\"\",$CT68,BO68)))","v":26},26,26,26,26,26,26,26,26,26,26,26,26,26,26,26,26,26,26,26,57,57,57,57,57,57,57,57,57,57,26]
[null,null,null,58,null,null,null,null,null,null,null,null,null,null,null,null,null,null,null,null,null,null,null,null,null,null,null,null,null,null,null,null,null,null,null,null,null,null,null,null,null,null,null,null,null,null,null,null,null,null,null,null,null,null,null,null,null,null,null,null,null,null,null,null,null,null,null,{"$f":"IF(MIN(BO$48:BO$77)=$BP$47,BO69,IF(BO69=MIN(BO$48:BO$77),BP$47,IF(BO69=\"\",$CT69,BO69)))","v":27},27,27,27,27,27,27,27,27,27,27,27,27,27,27,27,27,27,27,27,27,58,58,58,58,58,58,58,58,58,27]
[null,null,null,59,null,null,null,null,null,null,null,null,null,null,null,null,null,null,null,null,null,null,null,null,null,null,null,null,null,null,null,null,null,null,null,null,null,null,null,null,null,null,null,null,null,null,null,null,null,null,null,null,null,null,null,null,null,null,null,null,null,null,null,null,null,null,null,{"$f":"IF(MIN(BO$48:BO$77)=$BP$47,BO70,IF(BO70=MIN(BO$48:BO$77),BP$47,IF(BO70=\"\",$CT70,BO70)))","v":28},28,28,28,28,28,28,28,28,28,28,28,28,28,28,28,28,28,28,28,28,28,59,59,59,59,59,59,59,59,28]
[null,null,null,60,null,null,null,null,null,null,null,null,null,null,null,null,null,null,null,null,null,null,null,null,null,null,null,null,null,null,null,null,null,null,null,null,null,null,null,null,null,null,null,null,null,null,null,null,null,null,null,null,null,null,null,null,null,null,null,null,null,null,null,null,null,null,null,{"$f":"IF(MIN(BO$48:BO$77)=$BP$47,BO71,IF(BO71=MIN(BO$48:BO$77),BP$47,IF(BO71=\"\",$CT71,BO71)))","v":29},29,29,29,29,29,29,29,29,29,29,29,29,29,29,29,29,29,29,29,29,29,29,60,60,60,60,60,60,60,29]
[null,null,null,61,null,null,null,null,null,null,null,null,null,null,null,null,null,null,null,null,null,null,null,null,null,null,null,null,null,null,null,null,null,null,null,null,null,null,null,null,null,null,null,null,null,null,null,null,null,null,null,null,null,null,null,null,null,null,null,null,null,null,null,null,null,null,null,{"$f":"IF(MIN(BO$48:BO$77)=$BP$47,BO72,IF(BO72=MIN(BO$48:BO$77),BP$47,IF(BO72=\"\",$CT72,BO72)))","v":30},30,30,30,30,30,30,30,30,30,30,30,30,30,30,30,30,30,30,30,30,30,30,30,61,61,61,61,61,61,30]
[null,null,null,62,null,null,null,null,null,null,null,null,null,null,null,null,null,null,null,null,null,null,null,null,null,null,null,null,null,null,null,null,null,null,null,null,null,null,null,null,null,null,null,null,null,null,null,null,null,null,null,null,null,null,null,null,null,null,null,null,null,null,null,null,null,null,null,{"$f":"IF(MIN(BO$48:BO$77)=$BP$47,BO73,IF(BO73=MIN(BO$48:BO$77),BP$47,IF(BO73=\"\",$CT73,BO73)))","v":31},31,31,31,31,31,31,31,31,31,31,31,31,31,31,31,31,31,31,31,31,31,31,31,31,62,62,62,62,62,31]
[null,null,null,63,null,null,null,null,null,null,null,null,null,null,null,null,null,null,null,null,null,null,null,null,null,null,null,null,null,null,null,null,null,null,null,null,null,null,null,null,null,null,null,null,null,null,null,null,null,null,null,null,null,null,null,null,null,null,null,null,null,null,null,null,null,null,null,{"$f":"IF(MIN(BO$48:BO$77)=$BP$47,BO74,IF(BO74=MIN(BO$48:BO$77),BP$47,IF(BO74=\"\",$CT74,BO74)))","v":32},32,32,32,32,32,32,32,32,32,32,32,32,32,32,32,32,32,32,32,32,32,32,32,32,32,63,63,63,63,32]
[null,null,null,64,null,null,null,null,null,null,null,null,null,null,null,null,null,null,null,null,null,null,null,null,null,null,null,null,null,null,null,null,null,null,null,null,null,null,null,null,null,null,null,null,null,null,null,null,null,null,null,null,null,null,null,null,null,null,null,null,null,null,null,null,null,null,null,{"$f":"IF(MIN(BO$48:BO$77)=$BP$47,BO75,IF(BO75=MIN(BO$48:BO$77),BP$47,IF(BO75=\"\",$CT75,BO75)))","v":33},33,33,33,33,33,33,33,33,33,33,33,33,33,33,33,33,33,33,33,33,33,33,33,33,33,33,64,64,64,33]
[null,null,null,65,null,null,null,null,null,null,null,null,null,null,null,null,null,null,null,null,null,null,null,null,null,null,null,null,null,null,null,null,null,null,null,null,null,null,null,null,null,null,null,null,null,null,null,null,null,null,null,null,null,null,null,null,null,null,null,null,null,null,null,null,null,null,null,{"$f":"IF(MIN(BO$48:BO$77)=$BP$47,BO76,IF(BO76=MIN(BO$48:BO$77),BP$47,IF(BO76=\"\",$CT76,BO76)))","v":34},34,34,34,34,34,34,34,34,34,34,34,34,34,34,34,34,34,34,34,34,34,34,34,34,34,34,34,65,65,34]
[null,null,null,66,null,null,null,null,null,null,null,null,null,null,null,null,null,null,null,null,null,null,null,null,null,null,null,null,null,null,null,null,null,null,null,null,null,null,null,null,null,null,null,null,null,null,null,null,null,null,null,null,null,null,null,null,null,null,null,null,null,null,null,null,null,null,null,{"$f":"IF(MIN(BO$48:BO$77)=$BP$47,BO77,IF(BO77=MIN(BO$48:BO$77),BP$47,IF(BO77=\"\",$CT77,BO77)))","v":35},35,35,35,35,35,35,35,35,35,35,35,35,35,35,35,35,35,35,35,35,35,35,35,35,35,35,35,35,66,35]

{"sheet":"8 RPM","index":5,"n_rows":77,"n_cols":98,"rows_kept":77,"cut":false,"hidden":false,"merged":[[8,56,8,57],[8,58,8,59],[8,60,8,61],[8,62,8,63],[8,44,8,45],[8,46,8,47],[8,48,8,49],[8,50,8,51],[8,52,8,53],[8,54,8,55],[8,32,8,33],[8,34,8,35],[8,36,8,37],[8,38,8,39],[8,40,8,41],[8,42,8,43],[8,20,8,21],[8,22,8,23],[8,24,8,25],[8,26,8,27],[8,28,8,29],[8,30,8,31],[7,62,7,63],[8,2,8,3],[8,4,8,5],[8,6,8,7],[8,8,8,9],[8,10,8,11],[8,12,8,13],[8,14,8,15],[8,16,8,17],[8,18,8,19],[7,50,7,51],[7,52,7,53],[7,54,7,55],[7,56,7,57],[7,58,7,59],[7,60,7,61],[7,38,7,39],[7,40,7,41],[7,42,7,43],[7,44,7,45],[7,46,7,47],[7,48,7,49],[7,26,7,27],[7,28,7,29],[7,30,7,31],[7,32,7,33],[7,34,7,35],[7,36,7,37],[7,14,7,15],[7,16,7,17],[7,18,7,19],[7,20,7,21],[7,22,7,23],[7,24,7,25],[6,56,6,57],[6,58,6,59],[6,60,6,61],[6,62,6,63],[7,2,7,3],[7,4,7,5],[7,6,7,7],[7,8,7,9],[7,10,7,11],[7,12,7,13],[6,44,6,45],[6,46,6,47],[6,48,6,49],[6,50,6,51],[6,52,6,53],[6,54,6,55],[6,32,6,33],[6,34,6,35],[6,36,6,37],[6,38,6,39],[6,40,6,41],[6,42,6,43],[6,20,6,21],[6,22,6,23],[6,24,6,25],[6,26,6,27],[6,28,6,29],[6,30,6,31],[5,62,5,63],[6,2,6,3],[6,4,6,5],[6,6,6,7],[6,8,6,9],[6,10,6,11],[6,12,6,13],[6,14,6,15],[6,16,6,17],[6,18,6,19],[5,50,5,51],[5,52,5,53],[5,54,5,55],[5,56,5,57],[5,58,5,59],[5,60,5,61],[5,38,5,39],[5,40,5,41],[5,42,5,43],[5,44,5,45],[5,2,5,3],[5,4,5,5],[5,6,5,7],[5,8,5,9],[5,10,5,11],[5,12,5,13],[5,46,5,47],[5,48,5,49],[5,26,5,27],[5,28,5,29],[5,30,5,31],[5,32,5,33],[5,34,5,35],[5,36,5,37],[5,14,5,15],[5,16,5,17],[5,18,5,19],[5,20,5,21],[5,22,5,23],[5,24,5,25]]}
["This worksheet is used to sort the mode shapes and frequencies and to help you determine which modes are which for up to 30 modes (up to 30 DOFs)."]
["To use this spreadsheet, paste the appropriate data output from MBC3 into the six gray cells marked with comments (DescStates, MBC_ModeShapeMagnitude, MBC_ModeShapePhaseDeg_MBC_DampingRatio, MBC_DampedFrequencyHz, MBC_NaturalFrequencyHz).  The Scaling should be calculated according to the comment, but is not output by MBC3.  Do not change any other cell!"]
["NOTE: This spreadsheet doesn't work if any natural (undamped) frequency is 0.0 or if any natural (undamped) frequency is in duplicate--to avoid the resulting error, in the cells where the frequencies are pasted-in, change the error-causing frequency (or frequencies) by a very small amount!"]
[null,null,null,"BladeLength",117,"TowerHt",144.495]
[null,null,"Mode Shapes and Frequencies"]
[null,null,"Mode Number",null,1,null,{"$f":"E6+1","v":2},null,{"$f":"G6+1","v":3},null,{"$f":"I6+1","v":4},null,{"$f":"K6+1","v":5},null,{"$f":"M6+1","v":6},null,{"$f":"O6+1","v":7},null,{"$f":"Q6+1","v":8},null,{"$f":"S6+1","v":9},null,{"$f":"U6+1","v":10},null,{"$f":"W6+1","v":11},null,{"$f":"Y6+1","v":12},null,{"$f":"AA6+1","v":13},null,{"$f":"AC6+1","v":14},null,{"$f":"AE6+1","v":15},null,{"$f":"AG6+1","v":16},null,{"$f":"AI6+1","v":17},null,{"$f":"AK6+1","v":18},null,{"$f":"AM6+1","v":19},null,{"$f":"AO6+1","v":20},null,{"$f":"AQ6+1","v":21},null,{"$f":"AS6+1","v":22},null,{"$f":"AU6+1","v":23},null,{"$f":"AW6+1","v":24},null,{"$f":"AY6+1","v":25},null,{"$f":"BA6+1","v":26},null,{"$f":"BC6+1","v":27},null,{"$f":"BE6+1","v":28},null,{"$f":"BG6+1","v":29},null,{"$f":"BI6+1","v":30}]
[null,null,"Natural (Undamped) Frequencies (Hz)",null,{"$f":"IF(VLOOKUP(E$6+$BO$47,$D$48:$BO$77,64,FALSE)=\"\",\"\",VLOOKUP(E$6+$BO$47,$D$48:$BO$77,64,FALSE))","v":7.7425314656645759E-3},null,{"$f":"IF(VLOOKUP(G$6+$BO$47,$D$48:$BO$77,64,FALSE)=\"\",\"\",VLOOKUP(G$6+$BO$47,$D$48:$BO$77,64,FALSE))","v":7.8260163872585723E-3},null,{"$f":"IF(VLOOKUP(I$6+$BO$47,$D$48:$BO$77,64,FALSE)=\"\",\"\",VLOOKUP(I$6+$BO$47,$D$48:$BO$77,64,FALSE))","v":1.1918418470759451E-2},null,{"$f":"IF(VLOOKUP(K$6+$BO$47,$D$48:$BO$77,64,FALSE)=\"\",\"\",VLOOKUP(K$6+$BO$47,$D$48:$BO$77,64,FALSE))","v":3.60897727930009E-2},null,{"$f":"IF(VLOOKUP(M$6+$BO$47,$D$48:$BO$77,64,FALSE)=\"\",\"\",VLOOKUP(M$6+$BO$47,$D$48:$BO$77,64,FALSE))","v":3.6192387791171413E-2},null,{"$f":"IF(VLOOKUP(O$6+$BO$47,$D$48:$BO$77,64,FALSE)=\"\",\"\",VLOOKUP(O$6+$BO$47,$D$48:$BO$77,64,FALSE))","v":5.0577269495583763E-2},null,{"$f":"IF(VLOOKUP(Q$6+$BO$47,$D$48:$BO$77,64,FALSE)=\"\",\"\",VLOOKUP(Q$6+$BO$47,$D$48:$BO$77,64,FALSE))","v":0.40416748731521329},null,{"$f":"IF(VLOOKUP(S$6+$BO$47,$D$48:$BO$77,64,FALSE)=\"\",\"\",VLOOKUP(S$6+$BO$47,$D$48:$BO$77,64,FALSE))","v":0.4261490362502578},null,{"$f":"IF(VLOOKUP(U$6+$BO$47,$D$48:$BO$77,64,FALSE)=\"\",\"\",VLOOKUP(U$6+$BO$47,$D$48:$BO$77,64,FALSE))","v":0.48349869553043567},null,{"$f":"IF(VLOOKUP(W$6+$BO$47,$D$48:$BO$77,64,FALSE)=\"\",\"\",VLOOKUP(W$6+$BO$47,$D$48:$BO$77,64,FALSE))","v":0.53095178719055802},null,{"$f":"IF(VLOOKUP(Y$6+$BO$47,$D$48:$BO$77,64,FALSE)=\"\",\"\",VLOOKUP(Y$6+$BO$47,$D$48:$BO$77,64,FALSE))","v":0.59978012218810817},null,{"$f":"IF(VLOOKUP(AA$6+$BO$47,$D$48:$BO$77,64,FALSE)=\"\",\"\",VLOOKUP(AA$6+$BO$47,$D$48:$BO$77,64,FALSE))","v":0.68316118140844717},null,{"$f":"IF(VLOOKUP(AC$6+$BO$47,$D$48:$BO$77,64,FALSE)=\"\",\"\",VLOOKUP(AC$6+$BO$47,$D$48:$BO$77,64,FALSE))","v":0.7148576535672917},null,{"$f":"IF(VLOOKUP(AE$6+$BO$47,$D$48:$BO$77,64,FALSE)=\"\",\"\",VLOOKUP(AE$6+$BO$47,$D$48:$BO$77,64,FALSE))","v":0.79912567682030833},null,{"$f":"IF(VLOOKUP(AG$6+$BO$47,$D$48:$BO$77,64,FALSE)=\"\",\"\",VLOOKUP(AG$6+$BO$47,$D$48:$BO$77,64,FALSE))","v":2.3042627199623911},null,{"$f":"IF(VLOOKUP(AI$6+$BO$47,$D$48:$BO$77,64,FALSE)=\"\",\"\",VLOOKUP(AI$6+$BO$47,$D$48:$BO$77,64,FALSE))","v":2.4743163692481551},null,{"$f":"IF(VLOOKUP(AK$6+$BO$47,$D$48:$BO$77,64,FALSE)=\"\",\"\",VLOOKUP(AK$6+$BO$47,$D$48:$BO$77,64,FALSE))","v":2.516872536781936},null,{"$f":"IF(VLOOKUP(AM$6+$BO$47,$D$48:$BO$77,64,FALSE)=\"\",\"\",VLOOKUP(AM$6+$BO$47,$D$48:$BO$77,64,FALSE))","v":2.6303556467847931},null,{"$f":"IF(VLOOKUP(AO$6+$BO$47,$D$48:$BO$77,64,FALSE)=\"\",\"\",VLOOKUP(AO$6+$BO$47,$D$48:$BO$77,64,FALSE))","v":2.6717906585415139},null,{"$f":"IF(VLOOKUP(AQ$6+$BO$47,$D$48:$BO$77,64,FALSE)=\"\",\"\",VLOOKUP(AQ$6+$BO$47,$D$48:$BO$77,64,FALSE))","v":4.8119457665573746},null,{"$f":"IF(VLOOKUP(AS$6+$BO$47,$D$48:$BO$77,64,FALSE)=\"\",\"\",VLOOKUP(AS$6+$BO$47,$D$48:$BO$77,64,FALSE))","v":""},null,{"$f":"IF(VLOOKUP(AU$6+$BO$47,$D$48:$BO$77,64,FALSE)=\"\",\"\",VLOOKUP(AU$6+$BO$47,$D$48:$BO$77,64,FALSE))","v":""},null,{"$f":"IF(VLOOKUP(AW$6+$BO$47,$D$48:$BO$77,64,FALSE)=\"\",\"\",VLOOKUP(AW$6+$BO$47,$D$48:$BO$77,64,FALSE))","v":""},null,{"$f":"IF(VLOOKUP(AY$6+$BO$47,$D$48:$BO$77,64,FALSE)=\"\",\"\",VLOOKUP(AY$6+$BO$47,$D$48:$BO$77,64,FALSE))","v":""},null,{"$f":"IF(VLOOKUP(BA$6+$BO$47,$D$48:$BO$77,64,FALSE)=\"\",\"\",VLOOKUP(BA$6+$BO$47,$D$48:$BO$77,64,FALSE))","v":""},null,{"$f":"IF(VLOOKUP(BC$6+$BO$47,$D$48:$BO$77,64,FALSE)=\"\",\"\",VLOOKUP(BC$6+$BO$47,$D$48:$BO$77,64,FALSE))","v":""},null,{"$f":"IF(VLOOKUP(BE$6+$BO$47,$D$48:$BO$77,64,FALSE)=\"\",\"\",VLOOKUP(BE$6+$BO$47,$D$48:$BO$77,64,FALSE))","v":""},null,{"$f":"IF(VLOOKUP(BG$6+$BO$47,$D$48:$BO$77,64,FALSE)=\"\",\"\",VLOOKUP(BG$6+$BO$47,$D$48:$BO$77,64,FALSE))","v":""},null,{"$f":"IF(VLOOKUP(BI$6+$BO$47,$D$48:$BO$77,64,FALSE)=\"\",\"\",VLOOKUP(BI$6+$BO$47,$D$48:$BO$77,64,FALSE))","v":""},null,{"$f":"IF(VLOOKUP(BK$6+$BO$47,$D$48:$BO$77,64,FALSE)=\"\",\"\",VLOOKUP(BK$6+$BO$47,$D$48:$BO$77,64,FALSE))","v":""}]
[null,null,"Damped Frequencies (Hz)",null,{"$f":"IF(VLOOKUP(E$6+$BO$47,$D$48:$BO$77,63,FALSE)=\"\",\"\",VLOOKUP(E$6+$BO$47,$D$48:$BO$77,63,FALSE))","v":7.7344719527384087E-3},null,{"$f":"IF(VLOOKUP(G$6+$BO$47,$D$48:$BO$77,63,FALSE)=\"\",\"\",VLOOKUP(G$6+$BO$47,$D$48:$BO$77,63,FALSE))","v":7.8240941601319617E-3},null,{"$f":"IF(VLOOKUP(I$6+$BO$47,$D$48:$BO$77,63,FALSE)=\"\",\"\",VLOOKUP(I$6+$BO$47,$D$48:$BO$77,63,FALSE))","v":1.152961044716516E-2},null,{"$f":"IF(VLOOKUP(K$6+$BO$47,$D$48:$BO$77,63,FALSE)=\"\",\"\",VLOOKUP(K$6+$BO$47,$D$48:$BO$77,63,FALSE))","v":3.6080129205827448E-2},null,{"$f":"IF(VLOOKUP(M$6+$BO$47,$D$48:$BO$77,63,FALSE)=\"\",\"\",VLOOKUP(M$6+$BO$47,$D$48:$BO$77,63,FALSE))","v":3.6182963592981288E-2},null,{"$f":"IF(VLOOKUP(O$6+$BO$47,$D$48:$BO$77,63,FALSE)=\"\",\"\",VLOOKUP(O$6+$BO$47,$D$48:$BO$77,63,FALSE))","v":5.0576467575704047E-2},null,{"$f":"IF(VLOOKUP(Q$6+$BO$47,$D$48:$BO$77,63,FALSE)=\"\",\"\",VLOOKUP(Q$6+$BO$47,$D$48:$BO$77,63,FALSE))","v":0.40408754363292898},null,{"$f":"IF(VLOOKUP(S$6+$BO$47,$D$48:$BO$77,63,FALSE)=\"\",\"\",VLOOKUP(S$6+$BO$47,$D$48:$BO$77,63,FALSE))","v":0.42613697938911632},null,{"$f":"IF(VLOOKUP(U$6+$BO$47,$D$48:$BO$77,63,FALSE)=\"\",\"\",VLOOKUP(U$6+$BO$47,$D$48:$BO$77,63,FALSE))","v":0.4833588518341862},null,{"$f":"IF(VLOOKUP(W$6+$BO$47,$D$48:$BO$77,63,FALSE)=\"\",\"\",VLOOKUP(W$6+$BO$47,$D$48:$BO$77,63,FALSE))","v":0.53061428084757567},null,{"$f":"IF(VLOOKUP(Y$6+$BO$47,$D$48:$BO$77,63,FALSE)=\"\",\"\",VLOOKUP(Y$6+$BO$47,$D$48:$BO$77,63,FALSE))","v":0.59954439633207945},null,{"$f":"IF(VLOOKUP(AA$6+$BO$47,$D$48:$BO$77,63,FALSE)=\"\",\"\",VLOOKUP(AA$6+$BO$47,$D$48:$BO$77,63,FALSE))","v":0.6829112126800666},null,{"$f":"IF(VLOOKUP(AC$6+$BO$47,$D$48:$BO$77,63,FALSE)=\"\",\"\",VLOOKUP(AC$6+$BO$47,$D$48:$BO$77,63,FALSE))","v":0.7146711596575982},null,{"$f":"IF(VLOOKUP(AE$6+$BO$47,$D$48:$BO$77,63,FALSE)=\"\",\"\",VLOOKUP(AE$6+$BO$47,$D$48:$BO$77,63,FALSE))","v":0.79888039617147644},null,{"$f":"IF(VLOOKUP(AG$6+$BO$47,$D$48:$BO$77,63,FALSE)=\"\",\"\",VLOOKUP(AG$6+$BO$47,$D$48:$BO$77,63,FALSE))","v":2.2885079997849429},null,{"$f":"IF(VLOOKUP(AI$6+$BO$47,$D$48:$BO$77,63,FALSE)=\"\",\"\",VLOOKUP(AI$6+$BO$47,$D$48:$BO$77,63,FALSE))","v":2.453551979987429},null,{"$f":"IF(VLOOKUP(AK$6+$BO$47,$D$48:$BO$77,63,FALSE)=\"\",\"\",VLOOKUP(AK$6+$BO$47,$D$48:$BO$77,63,FALSE))","v":2.5135966288132181},null,{"$f":"IF(VLOOKUP(AM$6+$BO$47,$D$48:$BO$77,63,FALSE)=\"\",\"\",VLOOKUP(AM$6+$BO$47,$D$48:$BO$77,63,FALSE))","v":2.6182710831029179},null,{"$f":"IF(VLOOKUP(AO$6+$BO$47,$D$48:$BO$77,63,FALSE)=\"\",\"\",VLOOKUP(AO$6+$BO$47,$D$48:$BO$77,63,FALSE))","v":2.6713781161690542},null,{"$f":"IF(VLOOKUP(AQ$6+$BO$47,$D$48:$BO$77,63,FALSE)=\"\",\"\",VLOOKUP(AQ$6+$BO$47,$D$48:$BO$77,63,FALSE))","v":4.8093761127115258},null,{"$f":"IF(VLOOKUP(AS$6+$BO$47,$D$48:$BO$77,63,FALSE)=\"\",\"\",VLOOKUP(AS$6+$BO$47,$D$48:$BO$77,63,FALSE))","v":""},null,{"$f":"IF(VLOOKUP(AU$6+$BO$47,$D$48:$BO$77,63,FALSE)=\"\",\"\",VLOOKUP(AU$6+$BO$47,$D$48:$BO$77,63,FALSE))","v":""},null,{"$f":"IF(VLOOKUP(AW$6+$BO$47,$D$48:$BO$77,63,FALSE)=\"\",\"\",VLOOKUP(AW$6+$BO$47,$D$48:$BO$77,63,FALSE))","v":""},null,{"$f":"IF(VLOOKUP(AY$6+$BO$47,$D$48:$BO$77,63,FALSE)=\"\",\"\",VLOOKUP(AY$6+$BO$47,$D$48:$BO$77,63,FALSE))","v":""},null,{"$f":"IF(VLOOKUP(BA$6+$BO$47,$D$48:$BO$77,63,FALSE)=\"\",\"\",VLOOKUP(BA$6+$BO$47,$D$48:$BO$77,63,FALSE))","v":""},null,{"$f":"IF(VLOOKUP(BC$6+$BO$47,$D$48:$BO$77,63,FALSE)=\"\",\"\",VLOOKUP(BC$6+$BO$47,$D$48:$BO$77,63,FALSE))","v":""},null,{"$f":"IF(VLOOKUP(BE$6+$BO$47,$D$48:$BO$77,63,FALSE)=\"\",\"\",VLOOKUP(BE$6+$BO$47,$D$48:$BO$77,63,FALSE))","v":""},null,{"$f":"IF(VLOOKUP(BG$6+$BO$47,$D$48:$BO$77,63,FALSE)=\"\",\"\",VLOOKUP(BG$6+$BO$47,$D$48:$BO$77,63,FALSE))","v":""},null,{"$f":"IF(VLOOKUP(BI$6+$BO$47,$D$48:$BO$77,63,FALSE)=\"\",\"\",VLOOKUP(BI$6+$BO$47,$D$48:$BO$77,63,FALSE))","v":""},null,{"$f":"IF(VLOOKUP(BK$6+$BO$47,$D$48:$BO$77,63,FALSE)=\"\",\"\",VLOOKUP(BK$6+$BO$47,$D$48:$BO$77,63,FALSE))","v":""}]
[null,null,"Damping Ratio (-)",null,{"$f":"IF(VLOOKUP(E$6+$BO$47,$D$48:$BO$77,62,FALSE)=\"\",\"\",VLOOKUP(E$6+$BO$47,$D$48:$BO$77,62,FALSE))","v":4.5615754048008147E-2},null,{"$f":"IF(VLOOKUP(G$6+$BO$47,$D$48:$BO$77,62,FALSE)=\"\",\"\",VLOOKUP(G$6+$BO$47,$D$48:$BO$77,62,FALSE))","v":2.2162579308438169E-2},null,{"$f":"IF(VLOOKUP(I$6+$BO$47,$D$48:$BO$77,62,FALSE)=\"\",\"\",VLOOKUP(I$6+$BO$47,$D$48:$BO$77,62,FALSE))","v":0.25333905711255228},null,{"$f":"IF(VLOOKUP(K$6+$BO$47,$D$48:$BO$77,62,FALSE)=\"\",\"\",VLOOKUP(K$6+$BO$47,$D$48:$BO$77,62,FALSE))","v":2.3116028177621688E-2},null,{"$f":"IF(VLOOKUP(M$6+$BO$47,$D$48:$BO$77,62,FALSE)=\"\",\"\",VLOOKUP(M$6+$BO$47,$D$48:$BO$77,62,FALSE))","v":2.2819194567224751E-2},null,{"$f":"IF(VLOOKUP(O$6+$BO$47,$D$48:$BO$77,62,FALSE)=\"\",\"\",VLOOKUP(O$6+$BO$47,$D$48:$BO$77,62,FALSE))","v":5.6312016121401742E-3},null,{"$f":"IF(VLOOKUP(Q$6+$BO$47,$D$48:$BO$77,62,FALSE)=\"\",\"\",VLOOKUP(Q$6+$BO$47,$D$48:$BO$77,62,FALSE))","v":1.9888631818257101E-2},null,{"$f":"IF(VLOOKUP(S$6+$BO$47,$D$48:$BO$77,62,FALSE)=\"\",\"\",VLOOKUP(S$6+$BO$47,$D$48:$BO$77,62,FALSE))","v":7.5222593060396284E-3},null,{"$f":"IF(VLOOKUP(U$6+$BO$47,$D$48:$BO$77,62,FALSE)=\"\",\"\",VLOOKUP(U$6+$BO$47,$D$48:$BO$77,62,FALSE))","v":2.4049573912278889E-2},null,{"$f":"IF(VLOOKUP(W$6+$BO$47,$D$48:$BO$77,62,FALSE)=\"\",\"\",VLOOKUP(W$6+$BO$47,$D$48:$BO$77,62,FALSE))","v":3.5649988719471767E-2},null,{"$f":"IF(VLOOKUP(Y$6+$BO$47,$D$48:$BO$77,62,FALSE)=\"\",\"\",VLOOKUP(Y$6+$BO$47,$D$48:$BO$77,62,FALSE))","v":2.8033666247506261E-2},null,{"$f":"IF(VLOOKUP(AA$6+$BO$47,$D$48:$BO$77,62,FALSE)=\"\",\"\",VLOOKUP(AA$6+$BO$47,$D$48:$BO$77,62,FALSE))","v":2.7049330299844972E-2},null,{"$f":"IF(VLOOKUP(AC$6+$BO$47,$D$48:$BO$77,62,FALSE)=\"\",\"\",VLOOKUP(AC$6+$BO$47,$D$48:$BO$77,62,FALSE))","v":2.2840689618135471E-2},null,{"$f":"IF(VLOOKUP(AE$6+$BO$47,$D$48:$BO$77,62,FALSE)=\"\",\"\",VLOOKUP(AE$6+$BO$47,$D$48:$BO$77,62,FALSE))","v":2.4774549762482969E-2},null,{"$f":"IF(VLOOKUP(AG$6+$BO$47,$D$48:$BO$77,62,FALSE)=\"\",\"\",VLOOKUP(AG$6+$BO$47,$D$48:$BO$77,62,FALSE))","v":0.1167375934309082},null,{"$f":"IF(VLOOKUP(AI$6+$BO$47,$D$48:$BO$77,62,FALSE)=\"\",\"\",VLOOKUP(AI$6+$BO$47,$D$48:$BO$77,62,FALSE))","v":0.12928076135256061},null,{"$f":"IF(VLOOKUP(AK$6+$BO$47,$D$48:$BO$77,62,FALSE)=\"\",\"\",VLOOKUP(AK$6+$BO$47,$D$48:$BO$77,62,FALSE))","v":5.1004544096101917E-2},null,{"$f":"IF(VLOOKUP(AM$6+$BO$47,$D$48:$BO$77,62,FALSE)=\"\",\"\",VLOOKUP(AM$6+$BO$47,$D$48:$BO$77,62,FALSE))","v":9.5746709677771491E-2},null,{"$f":"IF(VLOOKUP(AO$6+$BO$47,$D$48:$BO$77,62,FALSE)=\"\",\"\",VLOOKUP(AO$6+$BO$47,$D$48:$BO$77,62,FALSE))","v":1.757240888205553E-2},null,{"$f":"IF(VLOOKUP(AQ$6+$BO$47,$D$48:$BO$77,62,FALSE)=\"\",\"\",VLOOKUP(AQ$6+$BO$47,$D$48:$BO$77,62,FALSE))","v":3.267638167539267E-2},null,{"$f":"IF(VLOOKUP(AS$6+$BO$47,$D$48:$BO$77,62,FALSE)=\"\",\"\",VLOOKUP(AS$6+$BO$47,$D$48:$BO$77,62,FALSE))","v":""},null,{"$f":"IF(VLOOKUP(AU$6+$BO$47,$D$48:$BO$77,62,FALSE)=\"\",\"\",VLOOKUP(AU$6+$BO$47,$D$48:$BO$77,62,FALSE))","v":""},null,{"$f":"IF(VLOOKUP(AW$6+$BO$47,$D$48:$BO$77,62,FALSE)=\"\",\"\",VLOOKUP(AW$6+$BO$47,$D$48:$BO$77,62,FALSE))","v":""},null,{"$f":"IF(VLOOKUP(AY$6+$BO$47,$D$48:$BO$77,62,FALSE)=\"\",\"\",VLOOKUP(AY$6+$BO$47,$D$48:$BO$77,62,FALSE))","v":""},null,{"$f":"IF(VLOOKUP(BA$6+$BO$47,$D$48:$BO$77,62,FALSE)=\"\",\"\",VLOOKUP(BA$6+$BO$47,$D$48:$BO$77,62,FALSE))","v":""},null,{"$f":"IF(VLOOKUP(BC$6+$BO$47,$D$48:$BO$77,62,FALSE)=\"\",\"\",VLOOKUP(BC$6+$BO$47,$D$48:$BO$77,62,FALSE))","v":""},null,{"$f":"IF(VLOOKUP(BE$6+$BO$47,$D$48:$BO$77,62,FALSE)=\"\",\"\",VLOOKUP(BE$6+$BO$47,$D$48:$BO$77,62,FALSE))","v":""},null,{"$f":"IF(VLOOKUP(BG$6+$BO$47,$D$48:$BO$77,62,FALSE)=\"\",\"\",VLOOKUP(BG$6+$BO$47,$D$48:$BO$77,62,FALSE))","v":""},null,{"$f":"IF(VLOOKUP(BI$6+$BO$47,$D$48:$BO$77,62,FALSE)=\"\",\"\",VLOOKUP(BI$6+$BO$47,$D$48:$BO$77,62,FALSE))","v":""},null,{"$f":"IF(VLOOKUP(BK$6+$BO$47,$D$48:$BO$77,62,FALSE)=\"\",\"\",VLOOKUP(BK$6+$BO$47,$D$48:$BO$77,62,FALSE))","v":""}]
[null,null,"States","Scaling","Magnitude (rad)","Phase (deg)","Magnitude (rad)","Phase (deg)","Magnitude (rad)","Phase (deg)","Magnitude (rad)","Phase (deg)","Magnitude (rad)","Phase (deg)","Magnitude (rad)","Phase (deg)","Magnitude (rad)","Phase (deg)","Magnitude (rad)","Phase (deg)","Magnitude (rad)","Phase (deg)","Magnitude (rad)","Phase (deg)","Magnitude (rad)","Phase (deg)","Magnitude (rad)","Phase (deg)","Magnitude (rad)","Phase (deg)","Magnitude (rad)","Phase (deg)","Magnitude (rad)","Phase (deg)","Magnitude (rad)","Phase (deg)","Magnitude (rad)","Phase (deg)","Magnitude (rad)","Phase (deg)","Magnitude (rad)","Phase (deg)","Magnitude (rad)","Phase (deg)","Magnitude (rad)","Phase (deg)","Magnitude (rad)","Phase (deg)","Magnitude (rad)","Phase (deg)","Magnitude (rad)","Phase (deg)","Magnitude (rad)","Phase (deg)","Magnitude (rad)","Phase (deg)","Magnitude (rad)","Phase (deg)","Magnitude (rad)","Phase (deg)","Magnitude (rad)","Phase (deg)","Magnitude (rad)","Phase (deg)"]
[null,1,"ED Platform horizontal surge translation DOF (internal DOF index = DOF_Sg), m",1,{"$f":"IF(HLOOKUP(E$6+$BO$47,$E$47:$AH$77,$B11+1,FALSE)=\"\",\"\",HLOOKUP(E$6+$BO$47,$E$47:$AH$77,$B11+1,FALSE)*$D11)","v":0.99881499977381671},{"$f":"IF(HLOOKUP(E$6+$BO$47,$AI$47:$BL$77,$B11+1,FALSE)=\"\",\"\",HLOOKUP(E$6+$BO$47,$AI$47:$BL$77,$B11+1,FALSE))","v":0},{"$f":"IF(HLOOKUP(G$6+$BO$47,$E$47:$AH$77,$B11+1,FALSE)=\"\",\"\",HLOOKUP(G$6+$BO$47,$E$47:$AH$77,$B11+1,FALSE)*$D11)","v":1.538845311128403E-3},{"$f":"IF(HLOOKUP(G$6+$BO$47,$AI$47:$BL$77,$B11+1,FALSE)=\"\",\"\",HLOOKUP(G$6+$BO$47,$AI$47:$BL$77,$B11+1,FALSE))","v":42.776890143144229},{"$f":"IF(HLOOKUP(I$6+$BO$47,$E$47:$AH$77,$B11+1,FALSE)=\"\",\"\",HLOOKUP(I$6+$BO$47,$E$47:$AH$77,$B11+1,FALSE)*$D11)","v":3.8558797886929182E-2},{"$f":"IF(HLOOKUP(I$6+$BO$47,$AI$47:$BL$77,$B11+1,FALSE)=\"\",\"\",HLOOKUP(I$6+$BO$47,$AI$47:$BL$77,$B11+1,FALSE))","v":-37.206344409033072},{"$f":"IF(HLOOKUP(K$6+$BO$47,$E$47:$AH$77,$B11+1,FALSE)=\"\",\"\",HLOOKUP(K$6+$BO$47,$E$47:$AH$77,$B11+1,FALSE)*$D11)","v":0.35345870026133908},{"$f":"IF(HLOOKUP(K$6+$BO$47,$AI$47:$BL$77,$B11+1,FALSE)=\"\",\"\",HLOOKUP(K$6+$BO$47,$AI$47:$BL$77,$B11+1,FALSE))","v":-90.86504320786662},{"$f":"IF(HLOOKUP(M$6+$BO$47,$E$47:$AH$77,$B11+1,FALSE)=\"\",\"\",HLOOKUP(M$6+$BO$47,$E$47:$AH$77,$B11+1,FALSE)*$D11)","v":0.35803132707774032},{"$f":"IF(HLOOKUP(M$6+$BO$47,$AI$47:$BL$77,$B11+1,FALSE)=\"\",\"\",HLOOKUP(M$6+$BO$47,$AI$47:$BL$77,$B11+1,FALSE))","v":-91.827539056859862},{"$f":"IF(HLOOKUP(O$6+$BO$47,$E$47:$AH$77,$B11+1,FALSE)=\"\",\"\",HLOOKUP(O$6+$BO$47,$E$47:$AH$77,$B11+1,FALSE)*$D11)","v":1.810275865019185E-3},{"$f":"IF(HLOOKUP(O$6+$BO$47,$AI$47:$BL$77,$B11+1,FALSE)=\"\",\"\",HLOOKUP(O$6+$BO$47,$AI$47:$BL$77,$B11+1,FALSE))","v":2.996982244286944},{"$f":"IF(HLOOKUP(Q$6+$BO$47,$E$47:$AH$77,$B11+1,FALSE)=\"\",\"\",HLOOKUP(Q$6+$BO$47,$E$47:$AH$77,$B11+1,FALSE)*$D11)","v":1.5717316786877139E-3},{"$f":"IF(HLOOKUP(Q$6+$BO$47,$AI$47:$BL$77,$B11+1,FALSE)=\"\",\"\",HLOOKUP(Q$6+$BO$47,$AI$47:$BL$77,$B11+1,FALSE))","v":-82.71077788018701},{"$f":"IF(HLOOKUP(S$6+$BO$47,$E$47:$AH$77,$B11+1,FALSE)=\"\",\"\",HLOOKUP(S$6+$BO$47,$E$47:$AH$77,$B11+1,FALSE)*$D11)","v":1.1822689665703121E-3},{"$f":"IF(HLOOKUP(S$6+$BO$47,$AI$47:$BL$77,$B11+1,FALSE)=\"\",\"\",HLOOKUP(S$6+$BO$47,$AI$47:$BL$77,$B11+1,FALSE))","v":-156.38990420493249},{"$f":"IF(HLOOKUP(U$6+$BO$47,$E$47:$AH$77,$B11+1,FALSE)=\"\",\"\",HLOOKUP(U$6+$BO$47,$E$47:$AH$77,$B11+1,FALSE)*$D11)","v":1.338580687177955E-3},{"$f":"IF(HLOOKUP(U$6+$BO$47,$AI$47:$BL$77,$B11+1,FALSE)=\"\",\"\",HLOOKUP(U$6+$BO$47,$AI$47:$BL$77,$B11+1,FALSE))","v":-8.1248363989135655},{"$f":"IF(HLOOKUP(W$6+$BO$47,$E$47:$AH$77,$B11+1,FALSE)=\"\",\"\",HLOOKUP(W$6+$BO$47,$E$47:$AH$77,$B11+1,FALSE)*$D11)","v":2.9442012858747659E-4},{"$f":"IF(HLOOKUP(W$6+$BO$47,$AI$47:$BL$77,$B11+1,FALSE)=\"\",\"\",HLOOKUP(W$6+$BO$47,$AI$47:$BL$77,$B11+1,FALSE))","v":-123.3089275322592},{"$f":"IF(HLOOKUP(Y$6+$BO$47,$E$47:$AH$77,$B11+1,FALSE)=\"\",\"\",HLOOKUP(Y$6+$BO$47,$E$47:$AH$77,$B11+1,FALSE)*$D11)","v":3.0038778773783698E-4},{"$f":"IF(HLOOKUP(Y$6+$BO$47,$AI$47:$BL$77,$B11+1,FALSE)=\"\",\"\",HLOOKUP(Y$6+$BO$47,$AI$47:$BL$77,$B11+1,FALSE))","v":-97.038413960516877},{"$f":"IF(HLOOKUP(AA$6+$BO$47,$E$47:$AH$77,$B11+1,FALSE)=\"\",\"\",HLOOKUP(AA$6+$BO$47,$E$47:$AH$77,$B11+1,FALSE)*$D11)","v":8.1438036064173405E-5},{"$f":"IF(HLOOKUP(AA$6+$BO$47,$AI$47:$BL$77,$B11+1,FALSE)=\"\",\"\",HLOOKUP(AA$6+$BO$47,$AI$47:$BL$77,$B11+1,FALSE))","v":-9.6107947938341649},{"$f":"IF(HLOOKUP(AC$6+$BO$47,$E$47:$AH$77,$B11+1,FALSE)=\"\",\"\",HLOOKUP(AC$6+$BO$47,$E$47:$AH$77,$B11+1,FALSE)*$D11)","v":1.5265885025729501E-4},{"$f":"IF(HLOOKUP(AC$6+$BO$47,$AI$47:$BL$77,$B11+1,FALSE)=\"\",\"\",HLOOKUP(AC$6+$BO$47,$AI$47:$BL$77,$B11+1,FALSE))","v":-88.568290144445257},{"$f":"IF(HLOOKUP(AE$6+$BO$47,$E$47:$AH$77,$B11+1,FALSE)=\"\",\"\",HLOOKUP(AE$6+$BO$47,$E$47:$AH$77,$B11+1,FALSE)*$D11)","v":3.673695190587242E-5},{"$f":"IF(HLOOKUP(AE$6+$BO$47,$AI$47:$BL$77,$B11+1,FALSE)=\"\",\"\",HLOOKUP(AE$6+$BO$47,$AI$47:$BL$77,$B11+1,FALSE))","v":-162.42667783227961},{"$f":"IF(HLOOKUP(AG$6+$BO$47,$E$47:$AH$77,$B11+1,FALSE)=\"\",\"\",HLOOKUP(AG$6+$BO$47,$E$47:$AH$77,$B11+1,FALSE)*$D11)","v":1.101111932805771E-6},{"$f":"IF(HLOOKUP(AG$6+$BO$47,$AI$47:$BL$77,$B11+1,FALSE)=\"\",\"\",HLOOKUP(AG$6+$BO$47,$AI$47:$BL$77,$B11+1,FALSE))","v":52.681555898130192},{"$f":"IF(HLOOKUP(AI$6+$BO$47,$E$47:$AH$77,$B11+1,FALSE)=\"\",\"\",HLOOKUP(AI$6+$BO$47,$E$47:$AH$77,$B11+1,FALSE)*$D11)","v":6.5633781251683033E-8},{"$f":"IF(HLOOKUP(AI$6+$BO$47,$AI$47:$BL$77,$B11+1,FALSE)=\"\",\"\",HLOOKUP(AI$6+$BO$47,$AI$47:$BL$77,$B11+1,FALSE))","v":-27.478786145545989},{"$f":"IF(HLOOKUP(AK$6+$BO$47,$E$47:$AH$77,$B11+1,FALSE)=\"\",\"\",HLOOKUP(AK$6+$BO$47,$E$47:$AH$77,$B11+1,FALSE)*$D11)","v":3.5352903628944941E-6},{"$f":"IF(HLOOKUP(AK$6+$BO$47,$AI$47:$BL$77,$B11+1,FALSE)=\"\",\"\",HLOOKUP(AK$6+$BO$47,$AI$47:$BL$77,$B11+1,FALSE))","v":171.34687125328429},{"$f":"IF(HLOOKUP(AM$6+$BO$47,$E$47:$AH$77,$B11+1,FALSE)=\"\",\"\",HLOOKUP(AM$6+$BO$47,$E$47:$AH$77,$B11+1,FALSE)*$D11)","v":1.3726951171355229E-6},{"$f":"IF(HLOOKUP(AM$6+$BO$47,$AI$47:$BL$77,$B11+1,FALSE)=\"\",\"\",HLOOKUP(AM$6+$BO$47,$AI$47:$BL$77,$B11+1,FALSE))","v":-159.67416595105749},{"$f":"IF(HLOOKUP(AO$6+$BO$47,$E$47:$AH$77,$B11+1,FALSE)=\"\",\"\",HLOOKUP(AO$6+$BO$47,$E$47:$AH$77,$B11+1,FALSE)*$D11)","v":5.8502965186710148E-7},{"$f":"IF(HLOOKUP(AO$6+$BO$47,$AI$47:$BL$77,$B11+1,FALSE)=\"\",\"\",HLOOKUP(AO$6+$BO$47,$AI$47:$BL$77,$B11+1,FALSE))","v":80.880794149119779},{"$f":"IF(HLOOKUP(AQ$6+$BO$47,$E$47:$AH$77,$B11+1,FALSE)=\"\",\"\",HLOOKUP(AQ$6+$BO$47,$E$47:$AH$77,$B11+1,FALSE)*$D11)","v":3.9886035422217991E-8},{"$f":"IF(HLOOKUP(AQ$6+$BO$47,$AI$47:$BL$77,$B11+1,FALSE)=\"\",\"\",HLOOKUP(AQ$6+$BO$47,$AI$47:$BL$77,$B11+1,FALSE))","v":164.54164412875971},{"$f":"IF(HLOOKUP(AS$6+$BO$47,$E$47:$AH$77,$B11+1,FALSE)=\"\",\"\",HLOOKUP(AS$6+$BO$47,$E$47:$AH$77,$B11+1,FALSE)*$D11)","v":""},{"$f":"IF(HLOOKUP(AS$6+$BO$47,$AI$47:$BL$77,$B11+1,FALSE)=\"\",\"\",HLOOKUP(AS$6+$BO$47,$AI$47:$BL$77,$B11+1,FALSE))","v":""},{"$f":"IF(HLOOKUP(AU$6+$BO$47,$E$47:$AH$77,$B11+1,FALSE)=\"\",\"\",HLOOKUP(AU$6+$BO$47,$E$47:$AH$77,$B11+1,FALSE)*$D11)","v":""},{"$f":"IF(HLOOKUP(AU$6+$BO$47,$AI$47:$BL$77,$B11+1,FALSE)=\"\",\"\",HLOOKUP(AU$6+$BO$47,$AI$47:$BL$77,$B11+1,FALSE))","v":""},{"$f":"IF(HLOOKUP(AW$6+$BO$47,$E$47:$AH$77,$B11+1,FALSE)=\"\",\"\",HLOOKUP(AW$6+$BO$47,$E$47:$AH$77,$B11+1,FALSE)*$D11)","v":""},{"$f":"IF(HLOOKUP(AW$6+$BO$47,$AI$47:$BL$77,$B11+1,FALSE)=\"\",\"\",HLOOKUP(AW$6+$BO$47,$AI$47:$BL$77,$B11+1,FALSE))","v":""},{"$f":"IF(HLOOKUP(AY$6+$BO$47,$E$47:$AH$77,$B11+1,FALSE)=\"\",\"\",HLOOKUP(AY$6+$BO$47,$E$47:$AH$77,$B11+1,FALSE)*$D11)","v":""},{"$f":"IF(HLOOKUP(AY$6+$BO$47,$AI$47:$BL$77,$B11+1,FALSE)=\"\",\"\",HLOOKUP(AY$6+$BO$47,$AI$47:$BL$77,$B11+1,FALSE))","v":""},{"$f":"IF(HLOOKUP(BA$6+$BO$47,$E$47:$AH$77,$B11+1,FALSE)=\"\",\"\",HLOOKUP(BA$6+$BO$47,$E$47:$AH$77,$B11+1,FALSE)*$D11)","v":""},{"$f":"IF(HLOOKUP(BA$6+$BO$47,$AI$47:$BL$77,$B11+1,FALSE)=\"\",\"\",HLOOKUP(BA$6+$BO$47,$AI$47:$BL$77,$B11+1,FALSE))","v":""},{"$f":"IF(HLOOKUP(BC$6+$BO$47,$E$47:$AH$77,$B11+1,FALSE)=\"\",\"\",HLOOKUP(BC$6+$BO$47,$E$47:$AH$77,$B11+1,FALSE)*$D11)","v":""},{"$f":"IF(HLOOKUP(BC$6+$BO$47,$AI$47:$BL$77,$B11+1,FALSE)=\"\",\"\",HLOOKUP(BC$6+$BO$47,$AI$47:$BL$77,$B11+1,FALSE))","v":""},{"$f":"IF(HLOOKUP(BE$6+$BO$47,$E$47:$AH$77,$B11+1,FALSE)=\"\",\"\",HLOOKUP(BE$6+$BO$47,$E$47:$AH$77,$B11+1,FALSE)*$D11)","v":""},{"$f":"IF(HLOOKUP(BE$6+$BO$47,$AI$47:$BL$77,$B11+1,FALSE)=\"\",\"\",HLOOKUP(BE$6+$BO$47,$AI$47:$BL$77,$B11+1,FALSE))","v":""},{"$f":"IF(HLOOKUP(BG$6+$BO$47,$E$47:$AH$77,$B11+1,FALSE)=\"\",\"\",HLOOKUP(BG$6+$BO$47,$E$47:$AH$77,$B11+1,FALSE)*$D11)","v":""},{"$f":"IF(HLOOKUP(BG$6+$BO$47,$AI$47:$BL$77,$B11+1,FALSE)=\"\",\"\",HLOOKUP(BG$6+$BO$47,$AI$47:$BL$77,$B11+1,FALSE))","v":""},{"$f":"IF(HLOOKUP(BI$6+$BO$47,$E$47:$AH$77,$B11+1,FALSE)=\"\",\"\",HLOOKUP(BI$6+$BO$47,$E$47:$AH$77,$B11+1,FALSE)*$D11)","v":""},{"$f":"IF(HLOOKUP(BI$6+$BO$47,$AI$47:$BL$77,$B11+1,FALSE)=\"\",\"\",HLOOKUP(BI$6+$BO$47,$AI$47:$BL$77,$B11+1,FALSE))","v":""},{"$f":"IF(HLOOKUP(BK$6+$BO$47,$E$47:$AH$77,$B11+1,FALSE)=\"\",\"\",HLOOKUP(BK$6+$BO$47,$E$47:$AH$77,$B11+1,FALSE)*$D11)","v":""},{"$f":"IF(HLOOKUP(BK$6+$BO$47,$AI$47:$BL$77,$B11+1,FALSE)=\"\",\"\",HLOOKUP(BK$6+$BO$47,$AI$47:$BL$77,$B11+1,FALSE))","v":""},{"$f":"MAX(E11,G11,I11,K11,M11,O11,Q11,S11,U11,W11,Y11,AA11,AC11,AE11,AG11,AI11,AK11,AM11,AO11,AQ11,AS11,AU11,AW11,AY11,BA11,BC11,BE11,BG11,BI11,BK11)","v":0.99881499977381671},{"$f":"MATCH($BM11,E11:BK11,0)+4","v":5},{"$f":"INDIRECT(SUBSTITUTE(ADDRESS(1,$BN11,4),\"1\",\"7\"))","v":7.7425314656645759E-3}]
[null,{"$f":"B11+1","v":2},"ED Platform horizontal sway translation DOF (internal DOF index = DOF_Sw), m",1,2.027248054560163E-3,-85.429868594949085,0.9987913187566827,0,0.13593332403436409,-153.53402567168439,0.33559959288594932,177.6831869855163,0.33994730198786821,-14.7767161454071,8.5445497977668022E-6,26.020323472201841,3.597340035688509E-4,-175.79754225714331,7.0672340853010244E-3,-87.031917712244805,6.6346017862105951E-5,-95.084358242031215,1.265608107771398E-4,162.4829546389258,1.1248334990648961E-4,37.588995794278233,6.701044691220404E-4,-93.289855089735013,7.295205843138499E-5,10.84479684944437,6.7381756447584175E-5,-90.263787226253683,1.9801338482890941E-7,-49.471713352648607,7.5905925957438144E-8,-40.240489718232382,2.0650852592325391E-7,-76.122816345995119,2.147635875291889E-7,-96.785485087326862,1.932826517268831E-5,32.51548857634193,1.272248185062887E-7,79.614485148411859,"","","","","","","","","","","","","","","","","","","","",0.9987913187566827,7,{"$f":"INDIRECT(SUBSTITUTE(ADDRESS(1,$BN12,4),\"1\",\"7\"))","v":7.8260163872585723E-3}]
[null,3,"ED Platform vertical heave translation DOF (internal DOF index = DOF_Hv), m",1,1.623287651037073E-4,0.35002750829937362,7.1489554688465642E-7,85.811073775827566,1.8771084273419851E-3,-102.4328345569098,1.269142941098063E-2,-89.463534871489799,1.306667536045583E-2,-90.243150919190597,0.9528970235874652,180,4.9279032701604093E-5,-85.47939006517457,2.5630722895278852E-5,-128.07992095686711,4.4834712863674379E-5,-1.1215009524280211,3.4397704133583488E-5,91.201098540060428,2.5104039211305551E-5,-91.27344532885347,6.0939582247181396E-6,-149.63445334665221,2.4231197769099111E-6,159.26263321166471,2.5360229804787451E-5,-1.7715152746622611,2.1893892866108709E-7,-118.344658318367,2.4163224527024119E-8,-130.5857005225962,7.5536386109858573E-7,-6.1622698425963698,3.0699686923668229E-7,26.3663454212634,1.6996906357808111E-7,-104.3381715035496,1.313487401050202E-8,-4.5968632447893842,"","","","","","","","","","","","","","","","","","","","",0.9528970235874652,15,{"$f":"INDIRECT(SUBSTITUTE(ADDRESS(1,$BN13,4),\"1\",\"7\"))","v":5.0577269495583763E-2}]
[null,4,"ED Platform roll tilt rotation DOF (internal DOF index = DOF_R), rad",1,5.4778545614967623E-6,-31.697823144240811,5.3799822696815383E-4,-1.311406806805637,9.312669875637055E-3,81.318345977055316,5.7712361885865537E-2,-1.8630049743308801,5.8747964467971397E-2,165.54946704984491,1.8405371204598921E-6,-142.18624031154641,2.1845657957872821E-5,4.1815735807558791,4.2101994729120871E-4,93.056635499645679,3.601568203686637E-6,83.435447936269924,7.5976361703743636E-6,-17.117927655934501,5.9472518908546804E-6,-142.37795606348419,3.4602645135093572E-5,86.534868784535234,3.7737765866589821E-6,-169.04042853373591,3.5663170184585359E-6,89.492412236244789,8.4493393450205447E-9,129.483751658784,3.192148242594993E-9,138.66624054904869,8.6718190078620689E-9,103.6176889236657,8.9395878397186507E-9,82.42769209281424,8.0285883741292024E-7,-147.52288312567501,4.7817814045638069E-9,-100.87297631891499,"","","","","","","","","","","","","","","","","","","","",5.8747964467971397E-2,13,{"$f":"INDIRECT(SUBSTITUTE(ADDRESS(1,$BN14,4),\"1\",\"7\"))","v":3.6192387791171413E-2}]
[null,5,"ED Platform pitch tilt rotation DOF (internal DOF index = DOF_P), rad",1,5.4982099706661104E-4,178.49417206728731,3.8538088497370996E-6,-26.91964251150592,2.4461195277386961E-3,2.058674705208281,6.0813731361502012E-2,-90.97924506807,6.1692238374842667E-2,-92.12696763206408,2.8363181114121399E-4,3.1802870647561439,9.5517439710362604E-5,-82.975961433060064,7.0206697372106092E-5,-156.25642005701999,7.5710046063868599E-5,-8.4093932908965918,1.620612884434992E-5,-123.6108881293966,1.706698136587584E-5,-97.023981922367938,4.3272100550981453E-6,-10.68576196921013,7.846299931304142E-6,-88.628225744207441,1.8917181328071899E-6,-163.05261663524129,4.7067792274283497E-8,51.752111408638243,2.77707731125892E-9,-29.383869506544031,1.4900994846675439E-7,170.9985352000208,5.7451591560740141E-8,-160.42014326539061,2.4431477634312682E-8,80.83381369242251,1.531823017168478E-9,164.32997008291071,"","","","","","","","","","","","","","","","","","","","",6.1692238374842667E-2,13,{"$f":"INDIRECT(SUBSTITUTE(ADDRESS(1,$BN15,4),\"1\",\"7\"))","v":3.6192387791171413E-2}]
[null,6,"ED Platform yaw rotation DOF (internal DOF index = DOF_Y), rad",1,4.8412415598439069E-5,-102.9391595618002,1.6817325006431119E-4,-31.86454327768994,0.30854484376620389,75.22920669350448,4.3624837884324906E-3,-172.51126892508341,6.7091771578298208E-4,-45.391494360005069,7.7072991689234966E-6,-129.61234965017559,6.4141695856388234E-6,-0.56923146826300075,1.736295662650355E-6,62.80964899475611,3.812734491980659E-6,-85.849454254661723,1.3518993263487999E-6,150.71878054596411,7.4048185158636858E-7,-170.96773555984541,1.4100516548767791E-6,90.43745079992749,1.1469385047398719E-6,0.22627692234291999,1.4114401139930271E-7,-36.408111338885469,3.954523430454699E-9,-85.984464692464798,1.091625156273479E-10,57.757824382412089,2.1079671723459749E-9,-101.2844955730165,2.0803571012736219E-9,-162.47494221401831,2.3159916906871001E-8,25.782509300563461,1.1635113673556069E-8,-102.4521491002571,"","","","","","","","","","","","","","","","","","","","",0.30854484376620389,9,{"$f":"INDIRECT(SUBSTITUTE(ADDRESS(1,$BN16,4),\"1\",\"7\"))","v":1.1918418470759451E-2}]
[null,7,"ED 1st tower fore-aft bending mode DOF (internal DOF index = DOF_TFA1), m",6.9206546939340457E-3,5.9865710988268799E-6,173.88361888879061,1.0757385511350489E-7,-66.391727466775677,2.0244019646160254E-4,-0.21876943122653289,2.0072172366014727E-3,-90.01258212508985,2.0226588742207397E-3,-90.685286397735595,1.6842529938827627E-6,155.9812998789327,1.7971912607186953E-4,97.186743843567456,1.3631096399929117E-4,25.906619304817379,1.5182134383697775E-4,171.7005394894955,3.342790804353103E-5,56.655742671272023,5.671267961543835E-5,85.408317437638743,1.2663180427894085E-5,160.27969187768241,1.8311778053127034E-5,92.067110486089177,5.0505750528402415E-6,15.573374821271999,4.3567554965970475E-8,-145.42207746989229,2.7728196544559124E-8,86.627098568450904,9.7307217816819817E-8,-19.203644668549789,3.2968706431394417E-8,-4.9506362125044294,5.7510848114055082E-9,-38.152080390613392,2.1667998406295098E-9,132.80605295904999,"","","","","","","","","","","","","","","","","","","","",2.0226588742207397E-3,13,{"$f":"INDIRECT(SUBSTITUTE(ADDRESS(1,$BN17,4),\"1\",\"7\"))","v":3.6192387791171413E-2}]
[null,8,"ED 1st tower side-to-side bending mode DOF (internal DOF index = DOF_TSS1), m",6.9206546939340457E-3,1.2695247051865897E-7,-53.025029957233848,5.7287180331902084E-6,-4.7804131797258824,4.2172928341485796E-4,80.666369622855655,1.9085748211184134E-3,-0.95949433264921569,1.9240473573521946E-3,166.86474193561151,7.0449914280673371E-8,10.741324778008909,3.995254201195224E-5,-176.2078280125678,8.1655195026538222E-4,-87.008029372557942,6.6296434504374627E-6,-111.0978165649246,2.4760089049359402E-5,166.95074420558711,1.2062011199105768E-5,41.500801759241178,7.5354446771862477E-5,-93.826164415205852,1.001819507644079E-5,13.265545146262509,1.4551569283149546E-5,-90.500941070429519,4.0207924362779917E-8,-70.61976373677102,1.4866342990897241E-9,-46.753373033627462,2.2377395704032007E-8,-93.039193815195233,2.4537506760469094E-8,-153.42852658269641,5.3530630939672302E-7,27.695526868051029,4.1907305675232109E-7,-100.1878978949613,"","","","","","","","","","","","","","","","","","","","",1.9240473573521946E-3,13,{"$f":"INDIRECT(SUBSTITUTE(ADDRESS(1,$BN18,4),\"1\",\"7\"))","v":3.6192387791171413E-2}]
[null,9,"ED 2nd tower fore-aft bending mode DOF (internal DOF index = DOF_TFA2), m",6.9206546939340457E-3,1.5818713367111539E-8,173.40914630561841,1.4319664253664934E-9,63.602559658933806,2.9184005348164647E-6,179.91115518056469,3.8663690576410996E-6,-90.754991447483476,4.2331400403833474E-6,-91.934038293718388,3.7508109450003991E-7,0.75098600017345618,1.1960714500702405E-6,-86.98143407593497,5.773837035118161E-7,-150.98018666507579,3.8076124427126033E-7,-163.77520797566589,2.8290884699073095E-7,70.098774282172599,2.7907825508426697E-8,-83.216659907519045,2.0036919689920169E-7,-173.0585219350869,5.8107356601735324E-7,94.475797960736372,1.8859565736537677E-7,22.74954633400651,4.9003446364095162E-8,-119.7070271647319,3.0957488331147541E-9,175.98466336627951,1.7369367759449427E-7,-5.9522545394263657,7.1142744187702542E-8,25.712164593934411,3.511817594469716E-8,-106.1680370406954,3.2855803925965729E-9,-16.624375658562069,"","","","","","","","","","","","","","","","","","","","",4.2331400403833474E-6,13,{"$f":"INDIRECT(SUBSTITUTE(ADDRESS(1,$BN19,4),\"1\",\"7\"))","v":3.6192387791171413E-2}]
[null,10,"ED 2nd tower side-to-side bending mode DOF (internal DOF index = DOF_TSS2), m",6.9206546939340457E-3,2.9882167753696358E-10,43.417237832817953,1.5487106817582885E-8,-4.7104697331675958,7.7870202598922309E-7,79.778395528906998,3.5042877088118022E-6,-1.6546753306635691,3.9700174425407226E-6,166.89418852172901,1.1770036834225806E-9,-77.368273686893971,2.411693070721309E-7,2.4504146693126012,3.733773186287525E-6,92.829628051332165,5.8942071532923225E-8,-61.747533212191733,1.6835191312683109E-7,-6.3218290413824993,2.4915008744065219E-7,39.397754740549281,2.3066693716650312E-6,-88.607688091761204,2.4510850539930719E-7,13.214653696483181,1.8661007957082278E-7,-83.426591845523973,7.9445838256864733E-9,-40.57352986815188,3.669043966523417E-9,-32.862631392728119,1.0071173702240007E-8,-67.016601358354876,1.0680746446667295E-8,-86.263675589309713,1.0026073031531318E-6,32.9944871456158,2.474056243953648E-8,80.208725630850893,"","","","","","","","","","","","","","","","","","","","",3.9700174425407226E-6,13,{"$f":"INDIRECT(SUBSTITUTE(ADDRESS(1,$BN20,4),\"1\",\"7\"))","v":3.6192387791171413E-2}]
[null,11,"ED Nacelle yaw DOF (internal DOF index = DOF_Yaw), rad",1,1.657648053161202E-7,-86.797190188702913,5.0146585070000103E-7,-4.8486211545063629,4.5656149156317693E-5,85.567607417901399,2.5164381122363678E-4,-0.60171221838558653,8.6071712944609568E-5,154.22874225996381,4.8487273982710566E-7,93.469036790980084,4.0779575557174102E-5,-178.8299968968083,4.6995482766027688E-5,-94.081565348068494,3.2845759016708807E-5,95.850664467998627,1.322618710210144E-5,-27.186294151683189,1.083427466026456E-5,13.77238415076288,3.2297043388806327E-5,-88.008685091945651,2.0985987243461009E-5,-178.22897769324001,2.8723179126605432E-6,163.86947930781989,7.7001614820961563E-7,105.5246233856107,2.80692864170127E-8,-88.790596728458695,4.7511400394831917E-7,83.496122938224616,5.2252501749469465E-7,24.645939337504728,3.4889355929453969E-6,-158.45732742805691,1.0123680969136621E-5,79.76787250332049,"","","","","","","","","","","","","","","","","","","","",2.5164381122363678E-4,11,{"$f":"INDIRECT(SUBSTITUTE(ADDRESS(1,$BN21,4),\"1\",\"7\"))","v":3.60897727930009E-2}]
[null,12,"ED 1st flapwise bending-mode DOF of blade 1 (internal DOF index = DOF_BF(1,1)), m",8.5470085470085479E-3,8.5297595042640622E-6,173.81468302535251,4.8892175941033319E-7,76.538970129079942,1.6811120512315387E-4,5.0538343578027822,2.5961449607726042E-3,-88.863804300753202,3.218336256260427E-3,-93.128275306479054,4.6784997432764378E-5,1.553246201828923,3.537832712209599E-4,99.136599556641187,6.6651102481822869E-4,-31.51199976820299,6.2356112474632797E-4,171.6898593274025,2.4085026330614634E-4,71.874806140473851,2.1404307479733898E-3,-91.606421217907339,2.7681767486496703E-4,34.577223757895503,5.7725513888102272E-5,-101.7239964703587,1.8689083648729413E-5,117.0532750596003,2.4499053936863093E-6,35.565575189623722,3.762868332396905E-4,-97.418725367937725,8.4392008372288564E-6,76.120746324689094,4.1194877817693115E-6,74.703002510476651,4.3446586381077155E-5,-88.19683955366547,8.4515259735517411E-7,-82.074659926781166,"","","","","","","","","","","","","","","","","","","","",3.218336256260427E-3,13,{"$f":"INDIRECT(SUBSTITUTE(ADDRESS(1,$BN22,4),\"1\",\"7\"))","v":3.6192387791171413E-2}]
[null,13,"ED 1st flapwise bending-mode DOF of blade 2 (internal DOF index = DOF_BF(2,1)), m",8.5470085470085479E-3,1.2595452485634685E-6,168.22937698154649,3.4879672951640567E-6,-102.23872464228189,7.5853756251151455E-3,0,1.0771993109017096E-3,-87.221813220842066,3.3162234761463147E-4,-113.801630397333,8.8195527809804623E-6,-176.00462037160511,2.2689280344451437E-3,88.860390197868114,9.3479836383737443E-4,10.44658463391184,1.5295788692954377E-3,2.776306201913424E-3,2.9160914321197024E-4,-76.317724518865759,3.0129776401356782E-5,69.888005597579649,3.4182465312041421E-4,4.1630211492637379,1.3342098770121489E-3,-91.308788931678521,1.4707566779577155E-4,49.642261825978451,2.7829022345462909E-4,1.834026330216987,2.0824120485575224E-6,-28.346213498252851,2.9911845596640679E-4,85.372783253592473,3.0475982734924363E-4,83.929004431413844,1.5612718101349173E-4,-95.455863023871089,6.5253885276197416E-6,29.845615387823159,"","","","","","","","","","","","","","","","","","","","",7.5853756251151455E-3,9,{"$f":"INDIRECT(SUBSTITUTE(ADDRESS(1,$BN23,4),\"1\",\"7\"))","v":1.1918418470759451E-2}]
[null,14,"ED 1st flapwise bending-mode DOF of blade 3 (internal DOF index = DOF_BF(3,1)), m",8.5470085470085479E-3,9.0570293957229399E-6,-88.845648248140421,5.4457300004522482E-7,-12.71331117615483,5.044401061004394E-4,90.088723090356225,5.1177347622837757E-3,0,4.7691409869715061E-3,0,3.0128905786771936E-5,70.562881870380309,2.093994039014137E-3,178.03439811197259,5.34100361244972E-4,110.2719342945626,1.897327299557583E-3,88.62192805196004,3.7888945866319389E-4,2.4227567113256141,3.734362475781001E-4,0.38788411083089919,2.2049536117406849E-4,-100.4163839917928,1.2772453867179471E-3,178.28565713166219,1.361766459442967E-4,-43.858762785298808,2.9153429150186695E-4,83.189381752752453,8.356590477978937E-6,-81.88809273753489,2.1691406508414729E-4,66.853492694573617,1.8143720042500293E-4,9.7080715809839742,3.1012544260422412E-4,87.122719328909952,2.0264215351394993E-4,-91.872552095603496,"","","","","","","","","","","","","","","","","","","","",5.1177347622837757E-3,11,{"$f":"INDIRECT(SUBSTITUTE(ADDRESS(1,$BN24,4),\"1\",\"7\"))","v":3.60897727930009E-2}]
[null,15,"ED 1st edgewise bending-mode DOF of blade 1 (internal DOF index = DOF_BE(1,1)), m",8.5470085470085479E-3,5.4379660542516126E-7,172.82883504213089,1.609494019528642E-7,165.58890896083361,4.6982136688442464E-5,-100.0060092627847,3.4554770662435205E-4,-150.67261316936001,3.9709973128385496E-4,-41.918438634248872,2.9892237635698876E-6,3.0343875029911742,7.2398715959618733E-5,21.188298864548411,1.9577258056667191E-3,89.56900222467138,3.5590843386219793E-5,150.66939211037021,1.4389076717421609E-4,-3.4505663246720601,1.8803022657011521E-4,-17.570882996495239,1.8315351320224865E-3,-91.550001518006326,1.4689314695961523E-4,9.8478480414746574,1.1829969288568625E-4,-90.044627098418843,2.0754688829737634E-7,-170.63890514099279,1.8844343566122156E-7,-161.566974992626,3.4682298088398808E-7,124.1616696109454,4.9146044183900323E-7,114.26581261341281,4.6425142807112541E-5,-145.83618728788869,4.5256176063119919E-6,-99.689659865596482,"","","","","","","","","","","","","","","","","","","","",1.9577258056667191E-3,19,{"$f":"INDIRECT(SUBSTITUTE(ADDRESS(1,$BN25,4),\"1\",\"7\"))","v":0.4261490362502578}]
[null,16,"ED 1st edgewise bending-mode DOF of blade 2 (internal DOF index = DOF_BE(2,1)), m",8.5470085470085479E-3,1.3102513124764609E-7,159.0126573808746,4.2629753808973329E-6,177.9347240176979,5.2479807315633617E-4,-38.711783601954259,1.4045170738302428E-3,-178.6111921539152,1.459507708747737E-3,-13.80644419851548,4.2974457597989344E-6,77.576819304480878,1.131241271681659E-4,92.20586882504216,1.42013684430709E-3,85.255572017664363,5.6273273445511037E-4,88.766156248246233,1.6683965757615241E-3,177.45374640336749,1.6153227870361402E-4,-172.21371164114379,8.5027590546449331E-5,79.026895222248768,6.7777535247552943E-5,-34.004690914757077,1.190929699864183E-3,-91.41962238822957,1.0820545743684327E-7,-104.6408119724296,3.0778615698386414E-8,-137.55285385106819,1.0456764160382592E-6,17.32875820010371,6.2312946208821113E-7,44.047573199457958,3.2013277408116719E-6,-144.6107467272758,2.0029535934357517E-6,79.482895674717128,"","","","","","","","","","","","","","","","","","","","",1.6683965757615241E-3,23,{"$f":"INDIRECT(SUBSTITUTE(ADDRESS(1,$BN26,4),\"1\",\"7\"))","v":0.53095178719055802}]
[null,17,"ED 1st edgewise bending-mode DOF of blade 3 (internal DOF index = DOF_BE(3,1)), m",8.5470085470085479E-3,7.3142383243925853E-7,-136.5633871955589,9.6714505323351543E-9,164.7926393732279,3.1421456078621798E-5,119.47324858977061,3.9121553795736435E-4,-40.176827470986083,3.8139221538401334E-4,-34.748231530740291,1.2332094607412711E-4,179.46964660814851,1.1523909659852104E-4,161.983421841893,6.4353789685441909E-4,167.1518655308189,6.5712648097237788E-4,176.4435192603888,1.704791069561765E-3,-92.043026803764135,4.1793091230713364E-5,-53.749642425001618,3.5888642278061758E-4,1.099987974734582,6.5828045740404364E-5,-115.3169110266192,1.1428710200376061E-3,178.57602478763181,4.9386326858980937E-7,-108.5910384248163,4.4830425762048257E-8,-141.7267985786832,1.815602984337177E-6,-5.4927345573934412,6.9910538370703825E-7,23.97406164780438,1.0333430474949941E-6,33.726278818199063,1.9637016113588086E-6,-96.888771207972056,"","","","","","","","","","","","","","","","","","","","",1.704791069561765E-3,23,{"$f":"INDIRECT(SUBSTITUTE(ADDRESS(1,$BN27,4),\"1\",\"7\"))","v":0.53095178719055802}]
[null,18,"ED 2nd flapwise bending-mode DOF of blade 1 (internal DOF index = DOF_BF(1,2)), m",8.5470085470085479E-3,2.9971146437674626E-6,-6.2002098991448751,1.9009656065367301E-7,-100.50977985347819,5.365642238823309E-5,-176.1410772418626,9.0090500611384448E-4,90.387837493477861,1.139470740650529E-3,87.34849431690499,1.6388882296461446E-5,-178.45810171085111,7.6307509374238359E-5,-81.62163776347181,1.2161533070624736E-4,155.96574769115739,9.9011313076253173E-5,-9.3014188904112238,2.2870583344793883E-5,-109.2996496249642,4.6870236230742599E-5,-76.193781483872826,1.0432730903162821E-4,-74.028217767195855,2.5831621582268645E-5,-71.271245393729714,1.5290324834846061E-5,-135.3369396610068,2.5655050063191235E-6,-143.1335252435056,3.9905906873460362E-4,82.571967745609442,8.9126901399153514E-6,-102.74799102199761,4.3394072773945068E-6,-104.2017229033482,4.9897486532394546E-5,85.31431628516674,1.531532477903096E-6,90.081466768650444,"","","","","","","","","","","","","","","","","","","","",1.139470740650529E-3,13,{"$f":"INDIRECT(SUBSTITUTE(ADDRESS(1,$BN28,4),\"1\",\"7\"))","v":3.6192387791171413E-2}]
[null,19,"ED 2nd flapwise bending-mode DOF of blade 2 (internal DOF index = DOF_BF(2,2)), m",8.5470085470085479E-3,3.8999944274793148E-7,-13.599224791871571,1.2790197047846395E-6,54.565948196261658,2.4013285561004091E-3,179.05019048988609,3.4305164990795713E-4,63.053859447554267,1.6101748741012036E-4,140.83127472418809,3.7030287335595609E-6,0.7304207258513975,1.9571693539299659E-4,-88.303145543145405,9.9923299282705821E-5,-137.8776936706474,1.2925670556553635E-4,0.75904170287353845,1.1533591174085838E-4,-158.94514784245879,1.0731528391235445E-4,-98.579679843981353,4.8509624882140152E-5,-43.370115710050101,1.9176327469572781E-5,-64.892330840862329,6.9605682099869407E-5,-89.490689025928972,2.9653196286672195E-4,-177.72462114960169,2.3228371698738276E-6,156.34038878406949,3.1754570086967861E-4,-92.923613660660337,3.2121335902528779E-4,-95.494299044241743,1.640031884128547E-4,84.554072497777142,6.9868492438887736E-6,-147.06017318655771,"","","","","","","","","","","","","","","","","","","","",2.4013285561004091E-3,9,{"$f":"INDIRECT(SUBSTITUTE(ADDRESS(1,$BN29,4),\"1\",\"7\"))","v":1.1918418470759451E-2}]
[null,20,"ED 2nd flapwise bending-mode DOF of blade 3 (internal DOF index = DOF_BF(3,2)), m",8.5470085470085479E-3,2.8686562998716961E-6,89.857426709052078,1.8823059905525703E-7,169.71325861893649,1.4737506829451199E-4,-92.925753291519001,1.6220852933445248E-3,179.12870510118151,1.5013935941783241E-3,178.9117853030771,1.4654465656592274E-5,-37.483521065242442,1.473604275852802E-4,-1.451832113798333,3.533569633382983E-5,100.6810485944406,4.1835026213057294E-5,100.7198505230926,9.5147559184777437E-5,-76.527706402491162,3.9832486158017801E-5,-24.50886322620881,7.6644175380253567E-5,66.220360844561924,5.4652513305034346E-5,-10.34201953530625,5.1207372543425633E-5,-173.36281782466909,3.1058807546208237E-4,-96.703856941184839,8.910100430973343E-6,97.924149152209367,2.3115430164956182E-4,-113.1352063595799,1.9354483596719488E-4,-170.1874650178728,3.2296138270581455E-4,-91.006876688188271,1.9657193341757507E-4,88.88400550035621,"","","","","","","","","","","","","","","","","","","","",1.6220852933445248E-3,11,{"$f":"INDIRECT(SUBSTITUTE(ADDRESS(1,$BN30,4),\"1\",\"7\"))","v":3.60897727930009E-2}]
[null,21,null,{"$f":"1","v":1},"","","","","","","","","","","","","","","","","","","","","","","","","","","","","","","","","","","","","","","","","","","","","","","","","","","","","","","","","","","","",0,{"$error":"#N/A"},{"$f":"INDIRECT(SUBSTITUTE(ADDRESS(1,$BN31,4),\"1\",\"7\"))","v":{"$error":"#N/A"}}]
[null,22,null,{"$f":"1","v":1},"","","","","","","","","","","","","","","","","","","","","","","","","","","","","","","","","","","","","","","","","","","","","","","","","","","","","","","","","","","","",0,{"$error":"#N/A"},{"$f":"INDIRECT(SUBSTITUTE(ADDRESS(1,$BN32,4),\"1\",\"7\"))","v":{"$error":"#N/A"}}]
[null,23,null,{"$f":"1","v":1},"","","","","","","","","","","","","","","","","","","","","","","","","","","","","","","","","","","","","","","","","","","","","","","","","","","","","","","","","","","","",0,{"$error":"#N/A"},{"$f":"INDIRECT(SUBSTITUTE(ADDRESS(1,$BN33,4),\"1\",\"7\"))","v":{"$error":"#N/A"}}]
[null,24,null,{"$f":"1","v":1},"","","","","","","","","","","","","","","","","","","","","","","","","","","","","","","","","","","","","","","","","","","","","","","","","","","","","","","","","","","","",0,{"$error":"#N/A"},{"$f":"INDIRECT(SUBSTITUTE(ADDRESS(1,$BN34,4),\"1\",\"7\"))","v":{"$error":"#N/A"}}]
[null,25,null,{"$f":"1","v":1},"","","","","","","","","","","","","","","","","","","","","","","","","","","","","","","","","","","","","","","","","","","","","","","","","","","","","","","","","","","","",0,{"$error":"#N/A"},{"$f":"INDIRECT(SUBSTITUTE(ADDRESS(1,$BN35,4),\"1\",\"7\"))","v":{"$error":"#N/A"}}]
[null,26,null,{"$f":"1","v":1},"","","","","","","","","","","","","","","","","","","","","","","","","","","","","","","","","","","","","","","","","","","","","","","","","","","","","","","","","","","","",0,{"$error":"#N/A"},{"$f":"INDIRECT(SUBSTITUTE(ADDRESS(1,$BN36,4),\"1\",\"7\"))","v":{"$error":"#N/A"}}]
[null,27,null,{"$f":"1","v":1},"","","","","","","","","","","","","","","","","","","","","","","","","","","","","","","","","","","","","","","","","","","","","","","","","","","","","","","","","","","","",0,{"$error":"#N/A"},{"$f":"INDIRECT(SUBSTITUTE(ADDRESS(1,$BN37,4),\"1\",\"7\"))","v":{"$error":"#N/A"}}]
[null,28,null,{"$f":"1","v":1},"","","","","","","","","","","","","","","","","","","","","","","","","","","","","","","","","","","","","","","","","","","","","","","","","","","","","","","","","","","","",0,{"$error":"#N/A"},{"$f":"INDIRECT(SUBSTITUTE(ADDRESS(1,$BN38,4),\"1\",\"7\"))","v":{"$error":"#N/A"}}]
[null,29,null,{"$f":"1","v":1},"","","","","","","","","","","","","","","","","","","","","","","","","","","","","","","","","","","","","","","","","","","","","","","","","","","","","","","","","","","","",0,{"$error":"#N/A"},{"$f":"INDIRECT(SUBSTITUTE(ADDRESS(1,$BN39,4),\"1\",\"7\"))","v":{"$error":"#N/A"}}]
[null,30,null,{"$f":"1","v":1},"","","","","","","","","","","","","","","","","","","","","","","","","","","","","","","","","","","","","","","","","","","","","","","","","","","","","","","","","","","","",0,{"$error":"#N/A"},{"$f":"INDIRECT(SUBSTITUTE(ADDRESS(1,$BN40,4),\"1\",\"7\"))","v":{"$error":"#N/A"}}]
[null,null,null,null,{"$f":"MAX(E11:E40)","v":0.99881499977381671},null,{"$f":"MAX(G11:G40)","v":0.9987913187566827},null,{"$f":"MAX(I11:I40)","v":0.30854484376620389},null,{"$f":"MAX(K11:K40)","v":0.35345870026133908},null,{"$f":"MAX(M11:M40)","v":0.35803132707774032},null,{"$f":"MAX(O11:O40)","v":0.9528970235874652},null,{"$f":"MAX(Q11:Q40)","v":2.2689280344451437E-3},null,{"$f":"MAX(S11:S40)","v":7.0672340853010244E-3},null,{"$f":"MAX(U11:U40)","v":1.897327299557583E-3},null,{"$f":"MAX(W11:W40)","v":1.704791069561765E-3},null,{"$f":"MAX(Y11:Y40)","v":2.1404307479733898E-3},null,{"$f":"MAX(AA11:AA40)","v":1.8315351320224865E-3},null,{"$f":"MAX(AC11:AC40)","v":1.3342098770121489E-3},null,{"$f":"MAX(AE11:AE40)","v":1.190929699864183E-3},null,{"$f":"MAX(AG11:AG40)","v":3.1058807546208237E-4},null,{"$f":"MAX(AI11:AI40)","v":3.9905906873460362E-4},null,{"$f":"MAX(AK11:AK40)","v":3.1754570086967861E-4},null,{"$f":"MAX(AM11:AM40)","v":3.2121335902528779E-4},null,{"$f":"MAX(AO11:AO40)","v":3.2296138270581455E-4},null,{"$f":"MAX(AQ11:AQ40)","v":2.0264215351394993E-4},null,{"$f":"MAX(AS11:AS40)","v":0},null,{"$f":"MAX(AU11:AU40)","v":0},null,{"$f":"MAX(AW11:AW40)","v":0},null,{"$f":"MAX(AY11:AY40)","v":0},null,{"$f":"MAX(BA11:BA40)","v":0},null,{"$f":"MAX(BC11:BC40)","v":0},null,{"$f":"MAX(BE11:BE40)","v":0},null,{"$f":"MAX(BG11:BG40)","v":0},null,{"$f":"MAX(BI11:BI40)","v":0},null,{"$f":"MAX(BK11:BK40)","v":0}]
[null,null,"Green Background = Maximum value of the mode shape magnitude within a row"]
[null,null,"Red Bold Text = Maximum value of the mode shape magnitude within a column"]
[]
[]
[]
[null,null,null,null,{"$f":"D48","v":56},{"$f":"D49","v":55},{"$f":"D50","v":54},{"$f":"D51","v":53},{"$f":"D52","v":52},{"$f":"D53","v":51},{"$f":"D54","v":50},{"$f":"D55","v":49},{"$f":"D56","v":48},{"$f":"D57","v":47},{"$f":"D58","v":46},{"$f":"D59","v":45},{"$f":"D60","v":43},{"$f":"D61","v":44},{"$f":"D62","v":42},{"$f":"D63","v":41},{"$f":"D64","v":40},{"$f":"D65","v":39},{"$f":"D66","v":37},{"$f":"D67","v":38},{"$f":"D68","v":57},{"$f":"D69","v":58},{"$f":"D70","v":59},{"$f":"D71","v":60},{"$f":"D72","v":61},{"$f":"D73","v":62},{"$f":"D74","v":63},{"$f":"D75","v":64},{"$f":"D76","v":65},{"$f":"D77","v":66},{"$f":"E47","v":56},55,54,53,52,51,50,49,48,47,46,45,43,44,42,41,40,39,37,38,57,58,59,60,61,62,63,64,65,66,null,null,{"$f":"CT77+1","v":36},{"$f":"BO47+1","v":37},38,39,40,41,42,43,44,45,46,47,48,49,50,51,52,53,54,55,56,57,58,59,60,61,62,63,64,65,66]
[null,null,null,{"$f":"CS48","v":56},3.9886035422217991E-8,5.8502965186710148E-7,1.3726951171355229E-6,3.5352903628944941E-6,6.5633781251683033E-8,1.101111932805771E-6,3.673695190587242E-5,1.5265885025729501E-4,8.1438036064173405E-5,3.0038778773783698E-4,2.9442012858747659E-4,1.338580687177955E-3,1.5717316786877139E-3,1.1822689665703121E-3,1.810275865019185E-3,0.35803132707774032,0.35345870026133908,3.8558797886929182E-2,0.99881499977381671,1.538845311128403E-3,null,null,null,null,null,null,null,null,null,null,164.54164412875971,80.880794149119779,-159.67416595105749,171.34687125328429,-27.478786145545989,52.681555898130192,-162.42667783227961,-88.568290144445257,-9.6107947938341649,-97.038413960516877,-123.3089275322592,-8.1248363989135655,-82.71077788018701,-156.38990420493249,2.996982244286944,-91.827539056859862,-90.86504320786662,-37.206344409033072,0,42.776890143144229,null,null,null,null,null,null,null,null,null,null,3.267638167539267E-2,4.8093761127115258,4.8119457665573746,{"$f":"IF(MIN(BO$48:BO$77)=$BP$47,BO48,IF(BO48=MIN(BO$48:BO$77),BP$47,IF(BO48=\"\",$CT48,BO48)))","v":4.8119457665573746},4.8119457665573746,4.8119457665573746,4.8119457665573746,4.8119457665573746,4.8119457665573746,4.8119457665573746,4.8119457665573746,4.8119457665573746,4.8119457665573746,4.8119457665573746,4.8119457665573746,4.8119457665573746,4.8119457665573746,4.8119457665573746,4.8119457665573746,4.8119457665573746,4.8119457665573746,4.8119457665573746,56,56,56,56,56,56,56,56,56,56,56,{"$f":"CEILING(MAX(BO48:BO77),1)+1","v":6}]
[null,null,null,55,1.272248185062887E-7,1.932826517268831E-5,2.147635875291889E-7,2.0650852592325391E-7,7.5905925957438144E-8,1.9801338482890941E-7,6.7381756447584175E-5,7.295205843138499E-5,6.701044691220404E-4,1.1248334990648961E-4,1.265608107771398E-4,6.6346017862105951E-5,3.597340035688509E-4,7.0672340853010244E-3,8.5445497977668022E-6,0.33994730198786821,0.33559959288594932,0.13593332403436409,2.027248054560163E-3,0.9987913187566827,null,null,null,null,null,null,null,null,null,null,79.614485148411859,32.51548857634193,-96.785485087326862,-76.122816345995119,-40.240489718232382,-49.471713352648607,-90.263787226253683,10.84479684944437,-93.289855089735013,37.588995794278233,162.4829546389258,-95.084358242031215,-175.79754225714331,-87.031917712244805,26.020323472201841,-14.7767161454071,177.6831869855163,-153.53402567168439,-85.429868594949085,0,null,null,null,null,null,null,null,null,null,null,1.757240888205553E-2,2.6713781161690542,2.6717906585415139,{"$f":"IF(MIN(BO$48:BO$77)=$BP$47,BO49,IF(BO49=MIN(BO$48:BO$77),BP$47,IF(BO49=\"\",$CT49,BO49)))","v":2.6717906585415139},2.6717906585415139,2.6717906585415139,2.6717906585415139,2.6717906585415139,2.6717906585415139,2.6717906585415139,2.6717906585415139,2.6717906585415139,2.6717906585415139,2.6717906585415139,2.6717906585415139,2.6717906585415139,2.6717906585415139,2.6717906585415139,2.6717906585415139,2.6717906585415139,2.6717906585415139,55,55,55,55,55,55,55,55,55,55,55,55,{"$f":"CT48+1","v":7}]
[null,null,null,54,1.313487401050202E-8,1.6996906357808111E-7,3.0699686923668229E-7,7.5536386109858573E-7,2.4163224527024119E-8,2.1893892866108709E-7,2.5360229804787451E-5,2.4231197769099111E-6,6.0939582247181396E-6,2.5104039211305551E-5,3.4397704133583488E-5,4.4834712863674379E-5,4.9279032701604093E-5,2.5630722895278852E-5,0.9528970235874652,1.306667536045583E-2,1.269142941098063E-2,1.8771084273419851E-3,1.623287651037073E-4,7.1489554688465642E-7,null,null,null,null,null,null,null,null,null,null,-4.5968632447893842,-104.3381715035496,26.3663454212634,-6.1622698425963698,-130.5857005225962,-118.344658318367,-1.7715152746622611,159.26263321166471,-149.63445334665221,-91.27344532885347,91.201098540060428,-1.1215009524280211,-85.47939006517457,-128.07992095686711,180,-90.243150919190597,-89.463534871489799,-102.4328345569098,0.35002750829937362,85.811073775827566,null,null,null,null,null,null,null,null,null,null,9.5746709677771491E-2,2.6182710831029179,2.6303556467847931,{"$f":"IF(MIN(BO$48:BO$77)=$BP$47,BO50,IF(BO50=MIN(BO$48:BO$77),BP$47,IF(BO50=\"\",$CT50,BO50)))","v":2.6303556467847931},2.6303556467847931,2.6303556467847931,2.6303556467847931,2.6303556467847931,2.6303556467847931,2.6303556467847931,2.6303556467847931,2.6303556467847931,2.6303556467847931,2.6303556467847931,2.6303556467847931,2.6303556467847931,2.6303556467847931,2.6303556467847931,2.6303556467847931,2.6303556467847931,54,54,54,54,54,54,54,54,54,54,54,54,54,8]
[null,null,null,53,4.7817814045638069E-9,8.0285883741292024E-7,8.9395878397186507E-9,8.6718190078620689E-9,3.192148242594993E-9,8.4493393450205447E-9,3.5663170184585359E-6,3.7737765866589821E-6,3.4602645135093572E-5,5.9472518908546804E-6,7.5976361703743636E-6,3.601568203686637E-6,2.1845657957872821E-5,4.2101994729120871E-4,1.8405371204598921E-6,5.8747964467971397E-2,5.7712361885865537E-2,9.312669875637055E-3,5.4778545614967623E-6,5.3799822696815383E-4,null,null,null,null,null,null,null,null,null,null,-100.87297631891499,-147.52288312567501,82.42769209281424,103.6176889236657,138.66624054904869,129.483751658784,89.492412236244789,-169.04042853373591,86.534868784535234,-142.37795606348419,-17.117927655934501,83.435447936269924,4.1815735807558791,93.056635499645679,-142.18624031154641,165.54946704984491,-1.8630049743308801,81.318345977055316,-31.697823144240811,-1.311406806805637,null,null,null,null,null,null,null,null,null,null,5.1004544096101917E-2,2.5135966288132181,2.516872536781936,{"$f":"IF(MIN(BO$48:BO$77)=$BP$47,BO51,IF(BO51=MIN(BO$48:BO$77),BP$47,IF(BO51=\"\",$CT51,BO51)))","v":2.516872536781936},2.516872536781936,2.516872536781936,2.516872536781936,2.516872536781936,2.516872536781936,2.516872536781936,2.516872536781936,2.516872536781936,2.516872536781936,2.516872536781936,2.516872536781936,2.516872536781936,2.516872536781936,2.516872536781936,2.516872536781936,53,53,53,53,53,53,53,53,53,53,53,53,53,53,9]
[null,null,null,52,1.531823017168478E-9,2.4431477634312682E-8,5.7451591560740141E-8,1.4900994846675439E-7,2.77707731125892E-9,4.7067792274283497E-8,1.8917181328071899E-6,7.846299931304142E-6,4.3272100550981453E-6,1.706698136587584E-5,1.620612884434992E-5,7.5710046063868599E-5,9.5517439710362604E-5,7.0206697372106092E-5,2.8363181114121399E-4,6.1692238374842667E-2,6.0813731361502012E-2,2.4461195277386961E-3,5.4982099706661104E-4,3.8538088497370996E-6,null,null,null,null,null,null,null,null,null,null,164.32997008291071,80.83381369242251,-160.42014326539061,170.9985352000208,-29.383869506544031,51.752111408638243,-163.05261663524129,-88.628225744207441,-10.68576196921013,-97.023981922367938,-123.6108881293966,-8.4093932908965918,-82.975961433060064,-156.25642005701999,3.1802870647561439,-92.12696763206408,-90.97924506807,2.058674705208281,178.49417206728731,-26.91964251150592,null,null,null,null,null,null,null,null,null,null,0.12928076135256061,2.453551979987429,2.4743163692481551,{"$f":"IF(MIN(BO$48:BO$77)=$BP$47,BO52,IF(BO52=MIN(BO$48:BO$77),BP$47,IF(BO52=\"\",$CT52,BO52)))","v":2.4743163692481551},2.4743163692481551,2.4743163692481551,2.4743163692481551,2.4743163692481551,2.4743163692481551,2.4743163692481551,2.4743163692481551,2.4743163692481551,2.4743163692481551,2.4743163692481551,2.4743163692481551,2.4743163692481551,2.4743163692481551,2.4743163692481551,52,52,52,52,52,52,52,52,52,52,52,52,52,52,52,10]
[null,null,null,51,1.1635113673556069E-8,2.3159916906871001E-8,2.0803571012736219E-9,2.1079671723459749E-9,1.091625156273479E-10,3.954523430454699E-9,1.4114401139930271E-7,1.1469385047398719E-6,1.4100516548767791E-6,7.4048185158636858E-7,1.3518993263487999E-6,3.812734491980659E-6,6.4141695856388234E-6,1.736295662650355E-6,7.7072991689234966E-6,6.7091771578298208E-4,4.3624837884324906E-3,0.30854484376620389,4.8412415598439069E-5,1.6817325006431119E-4,null,null,null,null,null,null,null,null,null,null,-102.4521491002571,25.782509300563461,-162.47494221401831,-101.2844955730165,57.757824382412089,-85.984464692464798,-36.408111338885469,0.22627692234291999,90.43745079992749,-170.96773555984541,150.71878054596411,-85.849454254661723,-0.56923146826300075,62.80964899475611,-129.61234965017559,-45.391494360005069,-172.51126892508341,75.22920669350448,-102.9391595618002,-31.86454327768994,null,null,null,null,null,null,null,null,null,null,0.1167375934309082,2.2885079997849429,2.3042627199623911,{"$f":"IF(MIN(BO$48:BO$77)=$BP$47,BO53,IF(BO53=MIN(BO$48:BO$77),BP$47,IF(BO53=\"\",$CT53,BO53)))","v":2.3042627199623911},2.3042627199623911,2.3042627199623911,2.3042627199623911,2.3042627199623911,2.3042627199623911,2.3042627199623911,2.3042627199623911,2.3042627199623911,2.3042627199623911,2.3042627199623911,2.3042627199623911,2.3042627199623911,2.3042627199623911,51,51,51,51,51,51,51,51,51,51,51,51,51,51,51,51,11]
[null,null,null,50,3.1309174297176101E-7,8.310029998240389E-7,4.7638132358043364E-6,1.406040643844138E-5,4.006585759706071E-6,6.2952938548079039E-6,7.2978284226015073E-4,2.6459603697865908E-3,1.8297662559285559E-3,8.1946986410327653E-3,4.8301655727500167E-3,2.1937425077724101E-2,2.5968515121754791E-2,1.969625274307758E-2,2.433661363510898E-4,0.29226409403052578,0.29003285460272982,2.9251596187719262E-2,8.6502959092499005E-4,1.5543884194625889E-5,null,null,null,null,null,null,null,null,null,null,132.80605295904999,-38.152080390613392,-4.9506362125044294,-19.203644668549789,86.627098568450904,-145.42207746989229,15.573374821271999,92.067110486089177,160.27969187768241,85.408317437638743,56.655742671272023,171.7005394894955,97.186743843567456,25.906619304817379,155.9812998789327,-90.685286397735595,-90.01258212508985,-0.21876943122653289,173.88361888879061,-66.391727466775677,null,null,null,null,null,null,null,null,null,null,2.4774549762482969E-2,0.79888039617147644,0.79912567682030833,{"$f":"IF(MIN(BO$48:BO$77)=$BP$47,BO54,IF(BO54=MIN(BO$48:BO$77),BP$47,IF(BO54=\"\",$CT54,BO54)))","v":0.79912567682030833},0.79912567682030833,0.79912567682030833,0.79912567682030833,0.79912567682030833,0.79912567682030833,0.79912567682030833,0.79912567682030833,0.79912567682030833,0.79912567682030833,0.79912567682030833,0.79912567682030833,0.79912567682030833,50,50,50,50,50,50,50,50,50,50,50,50,50,50,50,50,50,12]
[null,null,null,49,6.0553961335426643E-5,7.7349085176279503E-5,3.5455470393539821E-6,3.2334217922541049E-6,2.1481122304696969E-7,5.8098440307998842E-6,2.1026290035686939E-3,1.4475790975703119E-3,1.088834078630027E-2,1.742900308214788E-3,3.5777090671871869E-3,9.5795033037096122E-4,5.7729425580170394E-3,0.11798767405359641,1.0179660363985899E-5,0.27801522290060537,0.27577951877750517,6.0937772807029902E-2,1.8343997227593631E-5,8.2777111220581922E-4,null,null,null,null,null,null,null,null,null,null,-100.1878978949613,27.695526868051029,-153.42852658269641,-93.039193815195233,-46.753373033627462,-70.61976373677102,-90.500941070429519,13.265545146262509,-93.826164415205852,41.500801759241178,166.95074420558711,-111.0978165649246,-176.2078280125678,-87.008029372557942,10.741324778008909,166.86474193561151,-0.95949433264921569,80.666369622855655,-53.025029957233848,-4.7804131797258824,null,null,null,null,null,null,null,null,null,null,2.2840689618135471E-2,0.7146711596575982,0.7148576535672917,{"$f":"IF(MIN(BO$48:BO$77)=$BP$47,BO55,IF(BO55=MIN(BO$48:BO$77),BP$47,IF(BO55=\"\",$CT55,BO55)))","v":0.7148576535672917},0.7148576535672917,0.7148576535672917,0.7148576535672917,0.7148576535672917,0.7148576535672917,0.7148576535672917,0.7148576535672917,0.7148576535672917,0.7148576535672917,0.7148576535672917,0.7148576535672917,49,49,49,49,49,49,49,49,49,49,49,49,49,49,49,49,49,49,13]
[null,null,null,48,4.7474993882824181E-7,5.0744008331290167E-6,1.027977082140208E-5,2.509786794401645E-5,4.4732022764091641E-7,7.0807529823799306E-6,2.7251129511010119E-5,8.3962224921677454E-5,2.895234710595015E-5,4.0325412468401159E-6,4.0878913845925673E-5,5.5018095990975762E-5,1.728263441778994E-4,8.3429058238939879E-5,5.419734274978327E-5,6.1166757013519186E-4,5.5867099698385077E-4,4.2169428527830512E-4,2.2857249879807821E-6,2.0691198863333149E-7,null,null,null,null,null,null,null,null,null,null,-16.624375658562069,-106.1680370406954,25.712164593934411,-5.9522545394263657,175.98466336627951,-119.7070271647319,22.74954633400651,94.475797960736372,-173.0585219350869,-83.216659907519045,70.098774282172599,-163.77520797566589,-86.98143407593497,-150.98018666507579,0.75098600017345618,-91.934038293718388,-90.754991447483476,179.91115518056469,173.40914630561841,63.602559658933806,null,null,null,null,null,null,null,null,null,null,2.7049330299844972E-2,0.6829112126800666,0.68316118140844717,{"$f":"IF(MIN(BO$48:BO$77)=$BP$47,BO56,IF(BO56=MIN(BO$48:BO$77),BP$47,IF(BO56=\"\",$CT56,BO56)))","v":0.68316118140844717},0.68316118140844717,0.68316118140844717,0.68316118140844717,0.68316118140844717,0.68316118140844717,0.68316118140844717,0.68316118140844717,0.68316118140844717,0.68316118140844717,0.68316118140844717,48,48,48,48,48,48,48,48,48,48,48,48,48,48,48,48,48,48,48,14]
[null,null,null,47,3.574887569700824E-6,1.4487174226911179E-4,1.5433144578111909E-6,1.4552342441051699E-6,5.3015850794280121E-7,1.147952639892567E-6,2.6964223447586041E-5,3.5416953487672892E-5,3.333021908587387E-4,3.6000941884737042E-5,2.4326009687261461E-5,8.5168346261497423E-6,3.4847759025387559E-5,5.3951155655261596E-4,1.7007114723614579E-7,5.736476703599217E-4,5.0635205248476139E-4,1.125185492453128E-4,4.3178238295703557E-8,2.2378094996066389E-6,null,null,null,null,null,null,null,null,null,null,80.208725630850893,32.9944871456158,-86.263675589309713,-67.016601358354876,-32.862631392728119,-40.57352986815188,-83.426591845523973,13.214653696483181,-88.607688091761204,39.397754740549281,-6.3218290413824993,-61.747533212191733,2.4504146693126012,92.829628051332165,-77.368273686893971,166.89418852172901,-1.6546753306635691,79.778395528906998,43.417237832817953,-4.7104697331675958,null,null,null,null,null,null,null,null,null,null,2.8033666247506261E-2,0.59954439633207945,0.59978012218810817,{"$f":"IF(MIN(BO$48:BO$77)=$BP$47,BO57,IF(BO57=MIN(BO$48:BO$77),BP$47,IF(BO57=\"\",$CT57,BO57)))","v":0.59978012218810817},0.59978012218810817,0.59978012218810817,0.59978012218810817,0.59978012218810817,0.59978012218810817,0.59978012218810817,0.59978012218810817,0.59978012218810817,0.59978012218810817,47,47,47,47,47,47,47,47,47,47,47,47,47,47,47,47,47,47,47,47,15]
[null,null,null,46,1.0123680969136621E-5,3.4889355929453969E-6,5.2252501749469465E-7,4.7511400394831917E-7,2.80692864170127E-8,7.7001614820961563E-7,2.8723179126605432E-6,2.0985987243461009E-5,3.2297043388806327E-5,1.083427466026456E-5,1.322618710210144E-5,3.2845759016708807E-5,4.0779575557174102E-5,4.6995482766027688E-5,4.8487273982710566E-7,8.6071712944609568E-5,2.5164381122363678E-4,4.5656149156317693E-5,1.657648053161202E-7,5.0146585070000103E-7,null,null,null,null,null,null,null,null,null,null,79.76787250332049,-158.45732742805691,24.645939337504728,83.496122938224616,-88.790596728458695,105.5246233856107,163.86947930781989,-178.22897769324001,-88.008685091945651,13.77238415076288,-27.186294151683189,95.850664467998627,-178.8299968968083,-94.081565348068494,93.469036790980084,154.22874225996381,-0.60171221838558653,85.567607417901399,-86.797190188702913,-4.8486211545063629,null,null,null,null,null,null,null,null,null,null,3.5649988719471767E-2,0.53061428084757567,0.53095178719055802,{"$f":"IF(MIN(BO$48:BO$77)=$BP$47,BO58,IF(BO58=MIN(BO$48:BO$77),BP$47,IF(BO58=\"\",$CT58,BO58)))","v":0.53095178719055802},0.53095178719055802,0.53095178719055802,0.53095178719055802,0.53095178719055802,0.53095178719055802,0.53095178719055802,0.53095178719055802,0.53095178719055802,46,46,46,46,46,46,46,46,46,46,46,46,46,46,46,46,46,46,46,46,46,16]
[null,null,null,45,9.8882853890555356E-5,5.0832506065860263E-3,4.8198007046700941E-4,9.8738649795577604E-4,4.4025559489043783E-2,2.8663893106129818E-4,2.186622786901341E-3,6.7538851249079653E-3,3.2387667959201137E-2,0.25043039751288659,2.8179480806819118E-2,7.295665159532036E-2,4.1392642732852307E-2,7.7981789903732751E-2,5.4738446996334313E-3,0.37654534198246992,0.30374896041039467,1.9669010999409001E-2,9.9798186199889522E-4,5.720384585100898E-5,null,null,null,null,null,null,null,null,null,null,-82.074659926781166,-88.19683955366547,74.703002510476651,76.120746324689094,-97.418725367937725,35.565575189623722,117.0532750596003,-101.7239964703587,34.577223757895503,-91.606421217907339,71.874806140473851,171.6898593274025,99.136599556641187,-31.51199976820299,1.553246201828923,-93.128275306479054,-88.863804300753202,5.0538343578027822,173.81468302535251,76.538970129079942,null,null,null,null,null,null,null,null,null,null,2.4049573912278889E-2,0.4833588518341862,0.48349869553043567,{"$f":"IF(MIN(BO$48:BO$77)=$BP$47,BO59,IF(BO59=MIN(BO$48:BO$77),BP$47,IF(BO59=\"\",$CT59,BO59)))","v":0.48349869553043567},0.48349869553043567,0.48349869553043567,0.48349869553043567,0.48349869553043567,0.48349869553043567,0.48349869553043567,0.48349869553043567,45,45,45,45,45,45,45,45,45,45,45,45,45,45,45,45,45,45,45,45,45,45,17]
[null,null,null,43,7.6347045773150974E-4,1.826688017857853E-2,3.5656899799861502E-2,3.4996859348069592E-2,2.4364220968123011E-4,3.2559956144191597E-2,1.720785313210527E-2,0.15610255561042141,3.9993484415088459E-2,3.5251838389587431E-3,3.4118269755800512E-2,0.17896072770756619,0.26546458003008178,0.1093714085689728,1.031887675374714E-3,3.8799814670911877E-2,0.1260323193755,0.8874889481384719,1.473667940819258E-4,4.0809217353419459E-4,null,null,null,null,null,null,null,null,null,null,29.845615387823159,-95.455863023871089,83.929004431413844,85.372783253592473,-28.346213498252851,1.834026330216987,49.642261825978451,-91.308788931678521,4.1630211492637379,69.888005597579649,-76.317724518865759,2.776306201913424E-3,88.860390197868114,10.44658463391184,-176.00462037160511,-113.801630397333,-87.221813220842066,0,168.22937698154649,-102.23872464228189,null,null,null,null,null,null,null,null,null,null,1.9888631818257101E-2,0.40408754363292898,0.40416748731521329,{"$f":"IF(MIN(BO$48:BO$77)=$BP$47,BO60,IF(BO60=MIN(BO$48:BO$77),BP$47,IF(BO60=\"\",$CT60,BO60)))","v":0.40416748731521329},0.40416748731521329,0.40416748731521329,0.40416748731521329,0.40416748731521329,0.40416748731521329,43,43,43,43,43,43,43,43,43,43,43,43,43,43,43,43,43,43,43,43,43,43,43,43,18]
[null,null,null,44,2.370913196113214E-2,3.6284676784694221E-2,2.122815244972534E-2,2.537894561484523E-2,9.7772108592353562E-4,3.4109512105718429E-2,1.5932667575482711E-2,0.14943771024599981,2.579795725736601E-2,4.3692040966637709E-2,4.4330066663593681E-2,0.22198729404823719,0.24499730256465399,6.2489742265661723E-2,3.525081977052316E-3,0.55798949547566612,0.59877496718720169,5.9019492413751408E-2,1.0596724392995839E-3,6.3715041005291294E-5,null,null,null,null,null,null,null,null,null,null,-91.872552095603496,87.122719328909952,9.7080715809839742,66.853492694573617,-81.88809273753489,83.189381752752453,-43.858762785298808,178.28565713166219,-100.4163839917928,0.38788411083089919,2.4227567113256141,88.62192805196004,178.03439811197259,110.2719342945626,70.562881870380309,0,0,90.088723090356225,-88.845648248140421,-12.71331117615483,null,null,null,null,null,null,null,null,null,null,7.5222593060396284E-3,0.42613697938911632,0.4261490362502578,{"$f":"IF(MIN(BO$48:BO$77)=$BP$47,BO61,IF(BO61=MIN(BO$48:BO$77),BP$47,IF(BO61=\"\",$CT61,BO61)))","v":0.4261490362502578},0.4261490362502578,0.4261490362502578,0.4261490362502578,0.4261490362502578,0.4261490362502578,0.4261490362502578,44,44,44,44,44,44,44,44,44,44,44,44,44,44,44,44,44,44,44,44,44,44,44,19]
[null,null,null,42,5.2949725993850299E-4,5.4317417084321666E-3,5.7500871695163373E-5,4.0578288763426599E-5,2.2047881972362921E-5,2.428298593079303E-5,1.3841064067625289E-2,1.7186498194274979E-2,0.21428961044663089,2.1999536508703479E-2,1.683521975938328E-2,4.1641286761877156E-3,8.470649767275391E-3,0.22905391926300611,3.4973918033767682E-4,4.6460668560211027E-2,4.0429081675049189E-2,5.4969099925477674E-3,6.362420283474386E-5,1.883108002848511E-5,null,null,null,null,null,null,null,null,null,null,-99.689659865596482,-145.83618728788869,114.26581261341281,124.1616696109454,-161.566974992626,-170.63890514099279,-90.044627098418843,9.8478480414746574,-91.550001518006326,-17.570882996495239,-3.4505663246720601,150.66939211037021,21.188298864548411,89.56900222467138,3.0343875029911742,-41.918438634248872,-150.67261316936001,-100.0060092627847,172.82883504213089,165.58890896083361,null,null,null,null,null,null,null,null,null,null,5.6312016121401742E-3,5.0576467575704047E-2,5.0577269495583763E-2,{"$f":"IF(MIN(BO$48:BO$77)=$BP$47,BO62,IF(BO62=MIN(BO$48:BO$77),BP$47,IF(BO62=\"\",$CT62,BO62)))","v":5.0577269495583763E-2},5.0577269495583763E-2,5.0577269495583763E-2,5.0577269495583763E-2,5.0577269495583763E-2,42,42,42,42,42,42,42,42,42,42,42,42,42,42,42,42,42,42,42,42,42,42,42,42,42,20]
[null,null,null,41,2.3434557043198291E-4,3.7455534567496559E-4,7.2906147064320692E-5,1.2234414067647631E-4,3.6010980367112102E-6,1.2660038520110661E-5,0.1393387748841094,7.9299716239636941E-3,9.9482280939345701E-3,1.889927660832284E-2,0.19520239936409831,6.5839729931247912E-2,1.323552287867541E-2,0.1661560107839295,5.028011538964753E-4,0.17076240192348521,0.16432849763813839,6.140137455929133E-2,1.5329940355974591E-5,4.9876811956498792E-4,null,null,null,null,null,null,null,null,null,null,79.482895674717128,-144.6107467272758,44.047573199457958,17.32875820010371,-137.55285385106819,-104.6408119724296,-91.41962238822957,-34.004690914757077,79.026895222248768,-172.21371164114379,177.45374640336749,88.766156248246233,92.20586882504216,85.255572017664363,77.576819304480878,-13.80644419851548,-178.6111921539152,-38.711783601954259,159.0126573808746,177.9347240176979,null,null,null,null,null,null,null,null,null,null,2.2819194567224751E-2,3.6182963592981288E-2,3.6192387791171413E-2,{"$f":"IF(MIN(BO$48:BO$77)=$BP$47,BO63,IF(BO63=MIN(BO$48:BO$77),BP$47,IF(BO63=\"\",$CT63,BO63)))","v":3.6192387791171413E-2},3.6192387791171413E-2,3.6192387791171413E-2,3.6192387791171413E-2,41,41,41,41,41,41,41,41,41,41,41,41,41,41,41,41,41,41,41,41,41,41,41,41,41,41,21]
[null,null,null,40,2.2975308852898061E-4,1.209011365569143E-4,8.1795329893723462E-5,2.1242554916744969E-4,5.2451598141596457E-6,5.7782002425007688E-5,0.13371590934439989,7.7018813516273104E-3,4.1989711465332251E-2,4.8897916739934627E-3,0.19946055513872649,7.6883798273768206E-2,1.3482974302026961E-2,7.5293933931967025E-2,1.442855069067287E-2,4.4622889199929558E-2,4.5772217941011627E-2,3.6763103611987501E-3,8.5576588395393235E-5,1.1315597122832129E-6,null,null,null,null,null,null,null,null,null,null,-96.888771207972056,33.726278818199063,23.97406164780438,-5.4927345573934412,-141.7267985786832,-108.5910384248163,178.57602478763181,-115.3169110266192,1.099987974734582,-53.749642425001618,-92.043026803764135,176.4435192603888,161.983421841893,167.1518655308189,179.46964660814851,-34.748231530740291,-40.176827470986083,119.47324858977061,-136.5633871955589,164.7926393732279,null,null,null,null,null,null,null,null,null,null,2.3116028177621688E-2,3.6080129205827448E-2,3.60897727930009E-2,{"$f":"IF(MIN(BO$48:BO$77)=$BP$47,BO64,IF(BO64=MIN(BO$48:BO$77),BP$47,IF(BO64=\"\",$CT64,BO64)))","v":3.60897727930009E-2},3.60897727930009E-2,3.60897727930009E-2,40,40,40,40,40,40,40,40,40,40,40,40,40,40,40,40,40,40,40,40,40,40,40,40,40,40,40,22]
[null,null,null,39,1.7918929991466221E-4,5.8380059242901612E-3,5.0771065145515726E-4,1.0427847463700961E-3,4.6689911041948619E-2,3.001640857393374E-4,1.788968005676989E-3,3.022299725125431E-3,1.22062951567005E-2,5.4838176389968834E-3,2.675858251340884E-3,1.1584323629921621E-2,8.9279785967858877E-3,1.4228993692630939E-2,1.917499228685989E-3,0.13331807665611189,0.10540588571531979,6.2778014194232708E-3,3.5066241332079308E-4,2.2241297596479739E-5,null,null,null,null,null,null,null,null,null,null,90.081466768650444,85.31431628516674,-104.2017229033482,-102.74799102199761,82.571967745609442,-143.1335252435056,-135.3369396610068,-71.271245393729714,-74.028217767195855,-76.193781483872826,-109.2996496249642,-9.3014188904112238,-81.62163776347181,155.96574769115739,-178.45810171085111,87.34849431690499,90.387837493477861,-176.1410772418626,-6.2002098991448751,-100.50977985347819,null,null,null,null,null,null,null,null,null,null,0.25333905711255228,1.152961044716516E-2,1.1918418470759451E-2,{"$f":"IF(MIN(BO$48:BO$77)=$BP$47,BO65,IF(BO65=MIN(BO$48:BO$77),BP$47,IF(BO65=\"\",$CT65,BO65)))","v":1.1918418470759451E-2},1.1918418470759451E-2,39,39,39,39,39,39,39,39,39,39,39,39,39,39,39,39,39,39,39,39,39,39,39,39,39,39,39,39,23]
[null,null,null,37,8.1746136153498642E-4,1.9188373044304E-2,3.7581963005958667E-2,3.7152847001752393E-2,2.7177194887523779E-4,3.4694239655406467E-2,8.1438648056847193E-3,2.243630313940015E-3,5.6756261112103972E-3,1.255588821774547E-2,1.3494301673680429E-2,1.5123034551167751E-2,2.2898881440980599E-2,1.1691026016076579E-2,4.3325436182646858E-4,1.883904602698408E-2,4.0137043039230977E-2,0.28095544106374781,4.5629934801507977E-5,1.496453054598028E-4,null,null,null,null,null,null,null,null,null,null,-147.06017318655771,84.554072497777142,-95.494299044241743,-92.923613660660337,156.34038878406949,-177.72462114960169,-89.490689025928972,-64.892330840862329,-43.370115710050101,-98.579679843981353,-158.94514784245879,0.75904170287353845,-88.303145543145405,-137.8776936706474,0.7304207258513975,140.83127472418809,63.053859447554267,179.05019048988609,-13.599224791871571,54.565948196261658,null,null,null,null,null,null,null,null,null,null,4.5615754048008147E-2,7.7344719527384087E-3,7.7425314656645759E-3,{"$f":"IF(MIN(BO$48:BO$77)=$BP$47,BO66,IF(BO66=MIN(BO$48:BO$77),BP$47,IF(BO66=\"\",$CT66,BO66)))","v":37},37,37,37,37,37,37,37,37,37,37,37,37,37,37,37,37,37,37,37,37,37,37,37,37,37,37,37,37,37,24]
[null,null,null,38,2.2998916209856279E-2,3.7786481776580297E-2,2.2644745808161799E-2,2.7045053292998729E-2,1.0424817504238811E-3,3.6338804829063633E-2,5.9912625875807981E-3,6.3943440566890178E-3,8.9673685194896664E-3,4.6604008804880821E-3,1.1132264424618959E-2,4.8946980669277032E-3,1.7241170027477781E-2,4.1342764710580893E-3,1.7145724818212959E-3,0.17566305051886391,0.18978397932130939,1.7242882990457901E-2,3.3563278708498843E-4,2.2022980089465071E-5,null,null,null,null,null,null,null,null,null,null,88.88400550035621,-91.006876688188271,-170.1874650178728,-113.1352063595799,97.924149152209367,-96.703856941184839,-173.36281782466909,-10.34201953530625,66.220360844561924,-24.50886322620881,-76.527706402491162,100.7198505230926,-1.451832113798333,100.6810485944406,-37.483521065242442,178.9117853030771,179.12870510118151,-92.925753291519001,89.857426709052078,169.71325861893649,null,null,null,null,null,null,null,null,null,null,2.2162579308438169E-2,7.8240941601319617E-3,7.8260163872585723E-3,{"$f":"IF(MIN(BO$48:BO$77)=$BP$47,BO67,IF(BO67=MIN(BO$48:BO$77),BP$47,IF(BO67=\"\",$CT67,BO67)))","v":7.8260163872585723E-3},38,38,38,38,38,38,38,38,38,38,38,38,38,38,38,38,38,38,38,38,38,38,38,38,38,38,38,38,38,25]
[null,null,null,57,null,null,null,null,null,null,null,null,null,null,null,null,null,null,null,null,null,null,null,null,null,null,null,null,null,null,null,null,null,null,null,null,null,null,null,null,null,null,null,null,null,null,null,null,null,null,null,null,null,null,null,null,null,null,null,null,null,null,null,null,null,null,null,{"$f":"IF(MIN(BO$48:BO$77)=$BP$47,BO68,IF(BO68=MIN(BO$48:BO$77),BP$47,IF(BO68=\"\",$CT68,BO68)))","v":26},26,26,26,26,26,26,26,26,26,26,26,26,26,26,26,26,26,26,26,57,57,57,57,57,57,57,57,57,57,26]
[null,null,null,58,null,null,null,null,null,null,null,null,null,null,null,null,null,null,null,null,null,null,null,null,null,null,null,null,null,null,null,null,null,null,null,null,null,null,null,null,null,null,null,null,null,null,null,null,null,null,null,null,null,null,null,null,null,null,null,null,null,null,null,null,null,null,null,{"$f":"IF(MIN(BO$48:BO$77)=$BP$47,BO69,IF(BO69=MIN(BO$48:BO$77),BP$47,IF(BO69=\"\",$CT69,BO69)))","v":27},27,27,27,27,27,27,27,27,27,27,27,27,27,27,27,27,27,27,27,27,58,58,58,58,58,58,58,58,58,27]
[null,null,null,59,null,null,null,null,null,null,null,null,null,null,null,null,null,null,null,null,null,null,null,null,null,null,null,null,null,null,null,null,null,null,null,null,null,null,null,null,null,null,null,null,null,null,null,null,null,null,null,null,null,null,null,null,null,null,null,null,null,null,null,null,null,null,null,{"$f":"IF(MIN(BO$48:BO$77)=$BP$47,BO70,IF(BO70=MIN(BO$48:BO$77),BP$47,IF(BO70=\"\",$CT70,BO70)))","v":28},28,28,28,28,28,28,28,28,28,28,28,28,28,28,28,28,28,28,28,28,28,59,59,59,59,59,59,59,59,28]
[null,null,null,60,null,null,null,null,null,null,null,null,null,null,null,null,null,null,null,null,null,null,null,null,null,null,null,null,null,null,null,null,null,null,null,null,null,null,null,null,null,null,null,null,null,null,null,null,null,null,null,null,null,null,null,null,null,null,null,null,null,null,null,null,null,null,null,{"$f":"IF(MIN(BO$48:BO$77)=$BP$47,BO71,IF(BO71=MIN(BO$48:BO$77),BP$47,IF(BO71=\"\",$CT71,BO71)))","v":29},29,29,29,29,29,29,29,29,29,29,29,29,29,29,29,29,29,29,29,29,29,29,60,60,60,60,60,60,60,29]
[null,null,null,61,null,null,null,null,null,null,null,null,null,null,null,null,null,null,null,null,null,null,null,null,null,null,null,null,null,null,null,null,null,null,null,null,null,null,null,null,null,null,null,null,null,null,null,null,null,null,null,null,null,null,null,null,null,null,null,null,null,null,null,null,null,null,null,{"$f":"IF(MIN(BO$48:BO$77)=$BP$47,BO72,IF(BO72=MIN(BO$48:BO$77),BP$47,IF(BO72=\"\",$CT72,BO72)))","v":30},30,30,30,30,30,30,30,30,30,30,30,30,30,30,30,30,30,30,30,30,30,30,30,61,61,61,61,61,61,30]
[null,null,null,62,null,null,null,null,null,null,null,null,null,null,null,null,null,null,null,null,null,null,null,null,null,null,null,null,null,null,null,null,null,null,null,null,null,null,null,null,null,null,null,null,null,null,null,null,null,null,null,null,null,null,null,null,null,null,null,null,null,null,null,null,null,null,null,{"$f":"IF(MIN(BO$48:BO$77)=$BP$47,BO73,IF(BO73=MIN(BO$48:BO$77),BP$47,IF(BO73=\"\",$CT73,BO73)))","v":31},31,31,31,31,31,31,31,31,31,31,31,31,31,31,31,31,31,31,31,31,31,31,31,31,62,62,62,62,62,31]
[null,null,null,63,null,null,null,null,null,null,null,null,null,null,null,null,null,null,null,null,null,null,null,null,null,null,null,null,null,null,null,null,null,null,null,null,null,null,null,null,null,null,null,null,null,null,null,null,null,null,null,null,null,null,null,null,null,null,null,null,null,null,null,null,null,null,null,{"$f":"IF(MIN(BO$48:BO$77)=$BP$47,BO74,IF(BO74=MIN(BO$48:BO$77),BP$47,IF(BO74=\"\",$CT74,BO74)))","v":32},32,32,32,32,32,32,32,32,32,32,32,32,32,32,32,32,32,32,32,32,32,32,32,32,32,63,63,63,63,32]
[null,null,null,64,null,null,null,null,null,null,null,null,null,null,null,null,null,null,null,null,null,null,null,null,null,null,null,null,null,null,null,null,null,null,null,null,null,null,null,null,null,null,null,null,null,null,null,null,null,null,null,null,null,null,null,null,null,null,null,null,null,null,null,null,null,null,null,{"$f":"IF(MIN(BO$48:BO$77)=$BP$47,BO75,IF(BO75=MIN(BO$48:BO$77),BP$47,IF(BO75=\"\",$CT75,BO75)))","v":33},33,33,33,33,33,33,33,33,33,33,33,33,33,33,33,33,33,33,33,33,33,33,33,33,33,33,64,64,64,33]
[null,null,null,65,null,null,null,null,null,null,null,null,null,null,null,null,null,null,null,null,null,null,null,null,null,null,null,null,null,null,null,null,null,null,null,null,null,null,null,null,null,null,null,null,null,null,null,null,null,null,null,null,null,null,null,null,null,null,null,null,null,null,null,null,null,null,null,{"$f":"IF(MIN(BO$48:BO$77)=$BP$47,BO76,IF(BO76=MIN(BO$48:BO$77),BP$47,IF(BO76=\"\",$CT76,BO76)))","v":34},34,34,34,34,34,34,34,34,34,34,34,34,34,34,34,34,34,34,34,34,34,34,34,34,34,34,34,65,65,34]
[null,null,null,66,null,null,null,null,null,null,null,null,null,null,null,null,null,null,null,null,null,null,null,null,null,null,null,null,null,null,null,null,null,null,null,null,null,null,null,null,null,null,null,null,null,null,null,null,null,null,null,null,null,null,null,null,null,null,null,null,null,null,null,null,null,null,null,{"$f":"IF(MIN(BO$48:BO$77)=$BP$47,BO77,IF(BO77=MIN(BO$48:BO$77),BP$47,IF(BO77=\"\",$CT77,BO77)))","v":35},35,35,35,35,35,35,35,35,35,35,35,35,35,35,35,35,35,35,35,35,35,35,35,35,35,35,35,35,66,35]

{"sheet":"10 RPM","index":6,"n_rows":77,"n_cols":98,"rows_kept":77,"cut":false,"hidden":false,"merged":[[8,56,8,57],[8,58,8,59],[8,60,8,61],[8,62,8,63],[8,44,8,45],[8,46,8,47],[8,48,8,49],[8,50,8,51],[8,52,8,53],[8,54,8,55],[8,32,8,33],[8,34,8,35],[8,36,8,37],[8,38,8,39],[8,40,8,41],[8,42,8,43],[8,20,8,21],[8,22,8,23],[8,24,8,25],[8,26,8,27],[8,28,8,29],[8,30,8,31],[7,62,7,63],[8,2,8,3],[8,4,8,5],[8,6,8,7],[8,8,8,9],[8,10,8,11],[8,12,8,13],[8,14,8,15],[8,16,8,17],[8,18,8,19],[7,50,7,51],[7,52,7,53],[7,54,7,55],[7,56,7,57],[7,58,7,59],[7,60,7,61],[7,38,7,39],[7,40,7,41],[7,42,7,43],[7,44,7,45],[7,46,7,47],[7,48,7,49],[7,26,7,27],[7,28,7,29],[7,30,7,31],[7,32,7,33],[7,34,7,35],[7,36,7,37],[7,14,7,15],[7,16,7,17],[7,18,7,19],[7,20,7,21],[7,22,7,23],[7,24,7,25],[6,56,6,57],[6,58,6,59],[6,60,6,61],[6,62,6,63],[7,2,7,3],[7,4,7,5],[7,6,7,7],[7,8,7,9],[7,10,7,11],[7,12,7,13],[6,44,6,45],[6,46,6,47],[6,48,6,49],[6,50,6,51],[6,52,6,53],[6,54,6,55],[6,32,6,33],[6,34,6,35],[6,36,6,37],[6,38,6,39],[6,40,6,41],[6,42,6,43],[6,20,6,21],[6,22,6,23],[6,24,6,25],[6,26,6,27],[6,28,6,29],[6,30,6,31],[5,62,5,63],[6,2,6,3],[6,4,6,5],[6,6,6,7],[6,8,6,9],[6,10,6,11],[6,12,6,13],[6,14,6,15],[6,16,6,17],[6,18,6,19],[5,50,5,51],[5,52,5,53],[5,54,5,55],[5,56,5,57],[5,58,5,59],[5,60,5,61],[5,38,5,39],[5,40,5,41],[5,42,5,43],[5,44,5,45],[5,2,5,3],[5,4,5,5],[5,6,5,7],[5,8,5,9],[5,10,5,11],[5,12,5,13],[5,46,5,47],[5,48,5,49],[5,26,5,27],[5,28,5,29],[5,30,5,31],[5,32,5,33],[5,34,5,35],[5,36,5,37],[5,14,5,15],[5,16,5,17],[5,18,5,19],[5,20,5,21],[5,22,5,23],[5,24,5,25]]}
["This worksheet is used to sort the mode shapes and frequencies and to help you determine which modes are which for up to 30 modes (up to 30 DOFs)."]
["To use this spreadsheet, paste the appropriate data output from MBC3 into the six gray cells marked with comments (DescStates, MBC_ModeShapeMagnitude, MBC_ModeShapePhaseDeg_MBC_DampingRatio, MBC_DampedFrequencyHz, MBC_NaturalFrequencyHz).  The Scaling should be calculated according to the comment, but is not output by MBC3.  Do not change any other cell!"]
["NOTE: This spreadsheet doesn't work if any natural (undamped) frequency is 0.0 or if any natural (undamped) frequency is in duplicate--to avoid the resulting error, in the cells where the frequencies are pasted-in, change the error-causing frequency (or frequencies) by a very small amount!"]
[null,null,null,"BladeLength",117,"TowerHt",144.495]
[null,null,"Mode Shapes and Frequencies"]
[null,null,"Mode Number",null,1,null,{"$f":"E6+1","v":2},null,{"$f":"G6+1","v":3},null,{"$f":"I6+1","v":4},null,{"$f":"K6+1","v":5},null,{"$f":"M6+1","v":6},null,{"$f":"O6+1","v":7},null,{"$f":"Q6+1","v":8},null,{"$f":"S6+1","v":9},null,{"$f":"U6+1","v":10},null,{"$f":"W6+1","v":11},null,{"$f":"Y6+1","v":12},null,{"$f":"AA6+1","v":13},null,{"$f":"AC6+1","v":14},null,{"$f":"AE6+1","v":15},null,{"$f":"AG6+1","v":16},null,{"$f":"AI6+1","v":17},null,{"$f":"AK6+1","v":18},null,{"$f":"AM6+1","v":19},null,{"$f":"AO6+1","v":20},null,{"$f":"AQ6+1","v":21},null,{"$f":"AS6+1","v":22},null,{"$f":"AU6+1","v":23},null,{"$f":"AW6+1","v":24},null,{"$f":"AY6+1","v":25},null,{"$f":"BA6+1","v":26},null,{"$f":"BC6+1","v":27},null,{"$f":"BE6+1","v":28},null,{"$f":"BG6+1","v":29},null,{"$f":"BI6+1","v":30}]
[null,null,"Natural (Undamped) Frequencies (Hz)",null,{"$f":"IF(VLOOKUP(E$6+$BO$47,$D$48:$BO$77,64,FALSE)=\"\",\"\",VLOOKUP(E$6+$BO$47,$D$48:$BO$77,64,FALSE))","v":7.7464588381792087E-3},null,{"$f":"IF(VLOOKUP(G$6+$BO$47,$D$48:$BO$77,64,FALSE)=\"\",\"\",VLOOKUP(G$6+$BO$47,$D$48:$BO$77,64,FALSE))","v":7.8217885214271754E-3},null,{"$f":"IF(VLOOKUP(I$6+$BO$47,$D$48:$BO$77,64,FALSE)=\"\",\"\",VLOOKUP(I$6+$BO$47,$D$48:$BO$77,64,FALSE))","v":1.1913094189272109E-2},null,{"$f":"IF(VLOOKUP(K$6+$BO$47,$D$48:$BO$77,64,FALSE)=\"\",\"\",VLOOKUP(K$6+$BO$47,$D$48:$BO$77,64,FALSE))","v":3.6075583027220942E-2},null,{"$f":"IF(VLOOKUP(M$6+$BO$47,$D$48:$BO$77,64,FALSE)=\"\",\"\",VLOOKUP(M$6+$BO$47,$D$48:$BO$77,64,FALSE))","v":3.6207325232479617E-2},null,{"$f":"IF(VLOOKUP(O$6+$BO$47,$D$48:$BO$77,64,FALSE)=\"\",\"\",VLOOKUP(O$6+$BO$47,$D$48:$BO$77,64,FALSE))","v":5.0577280560733247E-2},null,{"$f":"IF(VLOOKUP(Q$6+$BO$47,$D$48:$BO$77,64,FALSE)=\"\",\"\",VLOOKUP(Q$6+$BO$47,$D$48:$BO$77,64,FALSE))","v":0.39207639448779957},null,{"$f":"IF(VLOOKUP(S$6+$BO$47,$D$48:$BO$77,64,FALSE)=\"\",\"\",VLOOKUP(S$6+$BO$47,$D$48:$BO$77,64,FALSE))","v":0.42589276128416559},null,{"$f":"IF(VLOOKUP(U$6+$BO$47,$D$48:$BO$77,64,FALSE)=\"\",\"\",VLOOKUP(U$6+$BO$47,$D$48:$BO$77,64,FALSE))","v":0.47470952553936618},null,{"$f":"IF(VLOOKUP(W$6+$BO$47,$D$48:$BO$77,64,FALSE)=\"\",\"\",VLOOKUP(W$6+$BO$47,$D$48:$BO$77,64,FALSE))","v":0.50607749496363985},null,{"$f":"IF(VLOOKUP(Y$6+$BO$47,$D$48:$BO$77,64,FALSE)=\"\",\"\",VLOOKUP(Y$6+$BO$47,$D$48:$BO$77,64,FALSE))","v":0.61313786546392679},null,{"$f":"IF(VLOOKUP(AA$6+$BO$47,$D$48:$BO$77,64,FALSE)=\"\",\"\",VLOOKUP(AA$6+$BO$47,$D$48:$BO$77,64,FALSE))","v":0.68782880904150701},null,{"$f":"IF(VLOOKUP(AC$6+$BO$47,$D$48:$BO$77,64,FALSE)=\"\",\"\",VLOOKUP(AC$6+$BO$47,$D$48:$BO$77,64,FALSE))","v":0.75992957643915893},null,{"$f":"IF(VLOOKUP(AE$6+$BO$47,$D$48:$BO$77,64,FALSE)=\"\",\"\",VLOOKUP(AE$6+$BO$47,$D$48:$BO$77,64,FALSE))","v":0.8373041689796924},null,{"$f":"IF(VLOOKUP(AG$6+$BO$47,$D$48:$BO$77,64,FALSE)=\"\",\"\",VLOOKUP(AG$6+$BO$47,$D$48:$BO$77,64,FALSE))","v":2.285232731703128},null,{"$f":"IF(VLOOKUP(AI$6+$BO$47,$D$48:$BO$77,64,FALSE)=\"\",\"\",VLOOKUP(AI$6+$BO$47,$D$48:$BO$77,64,FALSE))","v":2.489867254315199},null,{"$f":"IF(VLOOKUP(AK$6+$BO$47,$D$48:$BO$77,64,FALSE)=\"\",\"\",VLOOKUP(AK$6+$BO$47,$D$48:$BO$77,64,FALSE))","v":2.5195524099937199},null,{"$f":"IF(VLOOKUP(AM$6+$BO$47,$D$48:$BO$77,64,FALSE)=\"\",\"\",VLOOKUP(AM$6+$BO$47,$D$48:$BO$77,64,FALSE))","v":2.6724239478521121},null,{"$f":"IF(VLOOKUP(AO$6+$BO$47,$D$48:$BO$77,64,FALSE)=\"\",\"\",VLOOKUP(AO$6+$BO$47,$D$48:$BO$77,64,FALSE))","v":2.6791311780790141},null,{"$f":"IF(VLOOKUP(AQ$6+$BO$47,$D$48:$BO$77,64,FALSE)=\"\",\"\",VLOOKUP(AQ$6+$BO$47,$D$48:$BO$77,64,FALSE))","v":4.8142118528292492},null,{"$f":"IF(VLOOKUP(AS$6+$BO$47,$D$48:$BO$77,64,FALSE)=\"\",\"\",VLOOKUP(AS$6+$BO$47,$D$48:$BO$77,64,FALSE))","v":""},null,{"$f":"IF(VLOOKUP(AU$6+$BO$47,$D$48:$BO$77,64,FALSE)=\"\",\"\",VLOOKUP(AU$6+$BO$47,$D$48:$BO$77,64,FALSE))","v":""},null,{"$f":"IF(VLOOKUP(AW$6+$BO$47,$D$48:$BO$77,64,FALSE)=\"\",\"\",VLOOKUP(AW$6+$BO$47,$D$48:$BO$77,64,FALSE))","v":""},null,{"$f":"IF(VLOOKUP(AY$6+$BO$47,$D$48:$BO$77,64,FALSE)=\"\",\"\",VLOOKUP(AY$6+$BO$47,$D$48:$BO$77,64,FALSE))","v":""},null,{"$f":"IF(VLOOKUP(BA$6+$BO$47,$D$48:$BO$77,64,FALSE)=\"\",\"\",VLOOKUP(BA$6+$BO$47,$D$48:$BO$77,64,FALSE))","v":""},null,{"$f":"IF(VLOOKUP(BC$6+$BO$47,$D$48:$BO$77,64,FALSE)=\"\",\"\",VLOOKUP(BC$6+$BO$47,$D$48:$BO$77,64,FALSE))","v":""},null,{"$f":"IF(VLOOKUP(BE$6+$BO$47,$D$48:$BO$77,64,FALSE)=\"\",\"\",VLOOKUP(BE$6+$BO$47,$D$48:$BO$77,64,FALSE))","v":""},null,{"$f":"IF(VLOOKUP(BG$6+$BO$47,$D$48:$BO$77,64,FALSE)=\"\",\"\",VLOOKUP(BG$6+$BO$47,$D$48:$BO$77,64,FALSE))","v":""},null,{"$f":"IF(VLOOKUP(BI$6+$BO$47,$D$48:$BO$77,64,FALSE)=\"\",\"\",VLOOKUP(BI$6+$BO$47,$D$48:$BO$77,64,FALSE))","v":""},null,{"$f":"IF(VLOOKUP(BK$6+$BO$47,$D$48:$BO$77,64,FALSE)=\"\",\"\",VLOOKUP(BK$6+$BO$47,$D$48:$BO$77,64,FALSE))","v":""}]
[null,null,"Damped Frequencies (Hz)",null,{"$f":"IF(VLOOKUP(E$6+$BO$47,$D$48:$BO$77,63,FALSE)=\"\",\"\",VLOOKUP(E$6+$BO$47,$D$48:$BO$77,63,FALSE))","v":7.7398019093980232E-3},null,{"$f":"IF(VLOOKUP(G$6+$BO$47,$D$48:$BO$77,63,FALSE)=\"\",\"\",VLOOKUP(G$6+$BO$47,$D$48:$BO$77,63,FALSE))","v":7.8198662051807595E-3},null,{"$f":"IF(VLOOKUP(I$6+$BO$47,$D$48:$BO$77,63,FALSE)=\"\",\"\",VLOOKUP(I$6+$BO$47,$D$48:$BO$77,63,FALSE))","v":1.152545383054268E-2},null,{"$f":"IF(VLOOKUP(K$6+$BO$47,$D$48:$BO$77,63,FALSE)=\"\",\"\",VLOOKUP(K$6+$BO$47,$D$48:$BO$77,63,FALSE))","v":3.6065736506446157E-2},null,{"$f":"IF(VLOOKUP(M$6+$BO$47,$D$48:$BO$77,63,FALSE)=\"\",\"\",VLOOKUP(M$6+$BO$47,$D$48:$BO$77,63,FALSE))","v":3.6197979934507143E-2},null,{"$f":"IF(VLOOKUP(O$6+$BO$47,$D$48:$BO$77,63,FALSE)=\"\",\"\",VLOOKUP(O$6+$BO$47,$D$48:$BO$77,63,FALSE))","v":5.0576478920112543E-2},null,{"$f":"IF(VLOOKUP(Q$6+$BO$47,$D$48:$BO$77,63,FALSE)=\"\",\"\",VLOOKUP(Q$6+$BO$47,$D$48:$BO$77,63,FALSE))","v":0.39195992270301849},null,{"$f":"IF(VLOOKUP(S$6+$BO$47,$D$48:$BO$77,63,FALSE)=\"\",\"\",VLOOKUP(S$6+$BO$47,$D$48:$BO$77,63,FALSE))","v":0.4258794529012},null,{"$f":"IF(VLOOKUP(U$6+$BO$47,$D$48:$BO$77,63,FALSE)=\"\",\"\",VLOOKUP(U$6+$BO$47,$D$48:$BO$77,63,FALSE))","v":0.4745743827574932},null,{"$f":"IF(VLOOKUP(W$6+$BO$47,$D$48:$BO$77,63,FALSE)=\"\",\"\",VLOOKUP(W$6+$BO$47,$D$48:$BO$77,63,FALSE))","v":0.50577577193343959},null,{"$f":"IF(VLOOKUP(Y$6+$BO$47,$D$48:$BO$77,63,FALSE)=\"\",\"\",VLOOKUP(Y$6+$BO$47,$D$48:$BO$77,63,FALSE))","v":0.61290529619444201},null,{"$f":"IF(VLOOKUP(AA$6+$BO$47,$D$48:$BO$77,63,FALSE)=\"\",\"\",VLOOKUP(AA$6+$BO$47,$D$48:$BO$77,63,FALSE))","v":0.68757870279149524},null,{"$f":"IF(VLOOKUP(AC$6+$BO$47,$D$48:$BO$77,63,FALSE)=\"\",\"\",VLOOKUP(AC$6+$BO$47,$D$48:$BO$77,63,FALSE))","v":0.75975685522975744},null,{"$f":"IF(VLOOKUP(AE$6+$BO$47,$D$48:$BO$77,63,FALSE)=\"\",\"\",VLOOKUP(AE$6+$BO$47,$D$48:$BO$77,63,FALSE))","v":0.83707014651887413},null,{"$f":"IF(VLOOKUP(AG$6+$BO$47,$D$48:$BO$77,63,FALSE)=\"\",\"\",VLOOKUP(AG$6+$BO$47,$D$48:$BO$77,63,FALSE))","v":2.26923147215973},null,{"$f":"IF(VLOOKUP(AI$6+$BO$47,$D$48:$BO$77,63,FALSE)=\"\",\"\",VLOOKUP(AI$6+$BO$47,$D$48:$BO$77,63,FALSE))","v":2.4692430309550479},null,{"$f":"IF(VLOOKUP(AK$6+$BO$47,$D$48:$BO$77,63,FALSE)=\"\",\"\",VLOOKUP(AK$6+$BO$47,$D$48:$BO$77,63,FALSE))","v":2.51717028289948},null,{"$f":"IF(VLOOKUP(AM$6+$BO$47,$D$48:$BO$77,63,FALSE)=\"\",\"\",VLOOKUP(AM$6+$BO$47,$D$48:$BO$77,63,FALSE))","v":2.6720109206826912},null,{"$f":"IF(VLOOKUP(AO$6+$BO$47,$D$48:$BO$77,63,FALSE)=\"\",\"\",VLOOKUP(AO$6+$BO$47,$D$48:$BO$77,63,FALSE))","v":2.6655621206245499},null,{"$f":"IF(VLOOKUP(AQ$6+$BO$47,$D$48:$BO$77,63,FALSE)=\"\",\"\",VLOOKUP(AQ$6+$BO$47,$D$48:$BO$77,63,FALSE))","v":4.8116348308214709},null,{"$f":"IF(VLOOKUP(AS$6+$BO$47,$D$48:$BO$77,63,FALSE)=\"\",\"\",VLOOKUP(AS$6+$BO$47,$D$48:$BO$77,63,FALSE))","v":""},null,{"$f":"IF(VLOOKUP(AU$6+$BO$47,$D$48:$BO$77,63,FALSE)=\"\",\"\",VLOOKUP(AU$6+$BO$47,$D$48:$BO$77,63,FALSE))","v":""},null,{"$f":"IF(VLOOKUP(AW$6+$BO$47,$D$48:$BO$77,63,FALSE)=\"\",\"\",VLOOKUP(AW$6+$BO$47,$D$48:$BO$77,63,FALSE))","v":""},null,{"$f":"IF(VLOOKUP(AY$6+$BO$47,$D$48:$BO$77,63,FALSE)=\"\",\"\",VLOOKUP(AY$6+$BO$47,$D$48:$BO$77,63,FALSE))","v":""},null,{"$f":"IF(VLOOKUP(BA$6+$BO$47,$D$48:$BO$77,63,FALSE)=\"\",\"\",VLOOKUP(BA$6+$BO$47,$D$48:$BO$77,63,FALSE))","v":""},null,{"$f":"IF(VLOOKUP(BC$6+$BO$47,$D$48:$BO$77,63,FALSE)=\"\",\"\",VLOOKUP(BC$6+$BO$47,$D$48:$BO$77,63,FALSE))","v":""},null,{"$f":"IF(VLOOKUP(BE$6+$BO$47,$D$48:$BO$77,63,FALSE)=\"\",\"\",VLOOKUP(BE$6+$BO$47,$D$48:$BO$77,63,FALSE))","v":""},null,{"$f":"IF(VLOOKUP(BG$6+$BO$47,$D$48:$BO$77,63,FALSE)=\"\",\"\",VLOOKUP(BG$6+$BO$47,$D$48:$BO$77,63,FALSE))","v":""},null,{"$f":"IF(VLOOKUP(BI$6+$BO$47,$D$48:$BO$77,63,FALSE)=\"\",\"\",VLOOKUP(BI$6+$BO$47,$D$48:$BO$77,63,FALSE))","v":""},null,{"$f":"IF(VLOOKUP(BK$6+$BO$47,$D$48:$BO$77,63,FALSE)=\"\",\"\",VLOOKUP(BK$6+$BO$47,$D$48:$BO$77,63,FALSE))","v":""}]
[null,null,"Damping Ratio (-)",null,{"$f":"IF(VLOOKUP(E$6+$BO$47,$D$48:$BO$77,62,FALSE)=\"\",\"\",VLOOKUP(E$6+$BO$47,$D$48:$BO$77,62,FALSE))","v":4.1448328517397909E-2},null,{"$f":"IF(VLOOKUP(G$6+$BO$47,$D$48:$BO$77,62,FALSE)=\"\",\"\",VLOOKUP(G$6+$BO$47,$D$48:$BO$77,62,FALSE))","v":2.216908129754612E-2},null,{"$f":"IF(VLOOKUP(I$6+$BO$47,$D$48:$BO$77,62,FALSE)=\"\",\"\",VLOOKUP(I$6+$BO$47,$D$48:$BO$77,62,FALSE))","v":0.25302024392530098},null,{"$f":"IF(VLOOKUP(K$6+$BO$47,$D$48:$BO$77,62,FALSE)=\"\",\"\",VLOOKUP(K$6+$BO$47,$D$48:$BO$77,62,FALSE))","v":2.336254134990598E-2},null,{"$f":"IF(VLOOKUP(M$6+$BO$47,$D$48:$BO$77,62,FALSE)=\"\",\"\",VLOOKUP(M$6+$BO$47,$D$48:$BO$77,62,FALSE))","v":2.2718796828789769E-2},null,{"$f":"IF(VLOOKUP(O$6+$BO$47,$D$48:$BO$77,62,FALSE)=\"\",\"\",VLOOKUP(O$6+$BO$47,$D$48:$BO$77,62,FALSE))","v":5.6302204194200074E-3},null,{"$f":"IF(VLOOKUP(Q$6+$BO$47,$D$48:$BO$77,62,FALSE)=\"\",\"\",VLOOKUP(Q$6+$BO$47,$D$48:$BO$77,62,FALSE))","v":2.437293102801753E-2},null,{"$f":"IF(VLOOKUP(S$6+$BO$47,$D$48:$BO$77,62,FALSE)=\"\",\"\",VLOOKUP(S$6+$BO$47,$D$48:$BO$77,62,FALSE))","v":7.9054049373910099E-3},null,{"$f":"IF(VLOOKUP(U$6+$BO$47,$D$48:$BO$77,62,FALSE)=\"\",\"\",VLOOKUP(U$6+$BO$47,$D$48:$BO$77,62,FALSE))","v":2.3859785794225149E-2},null,{"$f":"IF(VLOOKUP(W$6+$BO$47,$D$48:$BO$77,62,FALSE)=\"\",\"\",VLOOKUP(W$6+$BO$47,$D$48:$BO$77,62,FALSE))","v":3.4525976816482777E-2},null,{"$f":"IF(VLOOKUP(Y$6+$BO$47,$D$48:$BO$77,62,FALSE)=\"\",\"\",VLOOKUP(Y$6+$BO$47,$D$48:$BO$77,62,FALSE))","v":2.7540442025970328E-2},null,{"$f":"IF(VLOOKUP(AA$6+$BO$47,$D$48:$BO$77,62,FALSE)=\"\",\"\",VLOOKUP(AA$6+$BO$47,$D$48:$BO$77,62,FALSE))","v":2.696482501999032E-2},null,{"$f":"IF(VLOOKUP(AC$6+$BO$47,$D$48:$BO$77,62,FALSE)=\"\",\"\",VLOOKUP(AC$6+$BO$47,$D$48:$BO$77,62,FALSE))","v":2.1319473759094831E-2},null,{"$f":"IF(VLOOKUP(AE$6+$BO$47,$D$48:$BO$77,62,FALSE)=\"\",\"\",VLOOKUP(AE$6+$BO$47,$D$48:$BO$77,62,FALSE))","v":2.3641323948022579E-2},null,{"$f":"IF(VLOOKUP(AG$6+$BO$47,$D$48:$BO$77,62,FALSE)=\"\",\"\",VLOOKUP(AG$6+$BO$47,$D$48:$BO$77,62,FALSE))","v":0.11813138491168761},null,{"$f":"IF(VLOOKUP(AI$6+$BO$47,$D$48:$BO$77,62,FALSE)=\"\",\"\",VLOOKUP(AI$6+$BO$47,$D$48:$BO$77,62,FALSE))","v":0.12844419802672649},null,{"$f":"IF(VLOOKUP(AK$6+$BO$47,$D$48:$BO$77,62,FALSE)=\"\",\"\",VLOOKUP(AK$6+$BO$47,$D$48:$BO$77,62,FALSE))","v":4.3474349053905001E-2},null,{"$f":"IF(VLOOKUP(AM$6+$BO$47,$D$48:$BO$77,62,FALSE)=\"\",\"\",VLOOKUP(AM$6+$BO$47,$D$48:$BO$77,62,FALSE))","v":1.758064684530021E-2},null,{"$f":"IF(VLOOKUP(AO$6+$BO$47,$D$48:$BO$77,62,FALSE)=\"\",\"\",VLOOKUP(AO$6+$BO$47,$D$48:$BO$77,62,FALSE))","v":0.1005176337635139},null,{"$f":"IF(VLOOKUP(AQ$6+$BO$47,$D$48:$BO$77,62,FALSE)=\"\",\"\",VLOOKUP(AQ$6+$BO$47,$D$48:$BO$77,62,FALSE))","v":3.2715482965311647E-2},null,{"$f":"IF(VLOOKUP(AS$6+$BO$47,$D$48:$BO$77,62,FALSE)=\"\",\"\",VLOOKUP(AS$6+$BO$47,$D$48:$BO$77,62,FALSE))","v":""},null,{"$f":"IF(VLOOKUP(AU$6+$BO$47,$D$48:$BO$77,62,FALSE)=\"\",\"\",VLOOKUP(AU$6+$BO$47,$D$48:$BO$77,62,FALSE))","v":""},null,{"$f":"IF(VLOOKUP(AW$6+$BO$47,$D$48:$BO$77,62,FALSE)=\"\",\"\",VLOOKUP(AW$6+$BO$47,$D$48:$BO$77,62,FALSE))","v":""},null,{"$f":"IF(VLOOKUP(AY$6+$BO$47,$D$48:$BO$77,62,FALSE)=\"\",\"\",VLOOKUP(AY$6+$BO$47,$D$48:$BO$77,62,FALSE))","v":""},null,{"$f":"IF(VLOOKUP(BA$6+$BO$47,$D$48:$BO$77,62,FALSE)=\"\",\"\",VLOOKUP(BA$6+$BO$47,$D$48:$BO$77,62,FALSE))","v":""},null,{"$f":"IF(VLOOKUP(BC$6+$BO$47,$D$48:$BO$77,62,FALSE)=\"\",\"\",VLOOKUP(BC$6+$BO$47,$D$48:$BO$77,62,FALSE))","v":""},null,{"$f":"IF(VLOOKUP(BE$6+$BO$47,$D$48:$BO$77,62,FALSE)=\"\",\"\",VLOOKUP(BE$6+$BO$47,$D$48:$BO$77,62,FALSE))","v":""},null,{"$f":"IF(VLOOKUP(BG$6+$BO$47,$D$48:$BO$77,62,FALSE)=\"\",\"\",VLOOKUP(BG$6+$BO$47,$D$48:$BO$77,62,FALSE))","v":""},null,{"$f":"IF(VLOOKUP(BI$6+$BO$47,$D$48:$BO$77,62,FALSE)=\"\",\"\",VLOOKUP(BI$6+$BO$47,$D$48:$BO$77,62,FALSE))","v":""},null,{"$f":"IF(VLOOKUP(BK$6+$BO$47,$D$48:$BO$77,62,FALSE)=\"\",\"\",VLOOKUP(BK$6+$BO$47,$D$48:$BO$77,62,FALSE))","v":""}]
[null,null,"States","Scaling","Magnitude (rad)","Phase (deg)","Magnitude (rad)","Phase (deg)","Magnitude (rad)","Phase (deg)","Magnitude (rad)","Phase (deg)","Magnitude (rad)","Phase (deg)","Magnitude (rad)","Phase (deg)","Magnitude (rad)","Phase (deg)","Magnitude (rad)","Phase (deg)","Magnitude (rad)","Phase (deg)","Magnitude (rad)","Phase (deg)","Magnitude (rad)","Phase (deg)","Magnitude (rad)","Phase (deg)","Magnitude (rad)","Phase (deg)","Magnitude (rad)","Phase (deg)","Magnitude (rad)","Phase (deg)","Magnitude (rad)","Phase (deg)","Magnitude (rad)","Phase (deg)","Magnitude (rad)","Phase (deg)","Magnitude (rad)","Phase (deg)","Magnitude (rad)","Phase (deg)","Magnitude (rad)","Phase (deg)","Magnitude (rad)","Phase (deg)","Magnitude (rad)","Phase (deg)","Magnitude (rad)","Phase (deg)","Magnitude (rad)","Phase (deg)","Magnitude (rad)","Phase (deg)","Magnitude (rad)","Phase (deg)","Magnitude (rad)","Phase (deg)","Magnitude (rad)","Phase (deg)","Magnitude (rad)","Phase (deg)"]
[null,1,"ED Platform horizontal surge translation DOF (internal DOF index = DOF_Sg), m",1,{"$f":"IF(HLOOKUP(E$6+$BO$47,$E$47:$AH$77,$B11+1,FALSE)=\"\",\"\",HLOOKUP(E$6+$BO$47,$E$47:$AH$77,$B11+1,FALSE)*$D11)","v":0.99881068031527653},{"$f":"IF(HLOOKUP(E$6+$BO$47,$AI$47:$BL$77,$B11+1,FALSE)=\"\",\"\",HLOOKUP(E$6+$BO$47,$AI$47:$BL$77,$B11+1,FALSE))","v":180},{"$f":"IF(HLOOKUP(G$6+$BO$47,$E$47:$AH$77,$B11+1,FALSE)=\"\",\"\",HLOOKUP(G$6+$BO$47,$E$47:$AH$77,$B11+1,FALSE)*$D11)","v":2.0924011918796912E-3},{"$f":"IF(HLOOKUP(G$6+$BO$47,$AI$47:$BL$77,$B11+1,FALSE)=\"\",\"\",HLOOKUP(G$6+$BO$47,$AI$47:$BL$77,$B11+1,FALSE))","v":37.5178812744794},{"$f":"IF(HLOOKUP(I$6+$BO$47,$E$47:$AH$77,$B11+1,FALSE)=\"\",\"\",HLOOKUP(I$6+$BO$47,$E$47:$AH$77,$B11+1,FALSE)*$D11)","v":3.9487384636472327E-2},{"$f":"IF(HLOOKUP(I$6+$BO$47,$AI$47:$BL$77,$B11+1,FALSE)=\"\",\"\",HLOOKUP(I$6+$BO$47,$AI$47:$BL$77,$B11+1,FALSE))","v":144.02197170690241},{"$f":"IF(HLOOKUP(K$6+$BO$47,$E$47:$AH$77,$B11+1,FALSE)=\"\",\"\",HLOOKUP(K$6+$BO$47,$E$47:$AH$77,$B11+1,FALSE)*$D11)","v":0.31634822700180731},{"$f":"IF(HLOOKUP(K$6+$BO$47,$AI$47:$BL$77,$B11+1,FALSE)=\"\",\"\",HLOOKUP(K$6+$BO$47,$AI$47:$BL$77,$B11+1,FALSE))","v":-90.728534966963252},{"$f":"IF(HLOOKUP(M$6+$BO$47,$E$47:$AH$77,$B11+1,FALSE)=\"\",\"\",HLOOKUP(M$6+$BO$47,$E$47:$AH$77,$B11+1,FALSE)*$D11)","v":0.32513432683498023},{"$f":"IF(HLOOKUP(M$6+$BO$47,$AI$47:$BL$77,$B11+1,FALSE)=\"\",\"\",HLOOKUP(M$6+$BO$47,$AI$47:$BL$77,$B11+1,FALSE))","v":-91.662321952415297},{"$f":"IF(HLOOKUP(O$6+$BO$47,$E$47:$AH$77,$B11+1,FALSE)=\"\",\"\",HLOOKUP(O$6+$BO$47,$E$47:$AH$77,$B11+1,FALSE)*$D11)","v":1.786279297802391E-3},{"$f":"IF(HLOOKUP(O$6+$BO$47,$AI$47:$BL$77,$B11+1,FALSE)=\"\",\"\",HLOOKUP(O$6+$BO$47,$AI$47:$BL$77,$B11+1,FALSE))","v":2.9658434492703618},{"$f":"IF(HLOOKUP(Q$6+$BO$47,$E$47:$AH$77,$B11+1,FALSE)=\"\",\"\",HLOOKUP(Q$6+$BO$47,$E$47:$AH$77,$B11+1,FALSE)*$D11)","v":1.26969469051218E-3},{"$f":"IF(HLOOKUP(Q$6+$BO$47,$AI$47:$BL$77,$B11+1,FALSE)=\"\",\"\",HLOOKUP(Q$6+$BO$47,$AI$47:$BL$77,$B11+1,FALSE))","v":97.557958778120707},{"$f":"IF(HLOOKUP(S$6+$BO$47,$E$47:$AH$77,$B11+1,FALSE)=\"\",\"\",HLOOKUP(S$6+$BO$47,$E$47:$AH$77,$B11+1,FALSE)*$D11)","v":8.053998166790403E-4},{"$f":"IF(HLOOKUP(S$6+$BO$47,$AI$47:$BL$77,$B11+1,FALSE)=\"\",\"\",HLOOKUP(S$6+$BO$47,$AI$47:$BL$77,$B11+1,FALSE))","v":28.654166862665949},{"$f":"IF(HLOOKUP(U$6+$BO$47,$E$47:$AH$77,$B11+1,FALSE)=\"\",\"\",HLOOKUP(U$6+$BO$47,$E$47:$AH$77,$B11+1,FALSE)*$D11)","v":1.514559403372976E-3},{"$f":"IF(HLOOKUP(U$6+$BO$47,$AI$47:$BL$77,$B11+1,FALSE)=\"\",\"\",HLOOKUP(U$6+$BO$47,$AI$47:$BL$77,$B11+1,FALSE))","v":173.7784338565327},{"$f":"IF(HLOOKUP(W$6+$BO$47,$E$47:$AH$77,$B11+1,FALSE)=\"\",\"\",HLOOKUP(W$6+$BO$47,$E$47:$AH$77,$B11+1,FALSE)*$D11)","v":6.1785069023201139E-4},{"$f":"IF(HLOOKUP(W$6+$BO$47,$AI$47:$BL$77,$B11+1,FALSE)=\"\",\"\",HLOOKUP(W$6+$BO$47,$AI$47:$BL$77,$B11+1,FALSE))","v":-131.27143431364891},{"$f":"IF(HLOOKUP(Y$6+$BO$47,$E$47:$AH$77,$B11+1,FALSE)=\"\",\"\",HLOOKUP(Y$6+$BO$47,$E$47:$AH$77,$B11+1,FALSE)*$D11)","v":2.6474675423969457E-4},{"$f":"IF(HLOOKUP(Y$6+$BO$47,$AI$47:$BL$77,$B11+1,FALSE)=\"\",\"\",HLOOKUP(Y$6+$BO$47,$AI$47:$BL$77,$B11+1,FALSE))","v":84.025621125880434},{"$f":"IF(HLOOKUP(AA$6+$BO$47,$E$47:$AH$77,$B11+1,FALSE)=\"\",\"\",HLOOKUP(AA$6+$BO$47,$E$47:$AH$77,$B11+1,FALSE)*$D11)","v":6.0656744876993931E-5},{"$f":"IF(HLOOKUP(AA$6+$BO$47,$AI$47:$BL$77,$B11+1,FALSE)=\"\",\"\",HLOOKUP(AA$6+$BO$47,$AI$47:$BL$77,$B11+1,FALSE))","v":-16.504753955547539},{"$f":"IF(HLOOKUP(AC$6+$BO$47,$E$47:$AH$77,$B11+1,FALSE)=\"\",\"\",HLOOKUP(AC$6+$BO$47,$E$47:$AH$77,$B11+1,FALSE)*$D11)","v":1.188938513999239E-4},{"$f":"IF(HLOOKUP(AC$6+$BO$47,$AI$47:$BL$77,$B11+1,FALSE)=\"\",\"\",HLOOKUP(AC$6+$BO$47,$AI$47:$BL$77,$B11+1,FALSE))","v":-87.41381312749057},{"$f":"IF(HLOOKUP(AE$6+$BO$47,$E$47:$AH$77,$B11+1,FALSE)=\"\",\"\",HLOOKUP(AE$6+$BO$47,$E$47:$AH$77,$B11+1,FALSE)*$D11)","v":3.0705692461463737E-5},{"$f":"IF(HLOOKUP(AE$6+$BO$47,$AI$47:$BL$77,$B11+1,FALSE)=\"\",\"\",HLOOKUP(AE$6+$BO$47,$AI$47:$BL$77,$B11+1,FALSE))","v":-161.4077230532256},{"$f":"IF(HLOOKUP(AG$6+$BO$47,$E$47:$AH$77,$B11+1,FALSE)=\"\",\"\",HLOOKUP(AG$6+$BO$47,$E$47:$AH$77,$B11+1,FALSE)*$D11)","v":1.0983198670496081E-6},{"$f":"IF(HLOOKUP(AG$6+$BO$47,$AI$47:$BL$77,$B11+1,FALSE)=\"\",\"\",HLOOKUP(AG$6+$BO$47,$AI$47:$BL$77,$B11+1,FALSE))","v":47.809902266831863},{"$f":"IF(HLOOKUP(AI$6+$BO$47,$E$47:$AH$77,$B11+1,FALSE)=\"\",\"\",HLOOKUP(AI$6+$BO$47,$E$47:$AH$77,$B11+1,FALSE)*$D11)","v":6.6596176688811851E-8},{"$f":"IF(HLOOKUP(AI$6+$BO$47,$AI$47:$BL$77,$B11+1,FALSE)=\"\",\"\",HLOOKUP(AI$6+$BO$47,$AI$47:$BL$77,$B11+1,FALSE))","v":-26.827317029777291},{"$f":"IF(HLOOKUP(AK$6+$BO$47,$E$47:$AH$77,$B11+1,FALSE)=\"\",\"\",HLOOKUP(AK$6+$BO$47,$E$47:$AH$77,$B11+1,FALSE)*$D11)","v":4.1204411313029581E-6},{"$f":"IF(HLOOKUP(AK$6+$BO$47,$AI$47:$BL$77,$B11+1,FALSE)=\"\",\"\",HLOOKUP(AK$6+$BO$47,$AI$47:$BL$77,$B11+1,FALSE))","v":-9.5221050397340612},{"$f":"IF(HLOOKUP(AM$6+$BO$47,$E$47:$AH$77,$B11+1,FALSE)=\"\",\"\",HLOOKUP(AM$6+$BO$47,$E$47:$AH$77,$B11+1,FALSE)*$D11)","v":6.2337295001062641E-7},{"$f":"IF(HLOOKUP(AM$6+$BO$47,$AI$47:$BL$77,$B11+1,FALSE)=\"\",\"\",HLOOKUP(AM$6+$BO$47,$AI$47:$BL$77,$B11+1,FALSE))","v":-94.333501525151419},{"$f":"IF(HLOOKUP(AO$6+$BO$47,$E$47:$AH$77,$B11+1,FALSE)=\"\",\"\",HLOOKUP(AO$6+$BO$47,$E$47:$AH$77,$B11+1,FALSE)*$D11)","v":1.108249576993614E-6},{"$f":"IF(HLOOKUP(AO$6+$BO$47,$AI$47:$BL$77,$B11+1,FALSE)=\"\",\"\",HLOOKUP(AO$6+$BO$47,$AI$47:$BL$77,$B11+1,FALSE))","v":-152.3066368881571},{"$f":"IF(HLOOKUP(AQ$6+$BO$47,$E$47:$AH$77,$B11+1,FALSE)=\"\",\"\",HLOOKUP(AQ$6+$BO$47,$E$47:$AH$77,$B11+1,FALSE)*$D11)","v":4.9512236518864957E-8},{"$f":"IF(HLOOKUP(AQ$6+$BO$47,$AI$47:$BL$77,$B11+1,FALSE)=\"\",\"\",HLOOKUP(AQ$6+$BO$47,$AI$47:$BL$77,$B11+1,FALSE))","v":165.0441558559063},{"$f":"IF(HLOOKUP(AS$6+$BO$47,$E$47:$AH$77,$B11+1,FALSE)=\"\",\"\",HLOOKUP(AS$6+$BO$47,$E$47:$AH$77,$B11+1,FALSE)*$D11)","v":""},{"$f":"IF(HLOOKUP(AS$6+$BO$47,$AI$47:$BL$77,$B11+1,FALSE)=\"\",\"\",HLOOKUP(AS$6+$BO$47,$AI$47:$BL$77,$B11+1,FALSE))","v":""},{"$f":"IF(HLOOKUP(AU$6+$BO$47,$E$47:$AH$77,$B11+1,FALSE)=\"\",\"\",HLOOKUP(AU$6+$BO$47,$E$47:$AH$77,$B11+1,FALSE)*$D11)","v":""},{"$f":"IF(HLOOKUP(AU$6+$BO$47,$AI$47:$BL$77,$B11+1,FALSE)=\"\",\"\",HLOOKUP(AU$6+$BO$47,$AI$47:$BL$77,$B11+1,FALSE))","v":""},{"$f":"IF(HLOOKUP(AW$6+$BO$47,$E$47:$AH$77,$B11+1,FALSE)=\"\",\"\",HLOOKUP(AW$6+$BO$47,$E$47:$AH$77,$B11+1,FALSE)*$D11)","v":""},{"$f":"IF(HLOOKUP(AW$6+$BO$47,$AI$47:$BL$77,$B11+1,FALSE)=\"\",\"\",HLOOKUP(AW$6+$BO$47,$AI$47:$BL$77,$B11+1,FALSE))","v":""},{"$f":"IF(HLOOKUP(AY$6+$BO$47,$E$47:$AH$77,$B11+1,FALSE)=\"\",\"\",HLOOKUP(AY$6+$BO$47,$E$47:$AH$77,$B11+1,FALSE)*$D11)","v":""},{"$f":"IF(HLOOKUP(AY$6+$BO$47,$AI$47:$BL$77,$B11+1,FALSE)=\"\",\"\",HLOOKUP(AY$6+$BO$47,$AI$47:$BL$77,$B11+1,FALSE))","v":""},{"$f":"IF(HLOOKUP(BA$6+$BO$47,$E$47:$AH$77,$B11+1,FALSE)=\"\",\"\",HLOOKUP(BA$6+$BO$47,$E$47:$AH$77,$B11+1,FALSE)*$D11)","v":""},{"$f":"IF(HLOOKUP(BA$6+$BO$47,$AI$47:$BL$77,$B11+1,FALSE)=\"\",\"\",HLOOKUP(BA$6+$BO$47,$AI$47:$BL$77,$B11+1,FALSE))","v":""},{"$f":"IF(HLOOKUP(BC$6+$BO$47,$E$47:$AH$77,$B11+1,FALSE)=\"\",\"\",HLOOKUP(BC$6+$BO$47,$E$47:$AH$77,$B11+1,FALSE)*$D11)","v":""},{"$f":"IF(HLOOKUP(BC$6+$BO$47,$AI$47:$BL$77,$B11+1,FALSE)=\"\",\"\",HLOOKUP(BC$6+$BO$47,$AI$47:$BL$77,$B11+1,FALSE))","v":""},{"$f":"IF(HLOOKUP(BE$6+$BO$47,$E$47:$AH$77,$B11+1,FALSE)=\"\",\"\",HLOOKUP(BE$6+$BO$47,$E$47:$AH$77,$B11+1,FALSE)*$D11)","v":""},{"$f":"IF(HLOOKUP(BE$6+$BO$47,$AI$47:$BL$77,$B11+1,FALSE)=\"\",\"\",HLOOKUP(BE$6+$BO$47,$AI$47:$BL$77,$B11+1,FALSE))","v":""},{"$f":"IF(HLOOKUP(BG$6+$BO$47,$E$47:$AH$77,$B11+1,FALSE)=\"\",\"\",HLOOKUP(BG$6+$BO$47,$E$47:$AH$77,$B11+1,FALSE)*$D11)","v":""},{"$f":"IF(HLOOKUP(BG$6+$BO$47,$AI$47:$BL$77,$B11+1,FALSE)=\"\",\"\",HLOOKUP(BG$6+$BO$47,$AI$47:$BL$77,$B11+1,FALSE))","v":""},{"$f":"IF(HLOOKUP(BI$6+$BO$47,$E$47:$AH$77,$B11+1,FALSE)=\"\",\"\",HLOOKUP(BI$6+$BO$47,$E$47:$AH$77,$B11+1,FALSE)*$D11)","v":""},{"$f":"IF(HLOOKUP(BI$6+$BO$47,$AI$47:$BL$77,$B11+1,FALSE)=\"\",\"\",HLOOKUP(BI$6+$BO$47,$AI$47:$BL$77,$B11+1,FALSE))","v":""},{"$f":"IF(HLOOKUP(BK$6+$BO$47,$E$47:$AH$77,$B11+1,FALSE)=\"\",\"\",HLOOKUP(BK$6+$BO$47,$E$47:$AH$77,$B11+1,FALSE)*$D11)","v":""},{"$f":"IF(HLOOKUP(BK$6+$BO$47,$AI$47:$BL$77,$B11+1,FALSE)=\"\",\"\",HLOOKUP(BK$6+$BO$47,$AI$47:$BL$77,$B11+1,FALSE))","v":""},{"$f":"MAX(E11,G11,I11,K11,M11,O11,Q11,S11,U11,W11,Y11,AA11,AC11,AE11,AG11,AI11,AK11,AM11,AO11,AQ11,AS11,AU11,AW11,AY11,BA11,BC11,BE11,BG11,BI11,BK11)","v":0.99881068031527653},{"$f":"MATCH($BM11,E11:BK11,0)+4","v":5},{"$f":"INDIRECT(SUBSTITUTE(ADDRESS(1,$BN11,4),\"1\",\"7\"))","v":7.7464588381792087E-3}]
[null,{"$f":"B11+1","v":2},"ED Platform horizontal sway translation DOF (internal DOF index = DOF_Sw), m",1,3.1047959270682959E-3,92.272688166503841,0.99879155484141457,0,0.10800834492072101,33.987330979564803,0.31672913263642982,173.45353155914299,0.30348406833179509,-13.89331405811898,1.098034364100099E-5,25.731292504592801,2.4257829571700619E-4,2.9015528209990422,6.6435781954612668E-3,92.647979416176781,4.5989368683884003E-5,-130.77019901051921,2.0723720513015839E-4,157.87066549073279,1.2982499334996609E-4,-147.7224929400268,6.785013685621762E-4,-93.271155176502347,4.0375114104513888E-5,10.86433637563642,5.2407572676660753E-5,-90.043718619845961,1.9703283506756361E-7,-50.47200629132395,7.9403679744166766E-8,-37.978232054244707,2.225142317698481E-7,113.5870526418289,1.9221832349544019E-5,-151.9619631458894,2.2080244843612491E-7,-90.174163994867897,1.2693341452564261E-7,79.555659260362603,"","","","","","","","","","","","","","","","","","","","",0.99879155484141457,7,{"$f":"INDIRECT(SUBSTITUTE(ADDRESS(1,$BN12,4),\"1\",\"7\"))","v":7.8217885214271754E-3}]
[null,3,"ED Platform vertical heave translation DOF (internal DOF index = DOF_Hv), m",1,1.4763256663907889E-4,-179.260998592346,8.1501325510952776E-7,80.904516188157046,1.7172811529193169E-3,77.815366779276303,1.1340849615584681E-2,-92.474320658379341,1.189467670617787E-2,-93.198192935522499,0.95289137101254728,180,3.9007207376611042E-5,95.167439633936922,2.079594816007564E-5,99.895312039505214,6.2983132872176481E-5,178.9300705651525,2.8593477536421239E-5,101.73032644864,2.417980866715798E-5,89.810469002768954,4.4264153819891459E-6,-137.06196501520779,3.4701195183573368E-6,131.13129970299349,2.439863948125435E-5,-1.798545922546894,2.1610046828375941E-7,-122.9211941284703,2.4269326099777551E-8,-131.32299699460299,8.8298520377339504E-7,172.40373405758081,1.783413875410158E-7,78.931830368515705,2.5313508002646708E-7,34.263229281430718,1.6436862077585061E-8,-6.2520168642628526,"","","","","","","","","","","","","","","","","","","","",0.95289137101254728,15,{"$f":"INDIRECT(SUBSTITUTE(ADDRESS(1,$BN13,4),\"1\",\"7\"))","v":5.0577280560733247E-2}]
[null,4,"ED Platform roll tilt rotation DOF (internal DOF index = DOF_R), rad",1,6.3392455858575869E-6,142.00827151984029,5.3757024990669627E-4,-1.3090154770847939,7.5719535056179444E-3,-96.63935923337074,5.4444318199941583E-2,-6.1078613657379748,5.2495641287986908E-2,166.40123436298069,2.283114436341229E-6,-141.40950171734619,1.493337414081905E-5,-177.13514532257179,3.9569546867359619E-4,-87.262079409830605,2.967331024457163E-6,54.783325473912647,1.2279522982541559E-5,-21.821570853118089,6.8476260883313229E-6,32.167608785195348,3.4993055590063228E-5,86.562484449134843,2.081476926144726E-6,-168.89112090883779,2.767927378031141E-6,89.706354025909889,8.4189237872047134E-9,128.46728138496599,3.3358608822689079E-9,140.9315215148749,9.3487965953183972E-9,-66.567971099926098,7.9839858749479971E-7,27.999597064722359,9.1615169442401332E-9,88.997345441205397,4.7749884090721763E-9,-100.9354155568999,"","","","","","","","","","","","","","","","","","","","",5.4444318199941583E-2,11,{"$f":"INDIRECT(SUBSTITUTE(ADDRESS(1,$BN14,4),\"1\",\"7\"))","v":3.6075583027220942E-2}]
[null,5,"ED Platform pitch tilt rotation DOF (internal DOF index = DOF_P), rad",1,5.504955156402947E-4,-1.4260031909473201,4.0719612388041794E-6,-32.483857914278417,2.5003711360497239E-3,-177.6183042999935,5.44102565112407E-2,-90.751394536140765,5.6025977702048813E-2,-91.917359919939074,2.8316609094607598E-4,3.1642449191887652,7.8230395677508256E-5,97.172969427031489,4.7870726055552202E-5,28.774028923071079,8.625110413791758E-5,173.49799616879861,3.4524148272793461E-5,-131.61362647682341,1.5000674651901339E-5,84.030343990687115,3.26989121587028E-6,-17.703629279594519,6.0354971118852632E-6,-87.452922771158214,1.5719415832171279E-6,-162.12218634792771,4.7014105993268107E-8,46.872404606379213,2.8146511844516651E-9,-28.678078084184541,1.7366563707539559E-7,-9.8012845678712122,2.6033989839772621E-8,-94.380684103816677,4.6253841800770619E-8,-153.09000059444381,1.9018571665384041E-9,164.81613918434789,"","","","","","","","","","","","","","","","","","","","",5.6025977702048813E-2,13,{"$f":"INDIRECT(SUBSTITUTE(ADDRESS(1,$BN15,4),\"1\",\"7\"))","v":3.6207325232479617E-2}]
[null,6,"ED Platform yaw rotation DOF (internal DOF index = DOF_Y), rad",1,6.0203102867794103E-5,75.313982254756155,1.7231321614278469E-4,-31.765991834003419,0.25185689468152961,-104.6230719659673,4.4592441282490358E-3,-174.57351234829,4.6586253399053548E-4,-95.474413736877352,9.0938319954801628E-6,-126.21185056056009,7.1055691310050391E-6,179.587903140827,1.631914354798928E-6,-115.7913035103566,3.1846927499700789E-6,100.48629314095081,2.0539695418847561E-6,147.3876805729185,5.8371248699578749E-7,13.110677811792121,1.252188038238107E-6,89.291161601444557,1.0096789861795869E-6,1.5694137837867539,1.241757968287294E-7,-31.943876659852211,4.0674041615193734E-9,-86.06869705363296,9.4310160946824957E-11,50.842387732121367,2.196855756780462E-9,91.306626003115881,2.3572758703489749E-8,-158.4944316990653,2.1373558798539199E-9,-168.78707478261711,1.1573994555666951E-8,-102.5144005206339,"","","","","","","","","","","","","","","","","","","","",0.25185689468152961,9,{"$f":"INDIRECT(SUBSTITUTE(ADDRESS(1,$BN16,4),\"1\",\"7\"))","v":1.1913094189272109E-2}]
[null,7,"ED 1st tower fore-aft bending mode DOF (internal DOF index = DOF_TFA1), m",6.9206546939340457E-3,5.996615343286684E-6,-5.6679705591160223,1.3264769748118523E-7,-71.030785103919186,2.0667472577514875E-4,179.9211709975161,1.7972368711093143E-3,-89.81112546383352,1.8348702548506126E-3,-90.450488847481495,1.6343933451160787E-6,155.02533385952071,1.4507172231704597E-4,-82.487267016027658,9.4064197236616633E-5,-148.13992462716081,1.7254016873008063E-4,-6.3288237478280829,7.0999467629577208E-5,48.808249800523122,5.1668307894761899E-5,-93.64040442580081,1.1009208235437129E-5,152.94032557322629,1.4106589458771894E-5,93.039156346846397,4.2656195236239491E-6,15.826222146062859,4.4456790252279113E-8,-150.04131713869,2.7494866499011021E-8,86.720006329053589,1.1239939648794081E-7,161.69866067264479,7.5980370339231731E-9,138.06526528945079,2.4759851892378502E-8,-1.2465822620375659,2.502623150428049E-9,138.52291902709629,"","","","","","","","","","","","","","","","","","","","",1.8348702548506126E-3,13,{"$f":"INDIRECT(SUBSTITUTE(ADDRESS(1,$BN17,4),\"1\",\"7\"))","v":3.6207325232479617E-2}]
[null,8,"ED 1st tower side-to-side bending mode DOF (internal DOF index = DOF_TSS1), m",6.9206546939340457E-3,1.5258532752648707E-7,120.7166240690524,5.7317627410360829E-6,-4.764249946804858,3.4466785503622216E-4,-96.995151473288388,1.8025887736184657E-3,-5.207055520520246,1.7169794746119034E-3,167.7370833102423,8.5372202552449351E-8,10.671646750685429,2.6580016328795259E-5,2.4970492104814279,7.6571334207692365E-4,92.714740891243338,9.162390127128461E-6,-103.2618710699966,3.4147243333321703E-5,161.50179289844641,1.4304407524660409E-5,-145.65488242654931,7.6495974713382318E-5,-93.712189298333044,6.4418967985210783E-6,14.4065417114683,1.2457305792127359E-5,-90.448556699465826,4.0897980865484587E-8,-70.769303811628333,1.7063830007807654E-9,-48.200116030916163,2.3704438151280318E-8,100.9326811933725,5.356337093176383E-7,-156.75643530640119,2.5861726192070116E-8,-158.679467139612,4.1739995887656451E-7,-100.24354877849591,"","","","","","","","","","","","","","","","","","","","",1.8025887736184657E-3,11,{"$f":"INDIRECT(SUBSTITUTE(ADDRESS(1,$BN18,4),\"1\",\"7\"))","v":3.6075583027220942E-2}]
[null,9,"ED 2nd tower fore-aft bending mode DOF (internal DOF index = DOF_TFA2), m",6.9206546939340457E-3,1.5642468205091948E-8,-6.171418356634395,1.7491619477123873E-9,68.989161423861489,2.9745161769450782E-6,-5.6368161008270308E-2,3.4205304359911773E-6,-90.88604402311428,3.8875950711134002E-6,-91.84304650707783,3.7487536201004162E-7,0.71398845210983719,1.1397279890430118E-6,93.070894964228458,4.0223098853758604E-7,35.268646251007603,2.5512493901868671E-7,34.636831350987087,3.4967518489162097E-7,68.025639651746857,1.4433324236469075E-8,95.94660674635513,1.1827084627758642E-7,-175.09734877964749,5.5841905367648816E-7,95.218406274255912,1.8163315507444208E-7,23.585440628909559,4.8394442900316579E-8,-124.41874287412151,3.174181377940359E-9,176.06925801083759,2.0262129714105808E-7,172.68411871925019,3.6840751296212155E-8,77.145876792834599,5.8635362679981485E-8,33.282558780981297,4.077260324411536E-9,-15.890632058060371,"","","","","","","","","","","","","","","","","","","","",3.8875950711134002E-6,13,{"$f":"INDIRECT(SUBSTITUTE(ADDRESS(1,$BN19,4),\"1\",\"7\"))","v":3.6207325232479617E-2}]
[null,10,"ED 2nd tower side-to-side bending mode DOF (internal DOF index = DOF_TSS2), m",6.9206546939340457E-3,3.3939666264015501E-10,-133.52536744904839,1.5483491339103421E-8,-4.6963917075093464,6.3353505384609533E-7,-97.928346589877322,3.2719866887830758E-6,-6.2105607467972419,3.5964627225046803E-6,167.88198631285491,1.4797190157402361E-9,-77.857059217220836,1.8657939437441563E-7,-178.58615141355429,3.479312159753762E-6,-87.396163756655184,1.2520436684442614E-7,92.957675142002287,1.7610178252211569E-7,-11.081158683157851,3.0386563284779672E-7,-143.75343093796641,2.3863964225363761E-6,-88.725326851920883,1.4608536486386447E-7,12.25595370873323,1.5351979796536384E-7,-82.988702610538624,7.7773643026695942E-9,-41.68517951953794,3.8578602202980426E-9,-30.634833093463872,1.1171579922231413E-8,122.24916361696739,9.9722213888803676E-7,-151.48544396687251,1.1360834116008104E-8,-79.42885837066305,2.465903105196696E-8,80.133084050103548,"","","","","","","","","","","","","","","","","","","","",3.5964627225046803E-6,13,{"$f":"INDIRECT(SUBSTITUTE(ADDRESS(1,$BN20,4),\"1\",\"7\"))","v":3.6207325232479617E-2}]
[null,11,"ED Nacelle yaw DOF (internal DOF index = DOF_Yaw), rad",1,2.0789697848029201E-7,92.625534430624043,5.0297614663757702E-7,-4.8204077191394896,3.8303164377848812E-5,-91.964282688566087,2.5216326884688873E-4,-3.1348538870087701,5.7956193154951383E-5,147.28264977315271,6.0646076851954685E-7,93.445196458016653,4.1857897724728352E-5,1.691310400650119,4.4954647861148487E-5,86.17138018125361,2.6957232203328359E-5,-78.67549084729329,1.8119299422978281E-5,-30.808612129005422,9.3626770660032651E-6,-162.36984391508039,3.0211493247303129E-5,-88.951494499063344,2.120070992427008E-5,-176.82349793304741,2.87837806707757E-6,166.6260809010933,7.7923084993641417E-7,105.5931669766933,2.4111086609646701E-8,-90.0747335960546,4.9740224321957411E-7,-84.2417738715788,3.558522559080201E-6,17.434543878384972,5.6389596875309773E-7,18.519731090458411,1.008126060315682E-5,79.710846485859363,"","","","","","","","","","","","","","","","","","","","",2.5216326884688873E-4,11,{"$f":"INDIRECT(SUBSTITUTE(ADDRESS(1,$BN21,4),\"1\",\"7\"))","v":3.6075583027220942E-2}]
[null,12,"ED 1st flapwise bending-mode DOF of blade 1 (internal DOF index = DOF_BF(1,1)), m",8.5470085470085479E-3,8.36213472580267E-6,-5.7681643763790538,5.7587506404480045E-7,78.26562164022836,1.6994457257233712E-4,-172.2178393396359,2.205488694734776E-3,-87.943716959024613,2.9188363333194113E-3,-93.062418422184962,4.5911972114254384E-5,1.5291272943519449,2.4687008391153728E-4,-80.148506464829595,5.6900647355383183E-4,145.3694248461469,5.9470859498839568E-4,-7.7133452204743644,3.069136613817899E-4,58.075100425355323,2.1138525491500491E-3,88.421849364881808,3.1128835330028286E-4,25.738269186488811,3.7809537560585038E-5,-96.130265236017266,1.5081602135451704E-5,116.24696992413909,1.8728947173995616E-6,40.852190414275292,3.7396867654239857E-4,-97.369867156741961,9.191870219076829E-6,-100.3312230084034,4.4670767927200146E-5,88.91494722937837,3.3580567761414841E-6,82.520817820347574,8.4973758626945565E-7,-80.767664505757466,"","","","","","","","","","","","","","","","","","","","",2.9188363333194113E-3,13,{"$f":"INDIRECT(SUBSTITUTE(ADDRESS(1,$BN22,4),\"1\",\"7\"))","v":3.6207325232479617E-2}]
[null,13,"ED 1st flapwise bending-mode DOF of blade 2 (internal DOF index = DOF_BF(2,1)), m",8.5470085470085479E-3,1.7203735601672224E-6,-14.980015849560891,4.3852781268907337E-6,-99.024850877613332,7.7276219848058988E-3,180,1.0635558993475685E-3,-88.960492317053337,2.5618297790803193E-4,-139.58885120851409,7.5761931287599495E-6,-173.0132467494654,2.2776724988922982E-3,-91.396604378638756,6.8956084883651755E-4,-178.86092155736489,1.352213492834748E-3,179.3482626571888,5.3377181795370905E-4,-102.3598453076732,6.1290145898977249E-6,156.20567771260681,1.6994943358203412E-4,4.8727089475217538,1.2453407058788991E-3,-91.221608420658342,1.6216603604341838E-4,36.654727125369433,2.8260155152343104E-4,-0.81508042235750566,1.568081336468554E-6,-48.396518722820822,2.7718954894284008E-4,-94.636964949319662,1.8152801785454976E-4,85.308012693260963,2.9239335104240045E-4,83.783737005844458,7.933130414449173E-6,26.211664484998359,"","","","","","","","","","","","","","","","","","","","",7.7276219848058988E-3,9,{"$f":"INDIRECT(SUBSTITUTE(ADDRESS(1,$BN23,4),\"1\",\"7\"))","v":1.1913094189272109E-2}]
[null,14,"ED 1st flapwise bending-mode DOF of blade 3 (internal DOF index = DOF_BF(3,1)), m",8.5470085470085479E-3,1.1332279886912513E-5,90.891169643829016,6.0098381029876861E-7,-14.179270779007609,4.6413592996674983E-4,-93.965325604128452,5.6766322106922102E-3,0,5.4635604261227336E-3,0,3.6960024061328585E-5,74.002799288251452,2.2208718681365224E-3,-1.759554707762663,4.6607603660752723E-4,-84.16865854449884,1.5965386373808438E-3,-91.367194768601806,6.467360859302362E-4,-16.846893157005901,2.5888672525430616E-4,-179.04236690327139,7.985326171003767E-5,-122.9677392745804,1.2179156967740685E-3,178.3694999697459,1.5312794132203909E-4,-57.169643603096837,2.919952346292671E-4,83.107462915201879,7.1935973976792067E-6,-75.16876366259423,2.4342990878772249E-4,-104.52366975314339,2.9529642385686683E-4,-93.065771284824109,1.8909605088834804E-4,2.46827717777454,2.0246169690015729E-4,-91.874793632938378,"","","","","","","","","","","","","","","","","","","","",5.6766322106922102E-3,11,{"$f":"INDIRECT(SUBSTITUTE(ADDRESS(1,$BN24,4),\"1\",\"7\"))","v":3.6075583027220942E-2}]
[null,15,"ED 1st edgewise bending-mode DOF of blade 1 (internal DOF index = DOF_BE(1,1)), m",8.5470085470085479E-3,5.2347883673869144E-7,-7.0752822832272946,1.6082019046362661E-7,164.10173351763851,3.7384102474657171E-5,83.04594360880246,3.0361476878812117E-4,-156.4484430939419,3.491767485272277E-4,-41.438517113460193,2.8904971027391226E-6,3.2997464044090159,4.071646371946137E-5,-157.14815884540411,1.7922773858000593E-3,-90.452951056233459,5.9684217725925037E-5,39.484447860271622,1.5036935761313241E-4,-7.3485061673111503,2.1909322499953114E-4,169.79097010775371,1.8622292238123009E-3,-91.545157955396149,6.7677571577898506E-5,9.150038564366838,8.9014074326910266E-5,-90.06606311177751,1.9625065203726806E-7,-168.88232036083789,2.0242447983479404E-7,-162.75871277354469,3.8181050305287235E-7,-48.543441219796662,4.6187418817035106E-5,29.68208718160788,5.6517568982847394E-7,120.9892873563772,4.5098654201889215E-6,-99.748007224227962,"","","","","","","","","","","","","","","","","","","","",1.8622292238123009E-3,27,{"$f":"INDIRECT(SUBSTITUTE(ADDRESS(1,$BN25,4),\"1\",\"7\"))","v":0.68782880904150701}]
[null,16,"ED 1st edgewise bending-mode DOF of blade 2 (internal DOF index = DOF_BE(2,1)), m",8.5470085470085479E-3,1.5478166843374763E-7,-19.958822598976681,4.3037435842961495E-6,178.5985700682339,5.0748814503044301E-4,147.81354048598089,1.3260279567231985E-3,177.0510715960439,1.3236102299041745E-3,-12.592240617530059,5.5908574525559852E-6,75.234953549979167,1.2306041432292293E-4,-55.042415960574623,1.6645319312060113E-3,-97.529462253121324,1.0761171284333335E-3,-93.1876751947527,1.6784284257906582E-3,177.2308731779905,1.1066657134786504E-4,8.8598913023849146,5.8439955311295308E-5,80.762137337448323,9.9828339286182069E-5,-15.626158822398541,1.1321764632475735E-3,-91.354674294976874,1.1541639239965532E-7,-108.0902205745668,3.1608379697062216E-8,-138.40625680807929,1.1934112476195086E-6,-163.6991583611026,3.1868931464531934E-6,31.678252319589159,5.6079612035980615E-7,49.105726906647817,1.9700584573651804E-6,79.244116522972817,"","","","","","","","","","","","","","","","","","","","",1.6784284257906582E-3,23,{"$f":"INDIRECT(SUBSTITUTE(ADDRESS(1,$BN26,4),\"1\",\"7\"))","v":0.50607749496363985}]
[null,17,"ED 1st edgewise bending-mode DOF of blade 3 (internal DOF index = DOF_BE(3,1)), m",8.5470085470085479E-3,8.429265023015575E-7,50.632502325628018,2.1874660792665797E-8,150.00854434975841,3.6523255167702169E-5,-43.206862092296099,4.0178952949187114E-4,-34.669378534690111,4.1047082421881133E-4,-27.973702835809391,1.2475727558285661E-4,179.23886234896429,1.1151594551299429E-4,21.25931748369895,1.0109061512494839E-3,-14.218212972590401,1.1897232701443771E-3,-3.9541615780948041,1.7012157099108368E-3,-91.978585981284169,1.4025190546686625E-5,-154.26923835006309,2.8473671184014218E-4,1.7234334010148979,1.0182873191923189E-4,-100.8477308718516,1.0957709762002906E-3,178.6377018095817,4.7897578742421341E-7,-112.399905839697,4.4994509934797862E-8,-143.39028435596671,2.1223954856598736E-6,173.47773214023019,1.0611222879850984E-6,-149.3251395749563,5.5661836541464297E-7,31.053311728957429,1.9582878474179375E-6,-96.263120702527644,"","","","","","","","","","","","","","","","","","","","",1.7012157099108368E-3,23,{"$f":"INDIRECT(SUBSTITUTE(ADDRESS(1,$BN27,4),\"1\",\"7\"))","v":0.50607749496363985}]
[null,18,"ED 2nd flapwise bending-mode DOF of blade 1 (internal DOF index = DOF_BF(1,2)), m",8.5470085470085479E-3,3.0983805915705396E-6,174.21318320488649,2.4544887532086372E-7,-98.860718378178987,6.1328809524126491E-5,7.2680126661438251,7.9852442239860763E-4,91.357383728443182,1.0965890415544847E-3,87.33046242435023,1.6960423204515028E-5,-178.48429537433529,6.2545007591492151E-5,98.624702612767209,1.2133187905764292E-4,-24.621542935746159,1.1940302632804625E-4,170.90530425693271,5.0262004716841935E-5,-124.4562131867211,2.3462553090425832E-5,-138.85518760443529,1.0332429714892891E-4,-75.058545565203332,2.0343284369413398E-5,-76.973788689489638,1.3637253215599599E-5,-135.78673123649381,1.9607274355301958E-6,-137.41182942417501,3.96607504259526E-4,82.620302285475944,9.7250972209073001E-6,80.924817350574429,5.1017345721024321E-5,-97.513743626261274,3.5518730931038928E-6,-96.070851589760466,1.5311992283156223E-6,90.760364555050415,"","","","","","","","","","","","","","","","","","","","",1.0965890415544847E-3,13,{"$f":"INDIRECT(SUBSTITUTE(ADDRESS(1,$BN28,4),\"1\",\"7\"))","v":3.6207325232479617E-2}]
[null,19,"ED 2nd flapwise bending-mode DOF of blade 2 (internal DOF index = DOF_BF(2,2)), m",8.5470085470085479E-3,5.6406245776788534E-7,163.04293329212331,1.5753195050339189E-6,62.485665703920439,2.5591785298601948E-3,-0.72849138784633383,3.3544517036318458E-4,62.479460106383073,9.28489154038413E-5,150.61974251794601,3.511832015264579E-6,2.1552435021402521,2.1706949161262901E-4,89.197412577727832,5.7490222877666579E-5,42.209971384563332,1.0767338506027975E-4,-163.21098583562221,1.4006438224943875E-4,-155.3907361157859,9.4680163713567952E-5,83.377775844988804,4.9821477107239841E-5,-47.566740089538129,2.2371078140142258E-5,61.28460027513978,6.5072619315830881E-5,-86.784930712614511,3.0117098382657193E-4,179.60427340323881,1.7155574407370181E-6,138.86013125663729,2.9464427315146173E-4,87.508317973672987,1.9083039623200206E-4,-94.710461470476559,3.0811537404964079E-4,-95.768978900583406,8.4152612819504703E-6,-151.0216938244404,"","","","","","","","","","","","","","","","","","","","",2.5591785298601948E-3,9,{"$f":"INDIRECT(SUBSTITUTE(ADDRESS(1,$BN29,4),\"1\",\"7\"))","v":1.1913094189272109E-2}]
[null,20,"ED 2nd flapwise bending-mode DOF of blade 3 (internal DOF index = DOF_BF(3,2)), m",8.5470085470085479E-3,3.7544945910666748E-6,-90.094169479141812,2.1238200337454472E-7,168.49245419620991,1.3912130969708983E-4,81.117127052456851,1.8800559268966838E-3,179.36967155741041,1.8011982656851804E-3,179.14685728316539,1.6199380552247865E-5,-46.191993271460191,1.9947824585612634E-4,177.34986468960889,3.2909242492018225E-5,-47.239845884769153,4.368236853499906E-5,-47.600082429162867,1.0865399432154539E-4,-73.108641750200889,4.0319577909777126E-5,159.0243118920057,7.4554071192197433E-5,64.986994588812465,8.8076791805396425E-5,-8.164979028211901,4.7160590096832803E-5,-171.33783108699831,3.1109963053761009E-4,-96.784271736985502,7.6649696131025868E-6,104.57049114015,2.5930214401290917E-4,75.488961860891976,3.0800188199140392E-4,88.992651238360509,2.0169513608782807E-4,-177.41573763249309,1.9645995236123464E-4,88.885294906219144,"","","","","","","","","","","","","","","","","","","","",1.8800559268966838E-3,11,{"$f":"INDIRECT(SUBSTITUTE(ADDRESS(1,$BN30,4),\"1\",\"7\"))","v":3.6075583027220942E-2}]
[null,21,null,{"$f":"1","v":1},"","","","","","","","","","","","","","","","","","","","","","","","","","","","","","","","","","","","","","","","","","","","","","","","","","","","","","","","","","","","",0,{"$error":"#N/A"},{"$f":"INDIRECT(SUBSTITUTE(ADDRESS(1,$BN31,4),\"1\",\"7\"))","v":{"$error":"#N/A"}}]
[null,22,null,{"$f":"1","v":1},"","","","","","","","","","","","","","","","","","","","","","","","","","","","","","","","","","","","","","","","","","","","","","","","","","","","","","","","","","","","",0,{"$error":"#N/A"},{"$f":"INDIRECT(SUBSTITUTE(ADDRESS(1,$BN32,4),\"1\",\"7\"))","v":{"$error":"#N/A"}}]
[null,23,null,{"$f":"1","v":1},"","","","","","","","","","","","","","","","","","","","","","","","","","","","","","","","","","","","","","","","","","","","","","","","","","","","","","","","","","","","",0,{"$error":"#N/A"},{"$f":"INDIRECT(SUBSTITUTE(ADDRESS(1,$BN33,4),\"1\",\"7\"))","v":{"$error":"#N/A"}}]
[null,24,null,{"$f":"1","v":1},"","","","","","","","","","","","","","","","","","","","","","","","","","","","","","","","","","","","","","","","","","","","","","","","","","","","","","","","","","","","",0,{"$error":"#N/A"},{"$f":"INDIRECT(SUBSTITUTE(ADDRESS(1,$BN34,4),\"1\",\"7\"))","v":{"$error":"#N/A"}}]
[null,25,null,{"$f":"1","v":1},"","","","","","","","","","","","","","","","","","","","","","","","","","","","","","","","","","","","","","","","","","","","","","","","","","","","","","","","","","","","",0,{"$error":"#N/A"},{"$f":"INDIRECT(SUBSTITUTE(ADDRESS(1,$BN35,4),\"1\",\"7\"))","v":{"$error":"#N/A"}}]
[null,26,null,{"$f":"1","v":1},"","","","","","","","","","","","","","","","","","","","","","","","","","","","","","","","","","","","","","","","","","","","","","","","","","","","","","","","","","","","",0,{"$error":"#N/A"},{"$f":"INDIRECT(SUBSTITUTE(ADDRESS(1,$BN36,4),\"1\",\"7\"))","v":{"$error":"#N/A"}}]
[null,27,null,{"$f":"1","v":1},"","","","","","","","","","","","","","","","","","","","","","","","","","","","","","","","","","","","","","","","","","","","","","","","","","","","","","","","","","","","",0,{"$error":"#N/A"},{"$f":"INDIRECT(SUBSTITUTE(ADDRESS(1,$BN37,4),\"1\",\"7\"))","v":{"$error":"#N/A"}}]
[null,28,null,{"$f":"1","v":1},"","","","","","","","","","","","","","","","","","","","","","","","","","","","","","","","","","","","","","","","","","","","","","","","","","","","","","","","","","","","",0,{"$error":"#N/A"},{"$f":"INDIRECT(SUBSTITUTE(ADDRESS(1,$BN38,4),\"1\",\"7\"))","v":{"$error":"#N/A"}}]
[null,29,null,{"$f":"1","v":1},"","","","","","","","","","","","","","","","","","","","","","","","","","","","","","","","","","","","","","","","","","","","","","","","","","","","","","","","","","","","",0,{"$error":"#N/A"},{"$f":"INDIRECT(SUBSTITUTE(ADDRESS(1,$BN39,4),\"1\",\"7\"))","v":{"$error":"#N/A"}}]
[null,30,null,{"$f":"1","v":1},"","","","","","","","","","","","","","","","","","","","","","","","","","","","","","","","","","","","","","","","","","","","","","","","","","","","","","","","","","","","",0,{"$error":"#N/A"},{"$f":"INDIRECT(SUBSTITUTE(ADDRESS(1,$BN40,4),\"1\",\"7\"))","v":{"$error":"#N/A"}}]
[null,null,null,null,{"$f":"MAX(E11:E40)","v":0.99881068031527653},null,{"$f":"MAX(G11:G40)","v":0.99879155484141457},null,{"$f":"MAX(I11:I40)","v":0.25185689468152961},null,{"$f":"MAX(K11:K40)","v":0.31672913263642982},null,{"$f":"MAX(M11:M40)","v":0.32513432683498023},null,{"$f":"MAX(O11:O40)","v":0.95289137101254728},null,{"$f":"MAX(Q11:Q40)","v":2.2776724988922982E-3},null,{"$f":"MAX(S11:S40)","v":6.6435781954612668E-3},null,{"$f":"MAX(U11:U40)","v":1.5965386373808438E-3},null,{"$f":"MAX(W11:W40)","v":1.7012157099108368E-3},null,{"$f":"MAX(Y11:Y40)","v":2.1138525491500491E-3},null,{"$f":"MAX(AA11:AA40)","v":1.8622292238123009E-3},null,{"$f":"MAX(AC11:AC40)","v":1.2453407058788991E-3},null,{"$f":"MAX(AE11:AE40)","v":1.1321764632475735E-3},null,{"$f":"MAX(AG11:AG40)","v":3.1109963053761009E-4},null,{"$f":"MAX(AI11:AI40)","v":3.96607504259526E-4},null,{"$f":"MAX(AK11:AK40)","v":2.9464427315146173E-4},null,{"$f":"MAX(AM11:AM40)","v":3.0800188199140392E-4},null,{"$f":"MAX(AO11:AO40)","v":3.0811537404964079E-4},null,{"$f":"MAX(AQ11:AQ40)","v":2.0246169690015729E-4},null,{"$f":"MAX(AS11:AS40)","v":0},null,{"$f":"MAX(AU11:AU40)","v":0},null,{"$f":"MAX(AW11:AW40)","v":0},null,{"$f":"MAX(AY11:AY40)","v":0},null,{"$f":"MAX(BA11:BA40)","v":0},null,{"$f":"MAX(BC11:BC40)","v":0},null,{"$f":"MAX(BE11:BE40)","v":0},null,{"$f":"MAX(BG11:BG40)","v":0},null,{"$f":"MAX(BI11:BI40)","v":0},null,{"$f":"MAX(BK11:BK40)","v":0}]
[null,null,"Green Background = Maximum value of the mode shape magnitude within a row"]
[null,null,"Red Bold Text = Maximum value of the mode shape magnitude within a column"]
[]
[]
[]
[null,null,null,null,{"$f":"D48","v":56},{"$f":"D49","v":55},{"$f":"D50","v":54},{"$f":"D51","v":53},{"$f":"D52","v":52},{"$f":"D53","v":51},{"$f":"D54","v":50},{"$f":"D55","v":49},{"$f":"D56","v":48},{"$f":"D57","v":47},{"$f":"D58","v":46},{"$f":"D59","v":45},{"$f":"D60","v":43},{"$f":"D61","v":44},{"$f":"D62","v":42},{"$f":"D63","v":41},{"$f":"D64","v":40},{"$f":"D65","v":39},{"$f":"D66","v":37},{"$f":"D67","v":38},{"$f":"D68","v":57},{"$f":"D69","v":58},{"$f":"D70","v":59},{"$f":"D71","v":60},{"$f":"D72","v":61},{"$f":"D73","v":62},{"$f":"D74","v":63},{"$f":"D75","v":64},{"$f":"D76","v":65},{"$f":"D77","v":66},{"$f":"E47","v":56},55,54,53,52,51,50,49,48,47,46,45,43,44,42,41,40,39,37,38,57,58,59,60,61,62,63,64,65,66,null,null,{"$f":"CT77+1","v":36},{"$f":"BO47+1","v":37},38,39,40,41,42,43,44,45,46,47,48,49,50,51,52,53,54,55,56,57,58,59,60,61,62,63,64,65,66]
[null,null,null,{"$f":"CS48","v":56},4.9512236518864957E-8,1.108249576993614E-6,6.2337295001062641E-7,4.1204411313029581E-6,6.6596176688811851E-8,1.0983198670496081E-6,3.0705692461463737E-5,1.188938513999239E-4,6.0656744876993931E-5,2.6474675423969457E-4,6.1785069023201139E-4,1.514559403372976E-3,1.26969469051218E-3,8.053998166790403E-4,1.786279297802391E-3,0.32513432683498023,0.31634822700180731,3.9487384636472327E-2,0.99881068031527653,2.0924011918796912E-3,null,null,null,null,null,null,null,null,null,null,165.0441558559063,-152.3066368881571,-94.333501525151419,-9.5221050397340612,-26.827317029777291,47.809902266831863,-161.4077230532256,-87.41381312749057,-16.504753955547539,84.025621125880434,-131.27143431364891,173.7784338565327,97.557958778120707,28.654166862665949,2.9658434492703618,-91.662321952415297,-90.728534966963252,144.02197170690241,180,37.5178812744794,null,null,null,null,null,null,null,null,null,null,3.2715482965311647E-2,4.8116348308214709,4.8142118528292492,{"$f":"IF(MIN(BO$48:BO$77)=$BP$47,BO48,IF(BO48=MIN(BO$48:BO$77),BP$47,IF(BO48=\"\",$CT48,BO48)))","v":4.8142118528292492},4.8142118528292492,4.8142118528292492,4.8142118528292492,4.8142118528292492,4.8142118528292492,4.8142118528292492,4.8142118528292492,4.8142118528292492,4.8142118528292492,4.8142118528292492,4.8142118528292492,4.8142118528292492,4.8142118528292492,4.8142118528292492,4.8142118528292492,4.8142118528292492,4.8142118528292492,4.8142118528292492,56,56,56,56,56,56,56,56,56,56,56,{"$f":"CEILING(MAX(BO48:BO77),1)+1","v":6}]
[null,null,null,55,1.2693341452564261E-7,2.2080244843612491E-7,1.9221832349544019E-5,2.225142317698481E-7,7.9403679744166766E-8,1.9703283506756361E-7,5.2407572676660753E-5,4.0375114104513888E-5,6.785013685621762E-4,1.2982499334996609E-4,2.0723720513015839E-4,4.5989368683884003E-5,2.4257829571700619E-4,6.6435781954612668E-3,1.098034364100099E-5,0.30348406833179509,0.31672913263642982,0.10800834492072101,3.1047959270682959E-3,0.99879155484141457,null,null,null,null,null,null,null,null,null,null,79.555659260362603,-90.174163994867897,-151.9619631458894,113.5870526418289,-37.978232054244707,-50.47200629132395,-90.043718619845961,10.86433637563642,-93.271155176502347,-147.7224929400268,157.87066549073279,-130.77019901051921,2.9015528209990422,92.647979416176781,25.731292504592801,-13.89331405811898,173.45353155914299,33.987330979564803,92.272688166503841,0,null,null,null,null,null,null,null,null,null,null,0.1005176337635139,2.6655621206245499,2.6791311780790141,{"$f":"IF(MIN(BO$48:BO$77)=$BP$47,BO49,IF(BO49=MIN(BO$48:BO$77),BP$47,IF(BO49=\"\",$CT49,BO49)))","v":2.6791311780790141},2.6791311780790141,2.6791311780790141,2.6791311780790141,2.6791311780790141,2.6791311780790141,2.6791311780790141,2.6791311780790141,2.6791311780790141,2.6791311780790141,2.6791311780790141,2.6791311780790141,2.6791311780790141,2.6791311780790141,2.6791311780790141,2.6791311780790141,2.6791311780790141,2.6791311780790141,55,55,55,55,55,55,55,55,55,55,55,55,{"$f":"CT48+1","v":7}]
[null,null,null,54,1.6436862077585061E-8,2.5313508002646708E-7,1.783413875410158E-7,8.8298520377339504E-7,2.4269326099777551E-8,2.1610046828375941E-7,2.439863948125435E-5,3.4701195183573368E-6,4.4264153819891459E-6,2.417980866715798E-5,2.8593477536421239E-5,6.2983132872176481E-5,3.9007207376611042E-5,2.079594816007564E-5,0.95289137101254728,1.189467670617787E-2,1.1340849615584681E-2,1.7172811529193169E-3,1.4763256663907889E-4,8.1501325510952776E-7,null,null,null,null,null,null,null,null,null,null,-6.2520168642628526,34.263229281430718,78.931830368515705,172.40373405758081,-131.32299699460299,-122.9211941284703,-1.798545922546894,131.13129970299349,-137.06196501520779,89.810469002768954,101.73032644864,178.9300705651525,95.167439633936922,99.895312039505214,180,-93.198192935522499,-92.474320658379341,77.815366779276303,-179.260998592346,80.904516188157046,null,null,null,null,null,null,null,null,null,null,1.758064684530021E-2,2.6720109206826912,2.6724239478521121,{"$f":"IF(MIN(BO$48:BO$77)=$BP$47,BO50,IF(BO50=MIN(BO$48:BO$77),BP$47,IF(BO50=\"\",$CT50,BO50)))","v":2.6724239478521121},2.6724239478521121,2.6724239478521121,2.6724239478521121,2.6724239478521121,2.6724239478521121,2.6724239478521121,2.6724239478521121,2.6724239478521121,2.6724239478521121,2.6724239478521121,2.6724239478521121,2.6724239478521121,2.6724239478521121,2.6724239478521121,2.6724239478521121,2.6724239478521121,54,54,54,54,54,54,54,54,54,54,54,54,54,8]
[null,null,null,53,4.7749884090721763E-9,9.1615169442401332E-9,7.9839858749479971E-7,9.3487965953183972E-9,3.3358608822689079E-9,8.4189237872047134E-9,2.767927378031141E-6,2.081476926144726E-6,3.4993055590063228E-5,6.8476260883313229E-6,1.2279522982541559E-5,2.967331024457163E-6,1.493337414081905E-5,3.9569546867359619E-4,2.283114436341229E-6,5.2495641287986908E-2,5.4444318199941583E-2,7.5719535056179444E-3,6.3392455858575869E-6,5.3757024990669627E-4,null,null,null,null,null,null,null,null,null,null,-100.9354155568999,88.997345441205397,27.999597064722359,-66.567971099926098,140.9315215148749,128.46728138496599,89.706354025909889,-168.89112090883779,86.562484449134843,32.167608785195348,-21.821570853118089,54.783325473912647,-177.13514532257179,-87.262079409830605,-141.40950171734619,166.40123436298069,-6.1078613657379748,-96.63935923337074,142.00827151984029,-1.3090154770847939,null,null,null,null,null,null,null,null,null,null,4.3474349053905001E-2,2.51717028289948,2.5195524099937199,{"$f":"IF(MIN(BO$48:BO$77)=$BP$47,BO51,IF(BO51=MIN(BO$48:BO$77),BP$47,IF(BO51=\"\",$CT51,BO51)))","v":2.5195524099937199},2.5195524099937199,2.5195524099937199,2.5195524099937199,2.5195524099937199,2.5195524099937199,2.5195524099937199,2.5195524099937199,2.5195524099937199,2.5195524099937199,2.5195524099937199,2.5195524099937199,2.5195524099937199,2.5195524099937199,2.5195524099937199,2.5195524099937199,53,53,53,53,53,53,53,53,53,53,53,53,53,53,9]
[null,null,null,52,1.9018571665384041E-9,4.6253841800770619E-8,2.6033989839772621E-8,1.7366563707539559E-7,2.8146511844516651E-9,4.7014105993268107E-8,1.5719415832171279E-6,6.0354971118852632E-6,3.26989121587028E-6,1.5000674651901339E-5,3.4524148272793461E-5,8.625110413791758E-5,7.8230395677508256E-5,4.7870726055552202E-5,2.8316609094607598E-4,5.6025977702048813E-2,5.44102565112407E-2,2.5003711360497239E-3,5.504955156402947E-4,4.0719612388041794E-6,null,null,null,null,null,null,null,null,null,null,164.81613918434789,-153.09000059444381,-94.380684103816677,-9.8012845678712122,-28.678078084184541,46.872404606379213,-162.12218634792771,-87.452922771158214,-17.703629279594519,84.030343990687115,-131.61362647682341,173.49799616879861,97.172969427031489,28.774028923071079,3.1642449191887652,-91.917359919939074,-90.751394536140765,-177.6183042999935,-1.4260031909473201,-32.483857914278417,null,null,null,null,null,null,null,null,null,null,0.12844419802672649,2.4692430309550479,2.489867254315199,{"$f":"IF(MIN(BO$48:BO$77)=$BP$47,BO52,IF(BO52=MIN(BO$48:BO$77),BP$47,IF(BO52=\"\",$CT52,BO52)))","v":2.489867254315199},2.489867254315199,2.489867254315199,2.489867254315199,2.489867254315199,2.489867254315199,2.489867254315199,2.489867254315199,2.489867254315199,2.489867254315199,2.489867254315199,2.489867254315199,2.489867254315199,2.489867254315199,2.489867254315199,52,52,52,52,52,52,52,52,52,52,52,52,52,52,52,10]
[null,null,null,51,1.1573994555666951E-8,2.1373558798539199E-9,2.3572758703489749E-8,2.196855756780462E-9,9.4310160946824957E-11,4.0674041615193734E-9,1.241757968287294E-7,1.0096789861795869E-6,1.252188038238107E-6,5.8371248699578749E-7,2.0539695418847561E-6,3.1846927499700789E-6,7.1055691310050391E-6,1.631914354798928E-6,9.0938319954801628E-6,4.6586253399053548E-4,4.4592441282490358E-3,0.25185689468152961,6.0203102867794103E-5,1.7231321614278469E-4,null,null,null,null,null,null,null,null,null,null,-102.5144005206339,-168.78707478261711,-158.4944316990653,91.306626003115881,50.842387732121367,-86.06869705363296,-31.943876659852211,1.5694137837867539,89.291161601444557,13.110677811792121,147.3876805729185,100.48629314095081,179.587903140827,-115.7913035103566,-126.21185056056009,-95.474413736877352,-174.57351234829,-104.6230719659673,75.313982254756155,-31.765991834003419,null,null,null,null,null,null,null,null,null,null,0.11813138491168761,2.26923147215973,2.285232731703128,{"$f":"IF(MIN(BO$48:BO$77)=$BP$47,BO53,IF(BO53=MIN(BO$48:BO$77),BP$47,IF(BO53=\"\",$CT53,BO53)))","v":2.285232731703128},2.285232731703128,2.285232731703128,2.285232731703128,2.285232731703128,2.285232731703128,2.285232731703128,2.285232731703128,2.285232731703128,2.285232731703128,2.285232731703128,2.285232731703128,2.285232731703128,2.285232731703128,51,51,51,51,51,51,51,51,51,51,51,51,51,51,51,51,11]
[null,null,null,50,3.6161653212110099E-7,3.5776747991892321E-6,1.0978783612167289E-6,1.6241150795525009E-5,3.9728707347745977E-6,6.4237839075030711E-6,6.1636069306604253E-4,2.0383316438452449E-3,1.590775543979488E-3,7.4658121492536212E-3,1.025906807513576E-2,2.4931191680653001E-2,2.0962138516201559E-2,1.3591806179704921E-2,2.3616166640254781E-4,0.26512957747463928,0.25969174169094039,2.9863464500880121E-2,8.6648093402820947E-4,1.9166929047543861E-5,null,null,null,null,null,null,null,null,null,null,138.52291902709629,-1.2465822620375659,138.06526528945079,161.69866067264479,86.720006329053589,-150.04131713869,15.826222146062859,93.039156346846397,152.94032557322629,-93.64040442580081,48.808249800523122,-6.3288237478280829,-82.487267016027658,-148.13992462716081,155.02533385952071,-90.450488847481495,-89.81112546383352,179.9211709975161,-5.6679705591160223,-71.030785103919186,null,null,null,null,null,null,null,null,null,null,2.3641323948022579E-2,0.83707014651887413,0.8373041689796924,{"$f":"IF(MIN(BO$48:BO$77)=$BP$47,BO54,IF(BO54=MIN(BO$48:BO$77),BP$47,IF(BO54=\"\",$CT54,BO54)))","v":0.8373041689796924},0.8373041689796924,0.8373041689796924,0.8373041689796924,0.8373041689796924,0.8373041689796924,0.8373041689796924,0.8373041689796924,0.8373041689796924,0.8373041689796924,0.8373041689796924,0.8373041689796924,0.8373041689796924,50,50,50,50,50,50,50,50,50,50,50,50,50,50,50,50,50,12]
[null,null,null,49,6.0312207057869197E-5,3.7368901261231719E-6,7.7396392827852159E-5,3.4251727906692501E-6,2.4656381169781672E-7,5.9095537451581956E-6,1.8000184004334429E-3,9.3082187790230323E-4,1.1053285866210179E-2,2.066915365275806E-3,4.9341059254483198E-3,1.323919561419427E-3,3.8406794594292712E-3,0.1106417493634051,1.233585640781617E-5,0.24809494918404701,0.26046506484400023,4.9802781713458928E-2,2.204781690093975E-5,8.2821105726600891E-4,null,null,null,null,null,null,null,null,null,null,-100.24354877849591,-158.679467139612,-156.75643530640119,100.9326811933725,-48.200116030916163,-70.769303811628333,-90.448556699465826,14.4065417114683,-93.712189298333044,-145.65488242654931,161.50179289844641,-103.2618710699966,2.4970492104814279,92.714740891243338,10.671646750685429,167.7370833102423,-5.207055520520246,-96.995151473288388,120.7166240690524,-4.764249946804858,null,null,null,null,null,null,null,null,null,null,2.1319473759094831E-2,0.75975685522975744,0.75992957643915893,{"$f":"IF(MIN(BO$48:BO$77)=$BP$47,BO55,IF(BO55=MIN(BO$48:BO$77),BP$47,IF(BO55=\"\",$CT55,BO55)))","v":0.75992957643915893},0.75992957643915893,0.75992957643915893,0.75992957643915893,0.75992957643915893,0.75992957643915893,0.75992957643915893,0.75992957643915893,0.75992957643915893,0.75992957643915893,0.75992957643915893,0.75992957643915893,49,49,49,49,49,49,49,49,49,49,49,49,49,49,49,49,49,49,13]
[null,null,null,48,5.8914373057584489E-7,8.472516730443925E-6,5.3233043585461756E-6,2.9277764330397189E-5,4.5865333820549218E-7,6.9927550268812441E-6,2.624508274248151E-5,8.068876116098416E-5,1.7089545932879851E-5,2.0855431855485991E-6,5.0526315840914773E-5,3.6864278063505142E-5,1.6468499577677E-4,5.8120366688738502E-5,5.4167615433640971E-5,5.6173804980053077E-4,4.9424954534854518E-4,4.298027149876791E-4,2.260258443294761E-6,2.5274515563470141E-7,null,null,null,null,null,null,null,null,null,null,-15.890632058060371,33.282558780981297,77.145876792834599,172.68411871925019,176.06925801083759,-124.41874287412151,23.585440628909559,95.218406274255912,-175.09734877964749,95.94660674635513,68.025639651746857,34.636831350987087,93.070894964228458,35.268646251007603,0.71398845210983719,-91.84304650707783,-90.88604402311428,-5.6368161008270308E-2,-6.171418356634395,68.989161423861489,null,null,null,null,null,null,null,null,null,null,2.696482501999032E-2,0.68757870279149524,0.68782880904150701,{"$f":"IF(MIN(BO$48:BO$77)=$BP$47,BO56,IF(BO56=MIN(BO$48:BO$77),BP$47,IF(BO56=\"\",$CT56,BO56)))","v":0.68782880904150701},0.68782880904150701,0.68782880904150701,0.68782880904150701,0.68782880904150701,0.68782880904150701,0.68782880904150701,0.68782880904150701,0.68782880904150701,0.68782880904150701,0.68782880904150701,48,48,48,48,48,48,48,48,48,48,48,48,48,48,48,48,48,48,48,14]
[null,null,null,47,3.563106691853966E-6,1.6415837255925911E-6,1.4409361295862689E-4,1.614237440862828E-6,5.5744151253196567E-7,1.1237902549142431E-6,2.2182843207005248E-5,2.1108604796004099E-5,3.4482235107439368E-4,4.3907064618342393E-5,2.544582706553311E-5,1.8091404987185358E-5,2.6959789590131191E-5,5.0274321052361985E-4,2.1381199917938541E-7,5.1967088108831382E-4,4.7278571659571059E-4,9.1542647605491557E-5,4.9041120768189202E-8,2.237287081043749E-6,null,null,null,null,null,null,null,null,null,null,80.133084050103548,-79.42885837066305,-151.48544396687251,122.24916361696739,-30.634833093463872,-41.68517951953794,-82.988702610538624,12.25595370873323,-88.725326851920883,-143.75343093796641,-11.081158683157851,92.957675142002287,-178.58615141355429,-87.396163756655184,-77.857059217220836,167.88198631285491,-6.2105607467972419,-97.928346589877322,-133.52536744904839,-4.6963917075093464,null,null,null,null,null,null,null,null,null,null,2.7540442025970328E-2,0.61290529619444201,0.61313786546392679,{"$f":"IF(MIN(BO$48:BO$77)=$BP$47,BO57,IF(BO57=MIN(BO$48:BO$77),BP$47,IF(BO57=\"\",$CT57,BO57)))","v":0.61313786546392679},0.61313786546392679,0.61313786546392679,0.61313786546392679,0.61313786546392679,0.61313786546392679,0.61313786546392679,0.61313786546392679,0.61313786546392679,0.61313786546392679,47,47,47,47,47,47,47,47,47,47,47,47,47,47,47,47,47,47,47,47,15]
[null,null,null,46,1.008126060315682E-5,5.6389596875309773E-7,3.558522559080201E-6,4.9740224321957411E-7,2.4111086609646701E-8,7.7923084993641417E-7,2.87837806707757E-6,2.120070992427008E-5,3.0211493247303129E-5,9.3626770660032651E-6,1.8119299422978281E-5,2.6957232203328359E-5,4.1857897724728352E-5,4.4954647861148487E-5,6.0646076851954685E-7,5.7956193154951383E-5,2.5216326884688873E-4,3.8303164377848812E-5,2.0789697848029201E-7,5.0297614663757702E-7,null,null,null,null,null,null,null,null,null,null,79.710846485859363,18.519731090458411,17.434543878384972,-84.2417738715788,-90.0747335960546,105.5931669766933,166.6260809010933,-176.82349793304741,-88.951494499063344,-162.36984391508039,-30.808612129005422,-78.67549084729329,1.691310400650119,86.17138018125361,93.445196458016653,147.28264977315271,-3.1348538870087701,-91.964282688566087,92.625534430624043,-4.8204077191394896,null,null,null,null,null,null,null,null,null,null,3.4525976816482777E-2,0.50577577193343959,0.50607749496363985,{"$f":"IF(MIN(BO$48:BO$77)=$BP$47,BO58,IF(BO58=MIN(BO$48:BO$77),BP$47,IF(BO58=\"\",$CT58,BO58)))","v":0.50607749496363985},0.50607749496363985,0.50607749496363985,0.50607749496363985,0.50607749496363985,0.50607749496363985,0.50607749496363985,0.50607749496363985,0.50607749496363985,46,46,46,46,46,46,46,46,46,46,46,46,46,46,46,46,46,46,46,46,46,16]
[null,null,null,45,9.9419297593526297E-5,3.9289264280855361E-4,5.2264798474824167E-3,1.0754488156319889E-3,4.3754335155460629E-2,2.1912868193574869E-4,1.7645474498478491E-3,4.4237158945884493E-3,3.6420737336133088E-2,0.24732074825055569,3.5908898381669413E-2,6.9580905613642288E-2,2.8883799817649859E-2,6.6573757405798323E-2,5.3717007373677624E-3,0.34150385099837111,0.25804217728396878,1.9883514990963441E-2,9.7836976291891227E-4,6.7377382493241645E-5,null,null,null,null,null,null,null,null,null,null,-80.767664505757466,82.520817820347574,88.91494722937837,-100.3312230084034,-97.369867156741961,40.852190414275292,116.24696992413909,-96.130265236017266,25.738269186488811,88.421849364881808,58.075100425355323,-7.7133452204743644,-80.148506464829595,145.3694248461469,1.5291272943519449,-93.062418422184962,-87.943716959024613,-172.2178393396359,-5.7681643763790538,78.26562164022836,null,null,null,null,null,null,null,null,null,null,2.3859785794225149E-2,0.4745743827574932,0.47470952553936618,{"$f":"IF(MIN(BO$48:BO$77)=$BP$47,BO59,IF(BO59=MIN(BO$48:BO$77),BP$47,IF(BO59=\"\",$CT59,BO59)))","v":0.47470952553936618},0.47470952553936618,0.47470952553936618,0.47470952553936618,0.47470952553936618,0.47470952553936618,0.47470952553936618,0.47470952553936618,45,45,45,45,45,45,45,45,45,45,45,45,45,45,45,45,45,45,45,45,45,45,17]
[null,null,null,43,9.2817625849055314E-4,3.4210022071960847E-2,2.1238778088982321E-2,3.2431177226312287E-2,1.8346551636682081E-4,3.3064381528241427E-2,1.8973426217079949E-2,0.14570486258783119,1.9884083729097991E-2,7.1709470701803379E-4,6.2451302700583952E-2,0.1582089786616655,0.26648768237039888,8.0678619313872546E-2,8.8641459606491398E-4,2.9973408415239731E-2,0.1244360402236655,0.90413177222229002,2.0128370653956499E-4,5.1307754084621582E-4,null,null,null,null,null,null,null,null,null,null,26.211664484998359,83.783737005844458,85.308012693260963,-94.636964949319662,-48.396518722820822,-0.81508042235750566,36.654727125369433,-91.221608420658342,4.8727089475217538,156.20567771260681,-102.3598453076732,179.3482626571888,-91.396604378638756,-178.86092155736489,-173.0132467494654,-139.58885120851409,-88.960492317053337,180,-14.980015849560891,-99.024850877613332,null,null,null,null,null,null,null,null,null,null,2.437293102801753E-2,0.39195992270301849,0.39207639448779957,{"$f":"IF(MIN(BO$48:BO$77)=$BP$47,BO60,IF(BO60=MIN(BO$48:BO$77),BP$47,IF(BO60=\"\",$CT60,BO60)))","v":0.39207639448779957},0.39207639448779957,0.39207639448779957,0.39207639448779957,0.39207639448779957,0.39207639448779957,43,43,43,43,43,43,43,43,43,43,43,43,43,43,43,43,43,43,43,43,43,43,43,43,18]
[null,null,null,44,2.36880185373184E-2,2.2124237953936719E-2,3.4549681591253413E-2,2.8481299328163529E-2,8.4165089552846713E-4,3.4163442451624247E-2,1.7915969134678571E-2,0.14249613652256601,9.3428316200744061E-3,3.0289746854753819E-2,7.5668122053837633E-2,0.18679502057355871,0.25984200857197309,5.4530896283080679E-2,4.3243228151754439E-3,0.63923656985635979,0.66416596865098854,5.4303903806109728E-2,1.3258767467687639E-3,7.0315105804955922E-5,null,null,null,null,null,null,null,null,null,null,-91.874793632938378,2.46827717777454,-93.065771284824109,-104.52366975314339,-75.16876366259423,83.107462915201879,-57.169643603096837,178.3694999697459,-122.9677392745804,-179.04236690327139,-16.846893157005901,-91.367194768601806,-1.759554707762663,-84.16865854449884,74.002799288251452,0,0,-93.965325604128452,90.891169643829016,-14.179270779007609,null,null,null,null,null,null,null,null,null,null,7.9054049373910099E-3,0.4258794529012,0.42589276128416559,{"$f":"IF(MIN(BO$48:BO$77)=$BP$47,BO61,IF(BO61=MIN(BO$48:BO$77),BP$47,IF(BO61=\"\",$CT61,BO61)))","v":0.42589276128416559},0.42589276128416559,0.42589276128416559,0.42589276128416559,0.42589276128416559,0.42589276128416559,0.42589276128416559,44,44,44,44,44,44,44,44,44,44,44,44,44,44,44,44,44,44,44,44,44,44,44,19]
[null,null,null,42,5.2765425416210381E-4,6.6125555709931449E-5,5.4039280015931073E-3,4.4671828857186058E-5,2.3683664140670902E-5,2.296132628836036E-5,1.0414646696248499E-2,7.9182758746141248E-3,0.21788081918603919,2.5633907324945141E-2,1.759321484073649E-2,6.9830534739332289E-3,4.7638262551769799E-3,0.20969645413860691,3.3818816102047729E-4,4.0853679577685639E-2,3.5522927948210173E-2,4.3739399895348884E-3,6.1247023898426889E-5,1.8815962284244311E-5,null,null,null,null,null,null,null,null,null,null,-99.748007224227962,120.9892873563772,29.68208718160788,-48.543441219796662,-162.75871277354469,-168.88232036083789,-90.06606311177751,9.150038564366838,-91.545157955396149,169.79097010775371,-7.3485061673111503,39.484447860271622,-157.14815884540411,-90.452951056233459,3.2997464044090159,-41.438517113460193,-156.4484430939419,83.04594360880246,-7.0752822832272946,164.10173351763851,null,null,null,null,null,null,null,null,null,null,5.6302204194200074E-3,5.0576478920112543E-2,5.0577280560733247E-2,{"$f":"IF(MIN(BO$48:BO$77)=$BP$47,BO62,IF(BO62=MIN(BO$48:BO$77),BP$47,IF(BO62=\"\",$CT62,BO62)))","v":5.0577280560733247E-2},5.0577280560733247E-2,5.0577280560733247E-2,5.0577280560733247E-2,5.0577280560733247E-2,42,42,42,42,42,42,42,42,42,42,42,42,42,42,42,42,42,42,42,42,42,42,42,42,42,20]
[null,null,null,41,2.304968395117261E-4,6.5613146082097316E-5,3.7286649813502359E-4,1.396291159714825E-4,3.6981804245562789E-6,1.350371791075967E-5,0.13246464619996609,1.1679915696483301E-2,6.8374747714215504E-3,1.2947988847700209E-2,0.19637612581750699,0.12590570402670001,1.439806847578198E-2,0.1947502359511033,6.5413032194905016E-4,0.15486239689878839,0.1551452709366142,5.9376112968561823E-2,1.8109455206748471E-5,5.0353799936264947E-4,null,null,null,null,null,null,null,null,null,null,79.244116522972817,49.105726906647817,31.678252319589159,-163.6991583611026,-138.40625680807929,-108.0902205745668,-91.354674294976874,-15.626158822398541,80.762137337448323,8.8598913023849146,177.2308731779905,-93.1876751947527,-55.042415960574623,-97.529462253121324,75.234953549979167,-12.592240617530059,177.0510715960439,147.81354048598089,-19.958822598976681,178.5985700682339,null,null,null,null,null,null,null,null,null,null,2.2718796828789769E-2,3.6197979934507143E-2,3.6207325232479617E-2,{"$f":"IF(MIN(BO$48:BO$77)=$BP$47,BO63,IF(BO63=MIN(BO$48:BO$77),BP$47,IF(BO63=\"\",$CT63,BO63)))","v":3.6207325232479617E-2},3.6207325232479617E-2,3.6207325232479617E-2,3.6207325232479617E-2,41,41,41,41,41,41,41,41,41,41,41,41,41,41,41,41,41,41,41,41,41,41,41,41,41,41,21]
[null,null,null,40,2.2911967814789869E-4,6.5124348753513219E-5,1.2415130769425649E-4,2.4832027182220521E-4,5.2643576623713493E-6,5.604016712863296E-5,0.12820520421543399,1.191396163455013E-2,3.3314195285296631E-2,1.640947293962335E-3,0.19904223805956789,0.13919762260689211,1.3047365625020331E-2,0.1182760196961896,1.4596601243194221E-2,4.8025086433600921E-2,4.7009374950548917E-2,4.2732208546211537E-3,9.8622400769282214E-5,2.5593353127418979E-6,null,null,null,null,null,null,null,null,null,null,-96.263120702527644,31.053311728957429,-149.3251395749563,173.47773214023019,-143.39028435596671,-112.399905839697,178.6377018095817,-100.8477308718516,1.7234334010148979,-154.26923835006309,-91.978585981284169,-3.9541615780948041,21.25931748369895,-14.218212972590401,179.23886234896429,-27.973702835809391,-34.669378534690111,-43.206862092296099,50.632502325628018,150.00854434975841,null,null,null,null,null,null,null,null,null,null,2.336254134990598E-2,3.6065736506446157E-2,3.6075583027220942E-2,{"$f":"IF(MIN(BO$48:BO$77)=$BP$47,BO64,IF(BO64=MIN(BO$48:BO$77),BP$47,IF(BO64=\"\",$CT64,BO64)))","v":3.6075583027220942E-2},3.6075583027220942E-2,3.6075583027220942E-2,40,40,40,40,40,40,40,40,40,40,40,40,40,40,40,40,40,40,40,40,40,40,40,40,40,40,40,22]
[null,null,null,39,1.7915030971292779E-4,4.1556915189315541E-4,5.9690294493598452E-3,1.137836374846154E-3,4.6403077998364538E-2,2.2940510995703289E-4,1.5955586262251531E-3,2.3801642712213671E-3,1.2088942766424681E-2,2.7451187115798219E-3,5.8806545518705058E-3,1.397015408038141E-2,7.3177658882045806E-3,1.419582984974422E-2,1.9843695149282582E-3,0.1283009178618747,9.3427357420637083E-2,7.1754707143227986E-3,3.6251052921375308E-4,2.8717518412541051E-5,null,null,null,null,null,null,null,null,null,null,90.760364555050415,-96.070851589760466,-97.513743626261274,80.924817350574429,82.620302285475944,-137.41182942417501,-135.78673123649381,-76.973788689489638,-75.058545565203332,-138.85518760443529,-124.4562131867211,170.90530425693271,98.624702612767209,-24.621542935746159,-178.48429537433529,87.33046242435023,91.357383728443182,7.2680126661438251,174.21318320488649,-98.860718378178987,null,null,null,null,null,null,null,null,null,null,0.25302024392530098,1.152545383054268E-2,1.1913094189272109E-2,{"$f":"IF(MIN(BO$48:BO$77)=$BP$47,BO65,IF(BO65=MIN(BO$48:BO$77),BP$47,IF(BO65=\"\",$CT65,BO65)))","v":1.1913094189272109E-2},1.1913094189272109E-2,39,39,39,39,39,39,39,39,39,39,39,39,39,39,39,39,39,39,39,39,39,39,39,39,39,39,39,39,23]
[null,null,null,37,9.8458556998820492E-4,3.6049498763807968E-2,2.2327156359144239E-2,3.4473379958721018E-2,2.0072022056623109E-4,3.5237005107708913E-2,7.6134964599522126E-3,2.617416142396644E-3,5.8291128215470604E-3,1.1077579154487449E-2,1.6387532723184332E-2,1.259778605205273E-2,2.5397130518677591E-2,6.7263560766869894E-3,4.1088434578595567E-4,1.0863323102249431E-2,3.9247084932492592E-2,0.29942388799364278,6.5995307558842578E-5,1.8431238208896849E-4,null,null,null,null,null,null,null,null,null,null,-151.0216938244404,-95.768978900583406,-94.710461470476559,87.508317973672987,138.86013125663729,179.60427340323881,-86.784930712614511,61.28460027513978,-47.566740089538129,83.377775844988804,-155.3907361157859,-163.21098583562221,89.197412577727832,42.209971384563332,2.1552435021402521,150.61974251794601,62.479460106383073,-0.72849138784633383,163.04293329212331,62.485665703920439,null,null,null,null,null,null,null,null,null,null,4.1448328517397909E-2,7.7398019093980232E-3,7.7464588381792087E-3,{"$f":"IF(MIN(BO$48:BO$77)=$BP$47,BO66,IF(BO66=MIN(BO$48:BO$77),BP$47,IF(BO66=\"\",$CT66,BO66)))","v":37},37,37,37,37,37,37,37,37,37,37,37,37,37,37,37,37,37,37,37,37,37,37,37,37,37,37,37,37,37,24]
[null,null,null,38,2.2985814426264451E-2,2.3598330922275881E-2,3.6036220192994253E-2,3.0338350849510368E-2,8.9680144473300262E-4,3.6398656772900377E-2,5.5177890413294376E-3,1.030498464123138E-2,8.7228263294870986E-3,4.7173906154439234E-3,1.271251733562081E-2,5.1108371185948891E-3,2.3338954765166779E-2,3.850381371566132E-3,1.895327524613E-3,0.21074019708516609,0.21996654344691199,1.627719323455951E-2,4.3927586715480091E-4,2.484869439482173E-5,null,null,null,null,null,null,null,null,null,null,88.885294906219144,-177.41573763249309,88.992651238360509,75.488961860891976,104.57049114015,-96.784271736985502,-171.33783108699831,-8.164979028211901,64.986994588812465,159.0243118920057,-73.108641750200889,-47.600082429162867,177.34986468960889,-47.239845884769153,-46.191993271460191,179.14685728316539,179.36967155741041,81.117127052456851,-90.094169479141812,168.49245419620991,null,null,null,null,null,null,null,null,null,null,2.216908129754612E-2,7.8198662051807595E-3,7.8217885214271754E-3,{"$f":"IF(MIN(BO$48:BO$77)=$BP$47,BO67,IF(BO67=MIN(BO$48:BO$77),BP$47,IF(BO67=\"\",$CT67,BO67)))","v":7.8217885214271754E-3},38,38,38,38,38,38,38,38,38,38,38,38,38,38,38,38,38,38,38,38,38,38,38,38,38,38,38,38,38,25]
[null,null,null,57,null,null,null,null,null,null,null,null,null,null,null,null,null,null,null,null,null,null,null,null,null,null,null,null,null,null,null,null,null,null,null,null,null,null,null,null,null,null,null,null,null,null,null,null,null,null,null,null,null,null,null,null,null,null,null,null,null,null,null,null,null,null,null,{"$f":"IF(MIN(BO$48:BO$77)=$BP$47,BO68,IF(BO68=MIN(BO$48:BO$77),BP$47,IF(BO68=\"\",$CT68,BO68)))","v":26},26,26,26,26,26,26,26,26,26,26,26,26,26,26,26,26,26,26,26,57,57,57,57,57,57,57,57,57,57,26]
[null,null,null,58,null,null,null,null,null,null,null,null,null,null,null,null,null,null,null,null,null,null,null,null,null,null,null,null,null,null,null,null,null,null,null,null,null,null,null,null,null,null,null,null,null,null,null,null,null,null,null,null,null,null,null,null,null,null,null,null,null,null,null,null,null,null,null,{"$f":"IF(MIN(BO$48:BO$77)=$BP$47,BO69,IF(BO69=MIN(BO$48:BO$77),BP$47,IF(BO69=\"\",$CT69,BO69)))","v":27},27,27,27,27,27,27,27,27,27,27,27,27,27,27,27,27,27,27,27,27,58,58,58,58,58,58,58,58,58,27]
[null,null,null,59,null,null,null,null,null,null,null,null,null,null,null,null,null,null,null,null,null,null,null,null,null,null,null,null,null,null,null,null,null,null,null,null,null,null,null,null,null,null,null,null,null,null,null,null,null,null,null,null,null,null,null,null,null,null,null,null,null,null,null,null,null,null,null,{"$f":"IF(MIN(BO$48:BO$77)=$BP$47,BO70,IF(BO70=MIN(BO$48:BO$77),BP$47,IF(BO70=\"\",$CT70,BO70)))","v":28},28,28,28,28,28,28,28,28,28,28,28,28,28,28,28,28,28,28,28,28,28,59,59,59,59,59,59,59,59,28]
[null,null,null,60,null,null,null,null,null,null,null,null,null,null,null,null,null,null,null,null,null,null,null,null,null,null,null,null,null,null,null,null,null,null,null,null,null,null,null,null,null,null,null,null,null,null,null,null,null,null,null,null,null,null,null,null,null,null,null,null,null,null,null,null,null,null,null,{"$f":"IF(MIN(BO$48:BO$77)=$BP$47,BO71,IF(BO71=MIN(BO$48:BO$77),BP$47,IF(BO71=\"\",$CT71,BO71)))","v":29},29,29,29,29,29,29,29,29,29,29,29,29,29,29,29,29,29,29,29,29,29,29,60,60,60,60,60,60,60,29]
[null,null,null,61,null,null,null,null,null,null,null,null,null,null,null,null,null,null,null,null,null,null,null,null,null,null,null,null,null,null,null,null,null,null,null,null,null,null,null,null,null,null,null,null,null,null,null,null,null,null,null,null,null,null,null,null,null,null,null,null,null,null,null,null,null,null,null,{"$f":"IF(MIN(BO$48:BO$77)=$BP$47,BO72,IF(BO72=MIN(BO$48:BO$77),BP$47,IF(BO72=\"\",$CT72,BO72)))","v":30},30,30,30,30,30,30,30,30,30,30,30,30,30,30,30,30,30,30,30,30,30,30,30,61,61,61,61,61,61,30]
[null,null,null,62,null,null,null,null,null,null,null,null,null,null,null,null,null,null,null,null,null,null,null,null,null,null,null,null,null,null,null,null,null,null,null,null,null,null,null,null,null,null,null,null,null,null,null,null,null,null,null,null,null,null,null,null,null,null,null,null,null,null,null,null,null,null,null,{"$f":"IF(MIN(BO$48:BO$77)=$BP$47,BO73,IF(BO73=MIN(BO$48:BO$77),BP$47,IF(BO73=\"\",$CT73,BO73)))","v":31},31,31,31,31,31,31,31,31,31,31,31,31,31,31,31,31,31,31,31,31,31,31,31,31,62,62,62,62,62,31]
[null,null,null,63,null,null,null,null,null,null,null,null,null,null,null,null,null,null,null,null,null,null,null,null,null,null,null,null,null,null,null,null,null,null,null,null,null,null,null,null,null,null,null,null,null,null,null,null,null,null,null,null,null,null,null,null,null,null,null,null,null,null,null,null,null,null,null,{"$f":"IF(MIN(BO$48:BO$77)=$BP$47,BO74,IF(BO74=MIN(BO$48:BO$77),BP$47,IF(BO74=\"\",$CT74,BO74)))","v":32},32,32,32,32,32,32,32,32,32,32,32,32,32,32,32,32,32,32,32,32,32,32,32,32,32,63,63,63,63,32]
[null,null,null,64,null,null,null,null,null,null,null,null,null,null,null,null,null,null,null,null,null,null,null,null,null,null,null,null,null,null,null,null,null,null,null,null,null,null,null,null,null,null,null,null,null,null,null,null,null,null,null,null,null,null,null,null,null,null,null,null,null,null,null,null,null,null,null,{"$f":"IF(MIN(BO$48:BO$77)=$BP$47,BO75,IF(BO75=MIN(BO$48:BO$77),BP$47,IF(BO75=\"\",$CT75,BO75)))","v":33},33,33,33,33,33,33,33,33,33,33,33,33,33,33,33,33,33,33,33,33,33,33,33,33,33,33,64,64,64,33]
[null,null,null,65,null,null,null,null,null,null,null,null,null,null,null,null,null,null,null,null,null,null,null,null,null,null,null,null,null,null,null,null,null,null,null,null,null,null,null,null,null,null,null,null,null,null,null,null,null,null,null,null,null,null,null,null,null,null,null,null,null,null,null,null,null,null,null,{"$f":"IF(MIN(BO$48:BO$77)=$BP$47,BO76,IF(BO76=MIN(BO$48:BO$77),BP$47,IF(BO76=\"\",$CT76,BO76)))","v":34},34,34,34,34,34,34,34,34,34,34,34,34,34,34,34,34,34,34,34,34,34,34,34,34,34,34,34,65,65,34]
[null,null,null,66,null,null,null,null,null,null,null,null,null,null,null,null,null,null,null,null,null,null,null,null,null,null,null,null,null,null,null,null,null,null,null,null,null,null,null,null,null,null,null,null,null,null,null,null,null,null,null,null,null,null,null,null,null,null,null,null,null,null,null,null,null,null,null,{"$f":"IF(MIN(BO$48:BO$77)=$BP$47,BO77,IF(BO77=MIN(BO$48:BO$77),BP$47,IF(BO77=\"\",$CT77,BO77)))","v":35},35,35,35,35,35,35,35,35,35,35,35,35,35,35,35,35,35,35,35,35,35,35,35,35,35,35,35,35,66,35]

{"sheet":"12 RPM","index":7,"n_rows":77,"n_cols":98,"rows_kept":77,"cut":false,"hidden":false,"merged":[[8,56,8,57],[8,58,8,59],[8,60,8,61],[8,62,8,63],[8,44,8,45],[8,46,8,47],[8,48,8,49],[8,50,8,51],[8,52,8,53],[8,54,8,55],[8,32,8,33],[8,34,8,35],[8,36,8,37],[8,38,8,39],[8,40,8,41],[8,42,8,43],[8,20,8,21],[8,22,8,23],[8,24,8,25],[8,26,8,27],[8,28,8,29],[8,30,8,31],[7,62,7,63],[8,2,8,3],[8,4,8,5],[8,6,8,7],[8,8,8,9],[8,10,8,11],[8,12,8,13],[8,14,8,15],[8,16,8,17],[8,18,8,19],[7,50,7,51],[7,52,7,53],[7,54,7,55],[7,56,7,57],[7,58,7,59],[7,60,7,61],[7,38,7,39],[7,40,7,41],[7,42,7,43],[7,44,7,45],[7,46,7,47],[7,48,7,49],[7,26,7,27],[7,28,7,29],[7,30,7,31],[7,32,7,33],[7,34,7,35],[7,36,7,37],[7,14,7,15],[7,16,7,17],[7,18,7,19],[7,20,7,21],[7,22,7,23],[7,24,7,25],[6,56,6,57],[6,58,6,59],[6,60,6,61],[6,62,6,63],[7,2,7,3],[7,4,7,5],[7,6,7,7],[7,8,7,9],[7,10,7,11],[7,12,7,13],[6,44,6,45],[6,46,6,47],[6,48,6,49],[6,50,6,51],[6,52,6,53],[6,54,6,55],[6,32,6,33],[6,34,6,35],[6,36,6,37],[6,38,6,39],[6,40,6,41],[6,42,6,43],[6,20,6,21],[6,22,6,23],[6,24,6,25],[6,26,6,27],[6,28,6,29],[6,30,6,31],[5,62,5,63],[6,2,6,3],[6,4,6,5],[6,6,6,7],[6,8,6,9],[6,10,6,11],[6,12,6,13],[6,14,6,15],[6,16,6,17],[6,18,6,19],[5,50,5,51],[5,52,5,53],[5,54,5,55],[5,56,5,57],[5,58,5,59],[5,60,5,61],[5,38,5,39],[5,40,5,41],[5,42,5,43],[5,44,5,45],[5,2,5,3],[5,4,5,5],[5,6,5,7],[5,8,5,9],[5,10,5,11],[5,12,5,13],[5,46,5,47],[5,48,5,49],[5,26,5,27],[5,28,5,29],[5,30,5,31],[5,32,5,33],[5,34,5,35],[5,36,5,37],[5,14,5,15],[5,16,5,17],[5,18,5,19],[5,20,5,21],[5,22,5,23],[5,24,5,25]]}
["This worksheet is used to sort the mode shapes and frequencies and to help you determine which modes are which for up to 30 modes (up to 30 DOFs)."]
["To use this spreadsheet, paste the appropriate data output from MBC3 into the six gray cells marked with comments (DescStates, MBC_ModeShapeMagnitude, MBC_ModeShapePhaseDeg_MBC_DampingRatio, MBC_DampedFrequencyHz, MBC_NaturalFrequencyHz).  The Scaling should be calculated according to the comment, but is not output by MBC3.  Do not change any other cell!"]
["NOTE: This spreadsheet doesn't work if any natural (undamped) frequency is 0.0 or if any natural (undamped) frequency is in duplicate--to avoid the resulting error, in the cells where the frequencies are pasted-in, change the error-causing frequency (or frequencies) by a very small amount!"]
[null,null,null,"BladeLength",117,"TowerHt",144.495]
[null,null,"Mode Shapes and Frequencies"]
[null,null,"Mode Number",null,1,null,{"$f":"E6+1","v":2},null,{"$f":"G6+1","v":3},null,{"$f":"I6+1","v":4},null,{"$f":"K6+1","v":5},null,{"$f":"M6+1","v":6},null,{"$f":"O6+1","v":7},null,{"$f":"Q6+1","v":8},null,{"$f":"S6+1","v":9},null,{"$f":"U6+1","v":10},null,{"$f":"W6+1","v":11},null,{"$f":"Y6+1","v":12},null,{"$f":"AA6+1","v":13},null,{"$f":"AC6+1","v":14},null,{"$f":"AE6+1","v":15},null,{"$f":"AG6+1","v":16},null,{"$f":"AI6+1","v":17},null,{"$f":"AK6+1","v":18},null,{"$f":"AM6+1","v":19},null,{"$f":"AO6+1","v":20},null,{"$f":"AQ6+1","v":21},null,{"$f":"AS6+1","v":22},null,{"$f":"AU6+1","v":23},null,{"$f":"AW6+1","v":24},null,{"$f":"AY6+1","v":25},null,{"$f":"BA6+1","v":26},null,{"$f":"BC6+1","v":27},null,{"$f":"BE6+1","v":28},null,{"$f":"BG6+1","v":29},null,{"$f":"BI6+1","v":30}]
[null,null,"Natural (Undamped) Frequencies (Hz)",null,{"$f":"IF(VLOOKUP(E$6+$BO$47,$D$48:$BO$77,64,FALSE)=\"\",\"\",VLOOKUP(E$6+$BO$47,$D$48:$BO$77,64,FALSE))","v":7.7482391086825461E-3},null,{"$f":"IF(VLOOKUP(G$6+$BO$47,$D$48:$BO$77,64,FALSE)=\"\",\"\",VLOOKUP(G$6+$BO$47,$D$48:$BO$77,64,FALSE))","v":7.8196908171259735E-3},null,{"$f":"IF(VLOOKUP(I$6+$BO$47,$D$48:$BO$77,64,FALSE)=\"\",\"\",VLOOKUP(I$6+$BO$47,$D$48:$BO$77,64,FALSE))","v":1.190840197260667E-2},null,{"$f":"IF(VLOOKUP(K$6+$BO$47,$D$48:$BO$77,64,FALSE)=\"\",\"\",VLOOKUP(K$6+$BO$47,$D$48:$BO$77,64,FALSE))","v":3.6064335327527293E-2},null,{"$f":"IF(VLOOKUP(M$6+$BO$47,$D$48:$BO$77,64,FALSE)=\"\",\"\",VLOOKUP(M$6+$BO$47,$D$48:$BO$77,64,FALSE))","v":3.62227389599327E-2},null,{"$f":"IF(VLOOKUP(O$6+$BO$47,$D$48:$BO$77,64,FALSE)=\"\",\"\",VLOOKUP(O$6+$BO$47,$D$48:$BO$77,64,FALSE))","v":5.0577277413152592E-2},null,{"$f":"IF(VLOOKUP(Q$6+$BO$47,$D$48:$BO$77,64,FALSE)=\"\",\"\",VLOOKUP(Q$6+$BO$47,$D$48:$BO$77,64,FALSE))","v":0.37970897332390813},null,{"$f":"IF(VLOOKUP(S$6+$BO$47,$D$48:$BO$77,64,FALSE)=\"\",\"\",VLOOKUP(S$6+$BO$47,$D$48:$BO$77,64,FALSE))","v":0.42520049370191132},null,{"$f":"IF(VLOOKUP(U$6+$BO$47,$D$48:$BO$77,64,FALSE)=\"\",\"\",VLOOKUP(U$6+$BO$47,$D$48:$BO$77,64,FALSE))","v":0.46198617722285279},null,{"$f":"IF(VLOOKUP(W$6+$BO$47,$D$48:$BO$77,64,FALSE)=\"\",\"\",VLOOKUP(W$6+$BO$47,$D$48:$BO$77,64,FALSE))","v":0.4890966074050081},null,{"$f":"IF(VLOOKUP(Y$6+$BO$47,$D$48:$BO$77,64,FALSE)=\"\",\"\",VLOOKUP(Y$6+$BO$47,$D$48:$BO$77,64,FALSE))","v":0.62900175685619653},null,{"$f":"IF(VLOOKUP(AA$6+$BO$47,$D$48:$BO$77,64,FALSE)=\"\",\"\",VLOOKUP(AA$6+$BO$47,$D$48:$BO$77,64,FALSE))","v":0.69323826807030886},null,{"$f":"IF(VLOOKUP(AC$6+$BO$47,$D$48:$BO$77,64,FALSE)=\"\",\"\",VLOOKUP(AC$6+$BO$47,$D$48:$BO$77,64,FALSE))","v":0.80807052153403203},null,{"$f":"IF(VLOOKUP(AE$6+$BO$47,$D$48:$BO$77,64,FALSE)=\"\",\"\",VLOOKUP(AE$6+$BO$47,$D$48:$BO$77,64,FALSE))","v":0.87669534417825457},null,{"$f":"IF(VLOOKUP(AG$6+$BO$47,$D$48:$BO$77,64,FALSE)=\"\",\"\",VLOOKUP(AG$6+$BO$47,$D$48:$BO$77,64,FALSE))","v":2.269830943644441},null,{"$f":"IF(VLOOKUP(AI$6+$BO$47,$D$48:$BO$77,64,FALSE)=\"\",\"\",VLOOKUP(AI$6+$BO$47,$D$48:$BO$77,64,FALSE))","v":2.5087080667042549},null,{"$f":"IF(VLOOKUP(AK$6+$BO$47,$D$48:$BO$77,64,FALSE)=\"\",\"\",VLOOKUP(AK$6+$BO$47,$D$48:$BO$77,64,FALSE))","v":2.5241919003876019},null,{"$f":"IF(VLOOKUP(AM$6+$BO$47,$D$48:$BO$77,64,FALSE)=\"\",\"\",VLOOKUP(AM$6+$BO$47,$D$48:$BO$77,64,FALSE))","v":2.673279776007671},null,{"$f":"IF(VLOOKUP(AO$6+$BO$47,$D$48:$BO$77,64,FALSE)=\"\",\"\",VLOOKUP(AO$6+$BO$47,$D$48:$BO$77,64,FALSE))","v":2.7286392413069378},null,{"$f":"IF(VLOOKUP(AQ$6+$BO$47,$D$48:$BO$77,64,FALSE)=\"\",\"\",VLOOKUP(AQ$6+$BO$47,$D$48:$BO$77,64,FALSE))","v":4.8169913332783683},null,{"$f":"IF(VLOOKUP(AS$6+$BO$47,$D$48:$BO$77,64,FALSE)=\"\",\"\",VLOOKUP(AS$6+$BO$47,$D$48:$BO$77,64,FALSE))","v":""},null,{"$f":"IF(VLOOKUP(AU$6+$BO$47,$D$48:$BO$77,64,FALSE)=\"\",\"\",VLOOKUP(AU$6+$BO$47,$D$48:$BO$77,64,FALSE))","v":""},null,{"$f":"IF(VLOOKUP(AW$6+$BO$47,$D$48:$BO$77,64,FALSE)=\"\",\"\",VLOOKUP(AW$6+$BO$47,$D$48:$BO$77,64,FALSE))","v":""},null,{"$f":"IF(VLOOKUP(AY$6+$BO$47,$D$48:$BO$77,64,FALSE)=\"\",\"\",VLOOKUP(AY$6+$BO$47,$D$48:$BO$77,64,FALSE))","v":""},null,{"$f":"IF(VLOOKUP(BA$6+$BO$47,$D$48:$BO$77,64,FALSE)=\"\",\"\",VLOOKUP(BA$6+$BO$47,$D$48:$BO$77,64,FALSE))","v":""},null,{"$f":"IF(VLOOKUP(BC$6+$BO$47,$D$48:$BO$77,64,FALSE)=\"\",\"\",VLOOKUP(BC$6+$BO$47,$D$48:$BO$77,64,FALSE))","v":""},null,{"$f":"IF(VLOOKUP(BE$6+$BO$47,$D$48:$BO$77,64,FALSE)=\"\",\"\",VLOOKUP(BE$6+$BO$47,$D$48:$BO$77,64,FALSE))","v":""},null,{"$f":"IF(VLOOKUP(BG$6+$BO$47,$D$48:$BO$77,64,FALSE)=\"\",\"\",VLOOKUP(BG$6+$BO$47,$D$48:$BO$77,64,FALSE))","v":""},null,{"$f":"IF(VLOOKUP(BI$6+$BO$47,$D$48:$BO$77,64,FALSE)=\"\",\"\",VLOOKUP(BI$6+$BO$47,$D$48:$BO$77,64,FALSE))","v":""},null,{"$f":"IF(VLOOKUP(BK$6+$BO$47,$D$48:$BO$77,64,FALSE)=\"\",\"\",VLOOKUP(BK$6+$BO$47,$D$48:$BO$77,64,FALSE))","v":""}]
[null,null,"Damped Frequencies (Hz)",null,{"$f":"IF(VLOOKUP(E$6+$BO$47,$D$48:$BO$77,63,FALSE)=\"\",\"\",VLOOKUP(E$6+$BO$47,$D$48:$BO$77,63,FALSE))","v":7.7424326345439569E-3},null,{"$f":"IF(VLOOKUP(G$6+$BO$47,$D$48:$BO$77,63,FALSE)=\"\",\"\",VLOOKUP(G$6+$BO$47,$D$48:$BO$77,63,FALSE))","v":7.8177689930430949E-3},null,{"$f":"IF(VLOOKUP(I$6+$BO$47,$D$48:$BO$77,63,FALSE)=\"\",\"\",VLOOKUP(I$6+$BO$47,$D$48:$BO$77,63,FALSE))","v":1.152182542252604E-2},null,{"$f":"IF(VLOOKUP(K$6+$BO$47,$D$48:$BO$77,63,FALSE)=\"\",\"\",VLOOKUP(K$6+$BO$47,$D$48:$BO$77,63,FALSE))","v":3.6054266891404577E-2},null,{"$f":"IF(VLOOKUP(M$6+$BO$47,$D$48:$BO$77,63,FALSE)=\"\",\"\",VLOOKUP(M$6+$BO$47,$D$48:$BO$77,63,FALSE))","v":3.6213458546980548E-2},null,{"$f":"IF(VLOOKUP(O$6+$BO$47,$D$48:$BO$77,63,FALSE)=\"\",\"\",VLOOKUP(O$6+$BO$47,$D$48:$BO$77,63,FALSE))","v":5.0576475854506198E-2},null,{"$f":"IF(VLOOKUP(Q$6+$BO$47,$D$48:$BO$77,63,FALSE)=\"\",\"\",VLOOKUP(Q$6+$BO$47,$D$48:$BO$77,63,FALSE))","v":0.37955912243394491},null,{"$f":"IF(VLOOKUP(S$6+$BO$47,$D$48:$BO$77,63,FALSE)=\"\",\"\",VLOOKUP(S$6+$BO$47,$D$48:$BO$77,63,FALSE))","v":0.42518206520975321},null,{"$f":"IF(VLOOKUP(U$6+$BO$47,$D$48:$BO$77,63,FALSE)=\"\",\"\",VLOOKUP(U$6+$BO$47,$D$48:$BO$77,63,FALSE))","v":0.46177441564225719},null,{"$f":"IF(VLOOKUP(W$6+$BO$47,$D$48:$BO$77,63,FALSE)=\"\",\"\",VLOOKUP(W$6+$BO$47,$D$48:$BO$77,63,FALSE))","v":0.48892293137570841},null,{"$f":"IF(VLOOKUP(Y$6+$BO$47,$D$48:$BO$77,63,FALSE)=\"\",\"\",VLOOKUP(Y$6+$BO$47,$D$48:$BO$77,63,FALSE))","v":0.62877340491186429},null,{"$f":"IF(VLOOKUP(AA$6+$BO$47,$D$48:$BO$77,63,FALSE)=\"\",\"\",VLOOKUP(AA$6+$BO$47,$D$48:$BO$77,63,FALSE))","v":0.69298959513294744},null,{"$f":"IF(VLOOKUP(AC$6+$BO$47,$D$48:$BO$77,63,FALSE)=\"\",\"\",VLOOKUP(AC$6+$BO$47,$D$48:$BO$77,63,FALSE))","v":0.80790955287688937},null,{"$f":"IF(VLOOKUP(AE$6+$BO$47,$D$48:$BO$77,63,FALSE)=\"\",\"\",VLOOKUP(AE$6+$BO$47,$D$48:$BO$77,63,FALSE))","v":0.87647199643215246},null,{"$f":"IF(VLOOKUP(AG$6+$BO$47,$D$48:$BO$77,63,FALSE)=\"\",\"\",VLOOKUP(AG$6+$BO$47,$D$48:$BO$77,63,FALSE))","v":2.253655055014014},null,{"$f":"IF(VLOOKUP(AI$6+$BO$47,$D$48:$BO$77,63,FALSE)=\"\",\"\",VLOOKUP(AI$6+$BO$47,$D$48:$BO$77,63,FALSE))","v":2.4882525743091071},null,{"$f":"IF(VLOOKUP(AK$6+$BO$47,$D$48:$BO$77,63,FALSE)=\"\",\"\",VLOOKUP(AK$6+$BO$47,$D$48:$BO$77,63,FALSE))","v":2.522331827108045},null,{"$f":"IF(VLOOKUP(AM$6+$BO$47,$D$48:$BO$77,63,FALSE)=\"\",\"\",VLOOKUP(AM$6+$BO$47,$D$48:$BO$77,63,FALSE))","v":2.6728681812956729},null,{"$f":"IF(VLOOKUP(AO$6+$BO$47,$D$48:$BO$77,63,FALSE)=\"\",\"\",VLOOKUP(AO$6+$BO$47,$D$48:$BO$77,63,FALSE))","v":2.7141335119571921},null,{"$f":"IF(VLOOKUP(AQ$6+$BO$47,$D$48:$BO$77,63,FALSE)=\"\",\"\",VLOOKUP(AQ$6+$BO$47,$D$48:$BO$77,63,FALSE))","v":4.8144049510167042},null,{"$f":"IF(VLOOKUP(AS$6+$BO$47,$D$48:$BO$77,63,FALSE)=\"\",\"\",VLOOKUP(AS$6+$BO$47,$D$48:$BO$77,63,FALSE))","v":""},null,{"$f":"IF(VLOOKUP(AU$6+$BO$47,$D$48:$BO$77,63,FALSE)=\"\",\"\",VLOOKUP(AU$6+$BO$47,$D$48:$BO$77,63,FALSE))","v":""},null,{"$f":"IF(VLOOKUP(AW$6+$BO$47,$D$48:$BO$77,63,FALSE)=\"\",\"\",VLOOKUP(AW$6+$BO$47,$D$48:$BO$77,63,FALSE))","v":""},null,{"$f":"IF(VLOOKUP(AY$6+$BO$47,$D$48:$BO$77,63,FALSE)=\"\",\"\",VLOOKUP(AY$6+$BO$47,$D$48:$BO$77,63,FALSE))","v":""},null,{"$f":"IF(VLOOKUP(BA$6+$BO$47,$D$48:$BO$77,63,FALSE)=\"\",\"\",VLOOKUP(BA$6+$BO$47,$D$48:$BO$77,63,FALSE))","v":""},null,{"$f":"IF(VLOOKUP(BC$6+$BO$47,$D$48:$BO$77,63,FALSE)=\"\",\"\",VLOOKUP(BC$6+$BO$47,$D$48:$BO$77,63,FALSE))","v":""},null,{"$f":"IF(VLOOKUP(BE$6+$BO$47,$D$48:$BO$77,63,FALSE)=\"\",\"\",VLOOKUP(BE$6+$BO$47,$D$48:$BO$77,63,FALSE))","v":""},null,{"$f":"IF(VLOOKUP(BG$6+$BO$47,$D$48:$BO$77,63,FALSE)=\"\",\"\",VLOOKUP(BG$6+$BO$47,$D$48:$BO$77,63,FALSE))","v":""},null,{"$f":"IF(VLOOKUP(BI$6+$BO$47,$D$48:$BO$77,63,FALSE)=\"\",\"\",VLOOKUP(BI$6+$BO$47,$D$48:$BO$77,63,FALSE))","v":""},null,{"$f":"IF(VLOOKUP(BK$6+$BO$47,$D$48:$BO$77,63,FALSE)=\"\",\"\",VLOOKUP(BK$6+$BO$47,$D$48:$BO$77,63,FALSE))","v":""}]
[null,null,"Damping Ratio (-)",null,{"$f":"IF(VLOOKUP(E$6+$BO$47,$D$48:$BO$77,62,FALSE)=\"\",\"\",VLOOKUP(E$6+$BO$47,$D$48:$BO$77,62,FALSE))","v":3.8706897204926732E-2},null,{"$f":"IF(VLOOKUP(G$6+$BO$47,$D$48:$BO$77,62,FALSE)=\"\",\"\",VLOOKUP(G$6+$BO$47,$D$48:$BO$77,62,FALSE))","v":2.216921611563432E-2},null,{"$f":"IF(VLOOKUP(I$6+$BO$47,$D$48:$BO$77,62,FALSE)=\"\",\"\",VLOOKUP(I$6+$BO$47,$D$48:$BO$77,62,FALSE))","v":0.25272751015346928},null,{"$f":"IF(VLOOKUP(K$6+$BO$47,$D$48:$BO$77,62,FALSE)=\"\",\"\",VLOOKUP(K$6+$BO$47,$D$48:$BO$77,62,FALSE))","v":2.362798723007567E-2},null,{"$f":"IF(VLOOKUP(M$6+$BO$47,$D$48:$BO$77,62,FALSE)=\"\",\"\",VLOOKUP(M$6+$BO$47,$D$48:$BO$77,62,FALSE))","v":2.2634983734451809E-2},null,{"$f":"IF(VLOOKUP(O$6+$BO$47,$D$48:$BO$77,62,FALSE)=\"\",\"\",VLOOKUP(O$6+$BO$47,$D$48:$BO$77,62,FALSE))","v":5.6299327214648616E-3},null,{"$f":"IF(VLOOKUP(Q$6+$BO$47,$D$48:$BO$77,62,FALSE)=\"\",\"\",VLOOKUP(Q$6+$BO$47,$D$48:$BO$77,62,FALSE))","v":2.809159369819739E-2},null,{"$f":"IF(VLOOKUP(S$6+$BO$47,$D$48:$BO$77,62,FALSE)=\"\",\"\",VLOOKUP(S$6+$BO$47,$D$48:$BO$77,62,FALSE))","v":9.3101850501836423E-3},null,{"$f":"IF(VLOOKUP(U$6+$BO$47,$D$48:$BO$77,62,FALSE)=\"\",\"\",VLOOKUP(U$6+$BO$47,$D$48:$BO$77,62,FALSE))","v":3.0274314568392389E-2},null,{"$f":"IF(VLOOKUP(W$6+$BO$47,$D$48:$BO$77,62,FALSE)=\"\",\"\",VLOOKUP(W$6+$BO$47,$D$48:$BO$77,62,FALSE))","v":2.6647045036058831E-2},null,{"$f":"IF(VLOOKUP(Y$6+$BO$47,$D$48:$BO$77,62,FALSE)=\"\",\"\",VLOOKUP(Y$6+$BO$47,$D$48:$BO$77,62,FALSE))","v":2.6943375608735859E-2},null,{"$f":"IF(VLOOKUP(AA$6+$BO$47,$D$48:$BO$77,62,FALSE)=\"\",\"\",VLOOKUP(AA$6+$BO$47,$D$48:$BO$77,62,FALSE))","v":2.67823724664863E-2},null,{"$f":"IF(VLOOKUP(AC$6+$BO$47,$D$48:$BO$77,62,FALSE)=\"\",\"\",VLOOKUP(AC$6+$BO$47,$D$48:$BO$77,62,FALSE))","v":1.9959028453202621E-2},null,{"$f":"IF(VLOOKUP(AE$6+$BO$47,$D$48:$BO$77,62,FALSE)=\"\",\"\",VLOOKUP(AE$6+$BO$47,$D$48:$BO$77,62,FALSE))","v":2.2571154459651299E-2},null,{"$f":"IF(VLOOKUP(AG$6+$BO$47,$D$48:$BO$77,62,FALSE)=\"\",\"\",VLOOKUP(AG$6+$BO$47,$D$48:$BO$77,62,FALSE))","v":0.11917281198583481},null,{"$f":"IF(VLOOKUP(AI$6+$BO$47,$D$48:$BO$77,62,FALSE)=\"\",\"\",VLOOKUP(AI$6+$BO$47,$D$48:$BO$77,62,FALSE))","v":0.12744059989017781},null,{"$f":"IF(VLOOKUP(AK$6+$BO$47,$D$48:$BO$77,62,FALSE)=\"\",\"\",VLOOKUP(AK$6+$BO$47,$D$48:$BO$77,62,FALSE))","v":3.838299133354045E-2},null,{"$f":"IF(VLOOKUP(AM$6+$BO$47,$D$48:$BO$77,62,FALSE)=\"\",\"\",VLOOKUP(AM$6+$BO$47,$D$48:$BO$77,62,FALSE))","v":1.7547326917621162E-2},null,{"$f":"IF(VLOOKUP(AO$6+$BO$47,$D$48:$BO$77,62,FALSE)=\"\",\"\",VLOOKUP(AO$6+$BO$47,$D$48:$BO$77,62,FALSE))","v":0.10297546588834119},null,{"$f":"IF(VLOOKUP(AQ$6+$BO$47,$D$48:$BO$77,62,FALSE)=\"\",\"\",VLOOKUP(AQ$6+$BO$47,$D$48:$BO$77,62,FALSE))","v":3.2765373108109487E-2},null,{"$f":"IF(VLOOKUP(AS$6+$BO$47,$D$48:$BO$77,62,FALSE)=\"\",\"\",VLOOKUP(AS$6+$BO$47,$D$48:$BO$77,62,FALSE))","v":""},null,{"$f":"IF(VLOOKUP(AU$6+$BO$47,$D$48:$BO$77,62,FALSE)=\"\",\"\",VLOOKUP(AU$6+$BO$47,$D$48:$BO$77,62,FALSE))","v":""},null,{"$f":"IF(VLOOKUP(AW$6+$BO$47,$D$48:$BO$77,62,FALSE)=\"\",\"\",VLOOKUP(AW$6+$BO$47,$D$48:$BO$77,62,FALSE))","v":""},null,{"$f":"IF(VLOOKUP(AY$6+$BO$47,$D$48:$BO$77,62,FALSE)=\"\",\"\",VLOOKUP(AY$6+$BO$47,$D$48:$BO$77,62,FALSE))","v":""},null,{"$f":"IF(VLOOKUP(BA$6+$BO$47,$D$48:$BO$77,62,FALSE)=\"\",\"\",VLOOKUP(BA$6+$BO$47,$D$48:$BO$77,62,FALSE))","v":""},null,{"$f":"IF(VLOOKUP(BC$6+$BO$47,$D$48:$BO$77,62,FALSE)=\"\",\"\",VLOOKUP(BC$6+$BO$47,$D$48:$BO$77,62,FALSE))","v":""},null,{"$f":"IF(VLOOKUP(BE$6+$BO$47,$D$48:$BO$77,62,FALSE)=\"\",\"\",VLOOKUP(BE$6+$BO$47,$D$48:$BO$77,62,FALSE))","v":""},null,{"$f":"IF(VLOOKUP(BG$6+$BO$47,$D$48:$BO$77,62,FALSE)=\"\",\"\",VLOOKUP(BG$6+$BO$47,$D$48:$BO$77,62,FALSE))","v":""},null,{"$f":"IF(VLOOKUP(BI$6+$BO$47,$D$48:$BO$77,62,FALSE)=\"\",\"\",VLOOKUP(BI$6+$BO$47,$D$48:$BO$77,62,FALSE))","v":""},null,{"$f":"IF(VLOOKUP(BK$6+$BO$47,$D$48:$BO$77,62,FALSE)=\"\",\"\",VLOOKUP(BK$6+$BO$47,$D$48:$BO$77,62,FALSE))","v":""}]
[null,null,"States","Scaling","Magnitude (rad)","Phase (deg)","Magnitude (rad)","Phase (deg)","Magnitude (rad)","Phase (deg)","Magnitude (rad)","Phase (deg)","Magnitude (rad)","Phase (deg)","Magnitude (rad)","Phase (deg)","Magnitude (rad)","Phase (deg)","Magnitude (rad)","Phase (deg)","Magnitude (rad)","Phase (deg)","Magnitude (rad)","Phase (deg)","Magnitude (rad)","Phase (deg)","Magnitude (rad)","Phase (deg)","Magnitude (rad)","Phase (deg)","Magnitude (rad)","Phase (deg)","Magnitude (rad)","Phase (deg)","Magnitude (rad)","Phase (deg)","Magnitude (rad)","Phase (deg)","Magnitude (rad)","Phase (deg)","Magnitude (rad)","Phase (deg)","Magnitude (rad)","Phase (deg)","Magnitude (rad)","Phase (deg)","Magnitude (rad)","Phase (deg)","Magnitude (rad)","Phase (deg)","Magnitude (rad)","Phase (deg)","Magnitude (rad)","Phase (deg)","Magnitude (rad)","Phase (deg)","Magnitude (rad)","Phase (deg)","Magnitude (rad)","Phase (deg)","Magnitude (rad)","Phase (deg)","Magnitude (rad)","Phase (deg)"]
[null,1,"ED Platform horizontal surge translation DOF (internal DOF index = DOF_Sg), m",1,{"$f":"IF(HLOOKUP(E$6+$BO$47,$E$47:$AH$77,$B11+1,FALSE)=\"\",\"\",HLOOKUP(E$6+$BO$47,$E$47:$AH$77,$B11+1,FALSE)*$D11)","v":0.99880573414480067},{"$f":"IF(HLOOKUP(E$6+$BO$47,$AI$47:$BL$77,$B11+1,FALSE)=\"\",\"\",HLOOKUP(E$6+$BO$47,$AI$47:$BL$77,$B11+1,FALSE))","v":0},{"$f":"IF(HLOOKUP(G$6+$BO$47,$E$47:$AH$77,$B11+1,FALSE)=\"\",\"\",HLOOKUP(G$6+$BO$47,$E$47:$AH$77,$B11+1,FALSE)*$D11)","v":2.6012391841415509E-3},{"$f":"IF(HLOOKUP(G$6+$BO$47,$AI$47:$BL$77,$B11+1,FALSE)=\"\",\"\",HLOOKUP(G$6+$BO$47,$AI$47:$BL$77,$B11+1,FALSE))","v":32.386692113799427},{"$f":"IF(HLOOKUP(I$6+$BO$47,$E$47:$AH$77,$B11+1,FALSE)=\"\",\"\",HLOOKUP(I$6+$BO$47,$E$47:$AH$77,$B11+1,FALSE)*$D11)","v":4.0159378709625389E-2},{"$f":"IF(HLOOKUP(I$6+$BO$47,$AI$47:$BL$77,$B11+1,FALSE)=\"\",\"\",HLOOKUP(I$6+$BO$47,$AI$47:$BL$77,$B11+1,FALSE))","v":145.33993579669249},{"$f":"IF(HLOOKUP(K$6+$BO$47,$E$47:$AH$77,$B11+1,FALSE)=\"\",\"\",HLOOKUP(K$6+$BO$47,$E$47:$AH$77,$B11+1,FALSE)*$D11)","v":0.28567001955985588},{"$f":"IF(HLOOKUP(K$6+$BO$47,$AI$47:$BL$77,$B11+1,FALSE)=\"\",\"\",HLOOKUP(K$6+$BO$47,$AI$47:$BL$77,$B11+1,FALSE))","v":89.284759146487261},{"$f":"IF(HLOOKUP(M$6+$BO$47,$E$47:$AH$77,$B11+1,FALSE)=\"\",\"\",HLOOKUP(M$6+$BO$47,$E$47:$AH$77,$B11+1,FALSE)*$D11)","v":0.2931850463412885},{"$f":"IF(HLOOKUP(M$6+$BO$47,$AI$47:$BL$77,$B11+1,FALSE)=\"\",\"\",HLOOKUP(M$6+$BO$47,$AI$47:$BL$77,$B11+1,FALSE))","v":-91.637237390701387},{"$f":"IF(HLOOKUP(O$6+$BO$47,$E$47:$AH$77,$B11+1,FALSE)=\"\",\"\",HLOOKUP(O$6+$BO$47,$E$47:$AH$77,$B11+1,FALSE)*$D11)","v":1.7742513114627711E-3},{"$f":"IF(HLOOKUP(O$6+$BO$47,$AI$47:$BL$77,$B11+1,FALSE)=\"\",\"\",HLOOKUP(O$6+$BO$47,$AI$47:$BL$77,$B11+1,FALSE))","v":2.9415632178922881},{"$f":"IF(HLOOKUP(Q$6+$BO$47,$E$47:$AH$77,$B11+1,FALSE)=\"\",\"\",HLOOKUP(Q$6+$BO$47,$E$47:$AH$77,$B11+1,FALSE)*$D11)","v":1.0757914326860159E-3},{"$f":"IF(HLOOKUP(Q$6+$BO$47,$AI$47:$BL$77,$B11+1,FALSE)=\"\",\"\",HLOOKUP(Q$6+$BO$47,$AI$47:$BL$77,$B11+1,FALSE))","v":7.5491061379009743},{"$f":"IF(HLOOKUP(S$6+$BO$47,$E$47:$AH$77,$B11+1,FALSE)=\"\",\"\",HLOOKUP(S$6+$BO$47,$E$47:$AH$77,$B11+1,FALSE)*$D11)","v":5.1202535418153668E-4},{"$f":"IF(HLOOKUP(S$6+$BO$47,$AI$47:$BL$77,$B11+1,FALSE)=\"\",\"\",HLOOKUP(S$6+$BO$47,$AI$47:$BL$77,$B11+1,FALSE))","v":63.082862345774508},{"$f":"IF(HLOOKUP(U$6+$BO$47,$E$47:$AH$77,$B11+1,FALSE)=\"\",\"\",HLOOKUP(U$6+$BO$47,$E$47:$AH$77,$B11+1,FALSE)*$D11)","v":1.1322725618623641E-3},{"$f":"IF(HLOOKUP(U$6+$BO$47,$AI$47:$BL$77,$B11+1,FALSE)=\"\",\"\",HLOOKUP(U$6+$BO$47,$AI$47:$BL$77,$B11+1,FALSE))","v":87.470620951554793},{"$f":"IF(HLOOKUP(W$6+$BO$47,$E$47:$AH$77,$B11+1,FALSE)=\"\",\"\",HLOOKUP(W$6+$BO$47,$E$47:$AH$77,$B11+1,FALSE)*$D11)","v":1.3546548817326681E-3},{"$f":"IF(HLOOKUP(W$6+$BO$47,$AI$47:$BL$77,$B11+1,FALSE)=\"\",\"\",HLOOKUP(W$6+$BO$47,$AI$47:$BL$77,$B11+1,FALSE))","v":-46.280559721645282},{"$f":"IF(HLOOKUP(Y$6+$BO$47,$E$47:$AH$77,$B11+1,FALSE)=\"\",\"\",HLOOKUP(Y$6+$BO$47,$E$47:$AH$77,$B11+1,FALSE)*$D11)","v":2.2646391976267739E-4},{"$f":"IF(HLOOKUP(Y$6+$BO$47,$AI$47:$BL$77,$B11+1,FALSE)=\"\",\"\",HLOOKUP(Y$6+$BO$47,$AI$47:$BL$77,$B11+1,FALSE))","v":85.033811523372094},{"$f":"IF(HLOOKUP(AA$6+$BO$47,$E$47:$AH$77,$B11+1,FALSE)=\"\",\"\",HLOOKUP(AA$6+$BO$47,$E$47:$AH$77,$B11+1,FALSE)*$D11)","v":5.7287610950988953E-5},{"$f":"IF(HLOOKUP(AA$6+$BO$47,$AI$47:$BL$77,$B11+1,FALSE)=\"\",\"\",HLOOKUP(AA$6+$BO$47,$AI$47:$BL$77,$B11+1,FALSE))","v":-19.822745612023731},{"$f":"IF(HLOOKUP(AC$6+$BO$47,$E$47:$AH$77,$B11+1,FALSE)=\"\",\"\",HLOOKUP(AC$6+$BO$47,$E$47:$AH$77,$B11+1,FALSE)*$D11)","v":9.4212043554742643E-5},{"$f":"IF(HLOOKUP(AC$6+$BO$47,$AI$47:$BL$77,$B11+1,FALSE)=\"\",\"\",HLOOKUP(AC$6+$BO$47,$AI$47:$BL$77,$B11+1,FALSE))","v":-86.220855693254791},{"$f":"IF(HLOOKUP(AE$6+$BO$47,$E$47:$AH$77,$B11+1,FALSE)=\"\",\"\",HLOOKUP(AE$6+$BO$47,$E$47:$AH$77,$B11+1,FALSE)*$D11)","v":2.5633536722439279E-5},{"$f":"IF(HLOOKUP(AE$6+$BO$47,$AI$47:$BL$77,$B11+1,FALSE)=\"\",\"\",HLOOKUP(AE$6+$BO$47,$AI$47:$BL$77,$B11+1,FALSE))","v":-159.40957027662989},{"$f":"IF(HLOOKUP(AG$6+$BO$47,$E$47:$AH$77,$B11+1,FALSE)=\"\",\"\",HLOOKUP(AG$6+$BO$47,$E$47:$AH$77,$B11+1,FALSE)*$D11)","v":1.1003955821850591E-6},{"$f":"IF(HLOOKUP(AG$6+$BO$47,$AI$47:$BL$77,$B11+1,FALSE)=\"\",\"\",HLOOKUP(AG$6+$BO$47,$AI$47:$BL$77,$B11+1,FALSE))","v":44.474706580921932},{"$f":"IF(HLOOKUP(AI$6+$BO$47,$E$47:$AH$77,$B11+1,FALSE)=\"\",\"\",HLOOKUP(AI$6+$BO$47,$E$47:$AH$77,$B11+1,FALSE)*$D11)","v":6.6655330101373369E-8},{"$f":"IF(HLOOKUP(AI$6+$BO$47,$AI$47:$BL$77,$B11+1,FALSE)=\"\",\"\",HLOOKUP(AI$6+$BO$47,$AI$47:$BL$77,$B11+1,FALSE))","v":155.63974557723799},{"$f":"IF(HLOOKUP(AK$6+$BO$47,$E$47:$AH$77,$B11+1,FALSE)=\"\",\"\",HLOOKUP(AK$6+$BO$47,$E$47:$AH$77,$B11+1,FALSE)*$D11)","v":4.6431270267913804E-6},{"$f":"IF(HLOOKUP(AK$6+$BO$47,$AI$47:$BL$77,$B11+1,FALSE)=\"\",\"\",HLOOKUP(AK$6+$BO$47,$AI$47:$BL$77,$B11+1,FALSE))","v":175.4955693240158},{"$f":"IF(HLOOKUP(AM$6+$BO$47,$E$47:$AH$77,$B11+1,FALSE)=\"\",\"\",HLOOKUP(AM$6+$BO$47,$E$47:$AH$77,$B11+1,FALSE)*$D11)","v":6.21421632451561E-7},{"$f":"IF(HLOOKUP(AM$6+$BO$47,$AI$47:$BL$77,$B11+1,FALSE)=\"\",\"\",HLOOKUP(AM$6+$BO$47,$AI$47:$BL$77,$B11+1,FALSE))","v":94.106097171792115},{"$f":"IF(HLOOKUP(AO$6+$BO$47,$E$47:$AH$77,$B11+1,FALSE)=\"\",\"\",HLOOKUP(AO$6+$BO$47,$E$47:$AH$77,$B11+1,FALSE)*$D11)","v":9.1605506027038323E-7},{"$f":"IF(HLOOKUP(AO$6+$BO$47,$AI$47:$BL$77,$B11+1,FALSE)=\"\",\"\",HLOOKUP(AO$6+$BO$47,$AI$47:$BL$77,$B11+1,FALSE))","v":-145.77170911852781},{"$f":"IF(HLOOKUP(AQ$6+$BO$47,$E$47:$AH$77,$B11+1,FALSE)=\"\",\"\",HLOOKUP(AQ$6+$BO$47,$E$47:$AH$77,$B11+1,FALSE)*$D11)","v":5.9035113246049087E-8},{"$f":"IF(HLOOKUP(AQ$6+$BO$47,$AI$47:$BL$77,$B11+1,FALSE)=\"\",\"\",HLOOKUP(AQ$6+$BO$47,$AI$47:$BL$77,$B11+1,FALSE))","v":165.35188397800789},{"$f":"IF(HLOOKUP(AS$6+$BO$47,$E$47:$AH$77,$B11+1,FALSE)=\"\",\"\",HLOOKUP(AS$6+$BO$47,$E$47:$AH$77,$B11+1,FALSE)*$D11)","v":""},{"$f":"IF(HLOOKUP(AS$6+$BO$47,$AI$47:$BL$77,$B11+1,FALSE)=\"\",\"\",HLOOKUP(AS$6+$BO$47,$AI$47:$BL$77,$B11+1,FALSE))","v":""},{"$f":"IF(HLOOKUP(AU$6+$BO$47,$E$47:$AH$77,$B11+1,FALSE)=\"\",\"\",HLOOKUP(AU$6+$BO$47,$E$47:$AH$77,$B11+1,FALSE)*$D11)","v":""},{"$f":"IF(HLOOKUP(AU$6+$BO$47,$AI$47:$BL$77,$B11+1,FALSE)=\"\",\"\",HLOOKUP(AU$6+$BO$47,$AI$47:$BL$77,$B11+1,FALSE))","v":""},{"$f":"IF(HLOOKUP(AW$6+$BO$47,$E$47:$AH$77,$B11+1,FALSE)=\"\",\"\",HLOOKUP(AW$6+$BO$47,$E$47:$AH$77,$B11+1,FALSE)*$D11)","v":""},{"$f":"IF(HLOOKUP(AW$6+$BO$47,$AI$47:$BL$77,$B11+1,FALSE)=\"\",\"\",HLOOKUP(AW$6+$BO$47,$AI$47:$BL$77,$B11+1,FALSE))","v":""},{"$f":"IF(HLOOKUP(AY$6+$BO$47,$E$47:$AH$77,$B11+1,FALSE)=\"\",\"\",HLOOKUP(AY$6+$BO$47,$E$47:$AH$77,$B11+1,FALSE)*$D11)","v":""},{"$f":"IF(HLOOKUP(AY$6+$BO$47,$AI$47:$BL$77,$B11+1,FALSE)=\"\",\"\",HLOOKUP(AY$6+$BO$47,$AI$47:$BL$77,$B11+1,FALSE))","v":""},{"$f":"IF(HLOOKUP(BA$6+$BO$47,$E$47:$AH$77,$B11+1,FALSE)=\"\",\"\",HLOOKUP(BA$6+$BO$47,$E$47:$AH$77,$B11+1,FALSE)*$D11)","v":""},{"$f":"IF(HLOOKUP(BA$6+$BO$47,$AI$47:$BL$77,$B11+1,FALSE)=\"\",\"\",HLOOKUP(BA$6+$BO$47,$AI$47:$BL$77,$B11+1,FALSE))","v":""},{"$f":"IF(HLOOKUP(BC$6+$BO$47,$E$47:$AH$77,$B11+1,FALSE)=\"\",\"\",HLOOKUP(BC$6+$BO$47,$E$47:$AH$77,$B11+1,FALSE)*$D11)","v":""},{"$f":"IF(HLOOKUP(BC$6+$BO$47,$AI$47:$BL$77,$B11+1,FALSE)=\"\",\"\",HLOOKUP(BC$6+$BO$47,$AI$47:$BL$77,$B11+1,FALSE))","v":""},{"$f":"IF(HLOOKUP(BE$6+$BO$47,$E$47:$AH$77,$B11+1,FALSE)=\"\",\"\",HLOOKUP(BE$6+$BO$47,$E$47:$AH$77,$B11+1,FALSE)*$D11)","v":""},{"$f":"IF(HLOOKUP(BE$6+$BO$47,$AI$47:$BL$77,$B11+1,FALSE)=\"\",\"\",HLOOKUP(BE$6+$BO$47,$AI$47:$BL$77,$B11+1,FALSE))","v":""},{"$f":"IF(HLOOKUP(BG$6+$BO$47,$E$47:$AH$77,$B11+1,FALSE)=\"\",\"\",HLOOKUP(BG$6+$BO$47,$E$47:$AH$77,$B11+1,FALSE)*$D11)","v":""},{"$f":"IF(HLOOKUP(BG$6+$BO$47,$AI$47:$BL$77,$B11+1,FALSE)=\"\",\"\",HLOOKUP(BG$6+$BO$47,$AI$47:$BL$77,$B11+1,FALSE))","v":""},{"$f":"IF(HLOOKUP(BI$6+$BO$47,$E$47:$AH$77,$B11+1,FALSE)=\"\",\"\",HLOOKUP(BI$6+$BO$47,$E$47:$AH$77,$B11+1,FALSE)*$D11)","v":""},{"$f":"IF(HLOOKUP(BI$6+$BO$47,$AI$47:$BL$77,$B11+1,FALSE)=\"\",\"\",HLOOKUP(BI$6+$BO$47,$AI$47:$BL$77,$B11+1,FALSE))","v":""},{"$f":"IF(HLOOKUP(BK$6+$BO$47,$E$47:$AH$77,$B11+1,FALSE)=\"\",\"\",HLOOKUP(BK$6+$BO$47,$E$47:$AH$77,$B11+1,FALSE)*$D11)","v":""},{"$f":"IF(HLOOKUP(BK$6+$BO$47,$AI$47:$BL$77,$B11+1,FALSE)=\"\",\"\",HLOOKUP(BK$6+$BO$47,$AI$47:$BL$77,$B11+1,FALSE))","v":""},{"$f":"MAX(E11,G11,I11,K11,M11,O11,Q11,S11,U11,W11,Y11,AA11,AC11,AE11,AG11,AI11,AK11,AM11,AO11,AQ11,AS11,AU11,AW11,AY11,BA11,BC11,BE11,BG11,BI11,BK11)","v":0.99880573414480067},{"$f":"MATCH($BM11,E11:BK11,0)+4","v":5},{"$f":"INDIRECT(SUBSTITUTE(ADDRESS(1,$BN11,4),\"1\",\"7\"))","v":7.7482391086825461E-3}]
[null,{"$f":"B11+1","v":2},"ED Platform horizontal sway translation DOF (internal DOF index = DOF_Sw), m",1,4.1901908180475853E-3,-89.99861559777878,0.9987909493753081,0,8.7098085406138115E-2,39.682327124007593,0.29121354707812441,-7.7987345107727339,0.27595134208715,-14.98817644865016,1.2742446792114269E-5,26.458956066132188,1.7917786365503671E-4,-88.363882857960704,5.3615146061797804E-3,106.1375627600619,3.308229350816241E-4,153.05675082192221,2.888092215103004E-4,-115.0267279475254,1.4862906150254489E-4,-150.99389552504761,6.676432363628916E-4,-93.378962452105284,2.930600259667017E-5,11.271038327353541,4.2222869065835812E-5,-89.809064022609078,1.975461596470967E-7,-51.224545664683269,8.2987696736071073E-8,144.06373531241729,2.3411209934365941E-7,-49.486776055788617,1.938876019112342E-5,23.277867142420479,2.162723723964572E-7,-81.695755069206882,1.263495273450714E-7,79.504007844725194,"","","","","","","","","","","","","","","","","","","","",0.9987909493753081,7,{"$f":"INDIRECT(SUBSTITUTE(ADDRESS(1,$BN12,4),\"1\",\"7\"))","v":7.8196908171259735E-3}]
[null,3,"ED Platform vertical heave translation DOF (internal DOF index = DOF_Hv), m",1,1.40285872928127E-4,1.0317385769495551,8.896177552340395E-7,71.227244408756491,1.5773005704176159E-3,78.066909647722241,1.02512758468654E-2,85.525292110431778,1.077365206924007E-2,-95.277241441074239,0.95288435760191403,180,3.231973085328402E-5,5.241591599337152,3.4968636598450903E-5,145.51030637258401,7.0402602888059335E-5,90.389899969081895,2.1553657506021409E-5,-110.3444304328662,2.2629110716992448E-5,90.734174988616331,3.5296000157760709E-6,-112.90277407977911,4.4396597119451652E-6,121.0650368269344,2.33275029243062E-5,-1.8787096809703261,2.1403711605861301E-7,-126.0182167782431,2.4669586654620819E-8,48.770584602446952,9.9589948114882537E-7,-2.9514966996312539,1.7499459404302599E-7,-95.285707727197462,2.1318710231552061E-7,41.199822076860642,1.966540184360298E-8,-7.3429366252624257,"","","","","","","","","","","","","","","","","","","","",0.95288435760191403,15,{"$f":"INDIRECT(SUBSTITUTE(ADDRESS(1,$BN13,4),\"1\",\"7\"))","v":5.0577277413152592E-2}]
[null,4,"ED Platform roll tilt rotation DOF (internal DOF index = DOF_R), rad",1,7.1509012951355326E-6,-43.423229038377492,5.3770521090979015E-4,-1.2944637463535711,6.3515822395978829E-3,-95.231656762752536,5.002246384148254E-2,172.63743804677119,4.7758922303144068E-2,165.28966835002959,2.6521950551554172E-6,-140.24215846224499,1.1213919846483949E-5,91.625228312197223,3.1924578479373999E-4,-73.771806450555715,1.9851371641659552E-5,-26.372842022463981,1.696636593459766E-5,65.221136837075989,7.8028192748013485E-6,28.84838250743865,3.4377407154307448E-5,86.460889922719375,1.5043149968957341E-6,-168.4282649170529,2.222716486295494E-6,89.935477050576779,8.4534347389021992E-9,127.6862489149932,3.4821412904754199E-9,-37.019750622947662,9.8447013703486974E-9,130.42006745512609,8.0530689869360233E-7,-156.760417045841,8.9453531085575955E-9,97.446289054045891,4.744774679724932E-9,-100.9870102373809,"","","","","","","","","","","","","","","","","","","","",5.002246384148254E-2,11,{"$f":"INDIRECT(SUBSTITUTE(ADDRESS(1,$BN14,4),\"1\",\"7\"))","v":3.6064335327527293E-2}]
[null,5,"ED Platform pitch tilt rotation DOF (internal DOF index = DOF_P), rad",1,5.5036256318966427E-4,178.62184431491281,4.2169426111951504E-6,-36.442021541180267,2.5269246046298239E-3,-177.48208054198841,4.9123049894062562E-2,89.327887683036408,5.0526910239974153E-2,-91.869363388668518,2.8270762144548111E-4,3.157925831319488,6.7288019045385315E-5,7.0532814365176817,3.0491496655413441E-5,63.062242779499172,6.5082660608531214E-5,87.049961781869243,7.6523540663167285E-5,-46.541508380466738,1.2797453547430571E-5,85.04043231055752,3.118471038480009E-6,-20.96613914824799,4.7275922548681286E-6,-86.237293823268558,1.303903540319215E-6,-160.23058001309451,4.7144710366471488E-8,43.529154352712553,2.8119352289443241E-9,153.80725618336231,1.9560348991048131E-7,175.2628492706221,2.594301322577475E-8,94.063474507318617,3.8113983381109158E-8,-146.57312325437499,2.2669318958317769E-9,165.11062640549429,"","","","","","","","","","","","","","","","","","","","",5.0526910239974153E-2,13,{"$f":"INDIRECT(SUBSTITUTE(ADDRESS(1,$BN15,4),\"1\",\"7\"))","v":3.62227389599327E-2}]
[null,6,"ED Platform yaw rotation DOF (internal DOF index = DOF_Y), rad",1,7.1872376937852343E-5,-105.8906638026273,1.6647870615042829E-4,-31.814781744722861,0.21192722160623581,-104.5132524763237,4.4608940480303037E-3,5.0534396630642782,6.6403695162376558E-4,-129.49189794351599,1.043260242973412E-5,-123.3336202794892,7.7968763878078829E-6,89.781553596665162,1.6259887184572781E-6,-103.4898335944107,1.626547035147657E-6,30.68594428947301,3.2144221833480071E-6,-124.5206649075529,5.0484694248078029E-7,17.02581596261231,1.2049558035923809E-6,88.725859030923004,8.5726226441667694E-7,2.585589934308707,1.0862878027839281E-7,-22.192750198640461,4.1800237824268649E-9,-86.146509994606703,8.2912271546912757E-11,-134.1675299139186,2.2331942452180568E-9,-71.082303036728845,2.373395023971529E-8,16.9834702485552,2.1458152735062662E-9,-172.6224914209173,1.1502769423600171E-8,-102.58702596113611,"","","","","","","","","","","","","","","","","","","","",0.21192722160623581,9,{"$f":"INDIRECT(SUBSTITUTE(ADDRESS(1,$BN16,4),\"1\",\"7\"))","v":1.190840197260667E-2}]
[null,7,"ED 1st tower fore-aft bending mode DOF (internal DOF index = DOF_TFA1), m",6.9206546939340457E-3,5.9984914712542635E-6,174.6017629845245,1.5325028567096029E-7,-73.051150177369877,2.0876408868009569E-4,-179.9854108193442,1.6237222607124709E-3,90.258411540944863,1.6529620354787044E-3,-90.371157288630002,1.7538254741211911E-6,156.7034662900077,1.2271272209703942E-4,-172.4368982672562,6.1900682647931008E-5,-113.8943236025025,1.290707768291374E-4,-92.48914048917878,1.5591380249943977E-4,133.71877167562309,4.6039447889049231E-5,-92.674413475671727,1.149235670973089E-5,150.78715326032849,1.1035806476951473E-5,94.21040061519966,3.5972236099124836E-6,16.831533688048069,4.5339128519239555E-8,-153.16716861443021,2.7150392712629724E-8,-93.126197324089361,1.2532839921234768E-7,-12.098920338689251,9.6373479702636633E-9,-35.760430454082652,1.8897223735113775E-8,1.719162805683023,2.8532519471435357E-9,142.81883153373411,"","","","","","","","","","","","","","","","","","","","",1.6529620354787044E-3,13,{"$f":"INDIRECT(SUBSTITUTE(ADDRESS(1,$BN17,4),\"1\",\"7\"))","v":3.62227389599327E-2}]
[null,8,"ED 1st tower side-to-side bending mode DOF (internal DOF index = DOF_TSS1), m",6.9206546939340457E-3,1.7702681922062007E-7,-63.985183092726679,5.7313133578017774E-6,-4.6876181121341416,2.8642734392791741E-4,-95.272380889585591,1.6580652616468065E-3,173.52382461852599,1.5600995909343374E-3,166.62703039654451,1.0037926175816201E-7,11.12577583985327,1.9516205676517129E-5,-88.677276536103847,6.1477957635926108E-4,106.36901510057371,4.6712725023802818E-5,159.03380711327489,4.2125331913785621E-5,-113.3804201854159,1.6578014127961211E-5,-149.81637130656549,7.5277671890648469E-5,-93.800289628274868,5.2728816727642511E-6,15.19680654159634,1.0918236748820055E-5,-90.424166750152679,4.1693635853596773E-8,-70.87452943148277,1.8736096290034669E-9,130.73089963116331,2.4792562544167604E-8,-59.527711068912538,5.4348172305988083E-7,18.620952512921381,2.6476253606382016E-8,-161.90264861737199,4.1533115337040301E-7,-100.3083312234603,"","","","","","","","","","","","","","","","","","","","",1.6580652616468065E-3,11,{"$f":"INDIRECT(SUBSTITUTE(ADDRESS(1,$BN18,4),\"1\",\"7\"))","v":3.6064335327527293E-2}]
[null,9,"ED 2nd tower fore-aft bending mode DOF (internal DOF index = DOF_TFA2), m",6.9206546939340457E-3,1.5416066701262768E-8,174.16424822309671,1.9962671761595882E-9,73.189688443754775,3.0012686502669869E-6,-2.8994032143610911E-2,3.063326956624383E-6,88.879426085353572,3.5513197885879124E-6,-91.867408002899154,3.7422778121707192E-7,0.68512495021811937,1.1082368660829135E-6,3.2105278314212931,2.7620512552369809E-7,67.93793592866254,1.6584531228997356E-7,14.27975428904637,4.3209996133506202E-7,157.05434554111491,4.8080680149643368E-9,101.60206785279949,8.8794628745792799E-8,-175.75491499413681,5.3611365755715501E-7,96.030372680752706,1.728679560589264E-7,25.521437360091529,4.8074794779703323E-8,-127.6329880858151,3.239794254702141E-9,-1.9325646767724549,2.286795727207592E-7,-2.6370952451893519,3.5787622556801702E-8,-96.805525913300045,4.9420017982571365E-8,39.869098464388429,4.858800742174816E-9,-15.419122126573329,"","","","","","","","","","","","","","","","","","","","",3.5513197885879124E-6,13,{"$f":"INDIRECT(SUBSTITUTE(ADDRESS(1,$BN19,4),\"1\",\"7\"))","v":3.62227389599327E-2}]
[null,10,"ED 2nd tower side-to-side bending mode DOF (internal DOF index = DOF_TSS2), m",6.9206546939340457E-3,3.7898389937530397E-10,49.709962422356341,1.5486383413798385E-8,-4.6385214114683464,5.241716633140649E-7,-96.289269782155117,2.9701283571872875E-6,172.3563969922341,3.310235359901723E-6,166.99647645282391,1.781171189911498E-9,-78.141385528408591,1.5936746061281304E-7,90.885052924369447,2.7687649671951637E-6,-73.651192900356961,2.6911269223713162E-7,-12.59792068724291,1.6881082084425682E-7,74.039861992844052,3.803811292349719E-7,-146.37975858668989,2.4127560528011312E-6,-88.95323274939436,1.1756569040139921E-7,12.220414572776489,1.3327221073532648E-7,-82.576707833985395,7.6935624281796666E-9,-42.529979350763178,4.0610520577310153E-9,151.33370882018241,1.2163597526361908E-8,-41.622641787697937,1.0061262181835953E-6,23.748110710062619,1.1517791358417807E-8,-70.814858160708226,2.4548291377859289E-8,80.053384797500442,"","","","","","","","","","","","","","","","","","","","",3.310235359901723E-6,13,{"$f":"INDIRECT(SUBSTITUTE(ADDRESS(1,$BN20,4),\"1\",\"7\"))","v":3.62227389599327E-2}]
[null,11,"ED Nacelle yaw DOF (internal DOF index = DOF_Yaw), rad",1,2.4963505068174378E-7,-87.796489810444939,5.0439590989741465E-7,-4.7361507204095563,3.2904138623945109E-5,-89.957285979748832,2.4731631943888612E-4,176.35784251852559,4.099238727046614E-5,130.72312880724391,7.2716243674396524E-7,93.431882864690209,4.2685629776078918E-5,-87.781766346002144,3.699503771097959E-5,98.128353904748749,1.405620344521875E-5,-154.29054006942661,2.6780217820995539E-5,56.337276733441293,8.8513563626379026E-6,-159.1457501157268,2.9402025315992071E-5,-89.398546501522119,2.0453336570652081E-5,-175.87474928582631,2.9241783996640378E-6,174.7305133816798,7.9119471573403519E-7,105.6668413386224,2.094439632777349E-8,89.475614580621439,5.1250909546292333E-7,113.21900924366869,3.679499668528608E-6,-166.62134836401049,5.9462916464570635E-7,15.055401147833109,1.00289654182134E-5,79.644382126221132,"","","","","","","","","","","","","","","","","","","","",2.4731631943888612E-4,11,{"$f":"INDIRECT(SUBSTITUTE(ADDRESS(1,$BN21,4),\"1\",\"7\"))","v":3.6064335327527293E-2}]
[null,12,"ED 1st flapwise bending-mode DOF of blade 1 (internal DOF index = DOF_BF(1,1)), m",8.5470085470085479E-3,8.1576509877878745E-6,174.500078663843,6.5740538891968064E-7,79.563131662601677,1.6768692119060498E-4,-170.57086485323049,1.8892566648472618E-3,92.547207903487404,2.6197709312645637E-3,-93.364769593763427,4.4637337234138665E-5,1.5246535605538021,1.8032035954364343E-4,-169.73917234597531,3.9952065971570079E-4,159.61926456959591,3.7333222137508345E-4,-97.616226705981049,5.2038815902129677E-4,137.29943258752891,2.0650008876827533E-3,88.456071452019614,3.7262637805406367E-4,14.998957218663749,2.6404237855946663E-5,-95.290807001608826,1.2985150361290181E-5,114.0297991397844,1.4600421727567258E-6,50.264362989323708,3.7117875735978573E-4,82.688730132962164,9.8943844745582496E-6,88.757743763577793,4.6768567858904095E-5,-93.105461585802928,2.9063320367053444E-6,91.197955984829761,8.5675255271322656E-7,-78.951359838490504,"","","","","","","","","","","","","","","","","","","","",2.6197709312645637E-3,13,{"$f":"INDIRECT(SUBSTITUTE(ADDRESS(1,$BN22,4),\"1\",\"7\"))","v":3.62227389599327E-2}]
[null,13,"ED 1st flapwise bending-mode DOF of blade 2 (internal DOF index = DOF_BF(2,1)), m",8.5470085470085479E-3,2.2796285121385244E-6,162.57539994162639,5.0857146219494653E-6,-96.039185824309428,7.7889204363195061E-3,180,1.0271414107444531E-3,89.616057240238447,2.4558812305749354E-4,-171.08299584486809,6.16287498146822E-6,-167.9115520355671,2.3055727778142515E-3,178.45612901887779,4.7772086151194636E-4,179.27370110198109,7.6829678190805427E-4,86.843557778496205,1.0691638294630574E-3,-28.493288414630442,1.7337187424707736E-5,100.3647541622323,1.1479856333857325E-4,7.5849429516682756,1.160328602852988E-3,-91.143644032998438,1.8618700643833959E-4,24.36321143356372,2.856443461544225E-4,-2.4435364737676522,1.3870227124527309E-6,115.3987123137685,2.5460225564255198E-4,89.263936149821731,2.0266246945390131E-4,-93.172760836254312,2.8159299652689713E-4,83.740282799653116,9.3984451491914615E-6,23.673066993181191,"","","","","","","","","","","","","","","","","","","","",7.7889204363195061E-3,9,{"$f":"INDIRECT(SUBSTITUTE(ADDRESS(1,$BN23,4),\"1\",\"7\"))","v":1.190840197260667E-2}]
[null,14,"ED 1st flapwise bending-mode DOF of blade 3 (internal DOF index = DOF_BF(3,1)), m",8.5470085470085479E-3,1.3580944062775898E-5,-89.311516962599782,6.6762555722831226E-7,-15.62735923578129,4.4509601164552577E-4,-97.94809669735335,6.105246498042712E-3,180,5.9427293112145046E-3,0,4.3854122398669573E-5,76.140839020039706,2.3138593727720998E-3,-91.609741523997215,3.78375784770709E-4,-89.132177178008121,8.5187367371681211E-4,176.9337067477324,1.192679978183719E-3,60.028828596154213,1.8247330744039131E-4,-178.3912005945181,4.5204110133613163E-5,-150.42056916346749,1.1516391991859172E-3,178.51395980941501,1.7955546442723891E-4,-69.638561995180993,2.9283513545262169E-4,83.046037727367249,6.5826379386801095E-6,113.9929270875882,2.6599492900379493E-4,87.780205981792122,2.802404377111455E-4,86.704439419120504,1.9382590514311908E-4,-1.7525095496438261,2.0223955325066235E-4,-91.877653660854236,"","","","","","","","","","","","","","","","","","","","",6.105246498042712E-3,11,{"$f":"INDIRECT(SUBSTITUTE(ADDRESS(1,$BN24,4),\"1\",\"7\"))","v":3.6064335327527293E-2}]
[null,15,"ED 1st edgewise bending-mode DOF of blade 1 (internal DOF index = DOF_BE(1,1)), m",8.5470085470085479E-3,5.0024550161883346E-7,172.88053293815079,1.5766282236849574E-7,163.02262090981449,2.9909748284475294E-5,85.841784879996297,2.6858510034243256E-4,20.92626074462332,3.1235743471373753E-4,-41.767002402859532,2.7633134743313252E-6,3.554054344826203,2.5001898334628711E-5,113.2492030521023,1.3967679061190103E-3,-76.354626935326792,1.5206758273267085E-4,-27.208566289972801,1.5688783818575258E-4,81.092674308436543,2.6626163478539347E-4,177.1347845491932,1.8493876477931677E-3,-91.534700417255991,4.4666834881078905E-5,9.5145839157661243,7.044122673592112E-5,-90.078659986590935,1.8877722976371866E-7,-167.25824807154549,2.1727357791390293E-7,15.84925102356233,4.1660696190006034E-7,146.44344072363339,4.6619030357463337E-5,-155.09708391884419,6.1464127474511807E-7,128.99011554942001,4.4897341851287009E-6,-99.814400152800914,"","","","","","","","","","","","","","","","","","","","",1.8493876477931677E-3,27,{"$f":"INDIRECT(SUBSTITUTE(ADDRESS(1,$BN25,4),\"1\",\"7\"))","v":0.69323826807030886}]
[null,16,"ED 1st edgewise bending-mode DOF of blade 2 (internal DOF index = DOF_BE(2,1)), m",8.5470085470085479E-3,1.7875660461730807E-7,163.14567710126701,4.3478293587462141E-6,179.12886715261399,4.9124273653511265E-4,152.59834510292151,1.2210949678906941E-3,-4.2921646073857396,1.2285164488818165E-3,-13.25775477214779,7.003204561658248E-6,73.719423577144681,1.6222346393741607E-4,-122.5658829083774,1.9309751652640498E-3,-90.533442016469152,1.705871198989795E-3,178.7207437702842,1.4238451259357017E-3,-91.526943958342159,8.4417813878724481E-5,10.763828549914731,4.3215473685729976E-5,81.371195341371177,1.310750581884607E-4,-6.710701505259232,1.0758894095312095E-3,-91.293341722133604,1.2391891670558541E-7,-108.52389698239,3.2691966968232471E-8,42.145924979966559,1.3337886465416824E-6,21.507416510784729,3.1927467178291431E-6,-152.54010155521399,5.0730116606016051E-7,53.020213139875388,1.9336662430355079E-6,78.986135386795084,"","","","","","","","","","","","","","","","","","","","",1.9309751652640498E-3,19,{"$f":"INDIRECT(SUBSTITUTE(ADDRESS(1,$BN26,4),\"1\",\"7\"))","v":0.42520049370191132}]
[null,17,"ED 1st edgewise bending-mode DOF of blade 3 (internal DOF index = DOF_BE(3,1)), m",8.5470085470085479E-3,9.502896927991899E-7,-124.03835745693181,3.6800792829001376E-8,144.0370005783322,4.5510566844386557E-5,-31.35653093609389,4.0727236853467649E-4,149.25794033087331,4.2768836115744321E-4,-23.248927382984881,1.2657468367030376E-4,179.0271187180231,1.4728487245722958E-4,-39.227475700333081,1.4729546094811668E-3,-6.5712995786983033,1.8200647743283479E-3,-91.734855530320132,1.4189169183777123E-3,0.34583763262632777,2.4728159540960088E-5,-102.27362133937839,2.3390591236948448E-4,2.2495130904303751,1.3182599706488437E-4,-94.301421882325783,1.0466571962866968E-3,178.69315397033361,4.6894854808758183E-7,-114.6825401734021,4.5753467940738819E-8,36.017033361719228,2.4000074453374551E-6,-1.5058477941649739,1.1495435976221684E-6,28.40734829454631,4.5082306741072132E-7,37.376998674808434,1.9514168280396934E-6,-95.63456660631627,"","","","","","","","","","","","","","","","","","","","",1.8200647743283479E-3,21,{"$f":"INDIRECT(SUBSTITUTE(ADDRESS(1,$BN27,4),\"1\",\"7\"))","v":0.46198617722285279}]
[null,18,"ED 2nd flapwise bending-mode DOF of blade 1 (internal DOF index = DOF_BF(1,2)), m",8.5470085470085479E-3,3.198057462385173E-6,-5.5209829271554796,3.0633355277418307E-7,-97.673298514433625,6.8213709453799384E-5,9.1757997113807228,7.1496363440564346E-4,-88.059782937657303,1.0491941871354855E-3,86.925886928691057,1.7447516147915523E-5,-178.4847981463156,5.3361698991632451E-5,8.7533501326930416,1.0089295096480496E-4,-6.4285003165227366,9.3734436515239313E-5,80.38235827702087,1.1446346755185915E-4,-44.597140396542677,8.5823033796954108E-5,-106.246419793681,9.7004975347740271E-5,-76.058287018010603,1.6004433862067009E-5,-76.493241085290748,1.2481867555789497E-5,-134.3823147333085,1.53356189773579E-6,-127.4250229835217,3.9365645951001824E-4,-97.321719284480594,1.0484765001374898E-5,-89.877854883731786,5.3005649524408059E-5,80.470730662317365,3.0894360282913728E-6,-87.094334867648584,1.5312878537759823E-6,91.763479731940805,"","","","","","","","","","","","","","","","","","","","",1.0491941871354855E-3,13,{"$f":"INDIRECT(SUBSTITUTE(ADDRESS(1,$BN28,4),\"1\",\"7\"))","v":3.62227389599327E-2}]
[null,19,"ED 2nd flapwise bending-mode DOF of blade 2 (internal DOF index = DOF_BF(2,2)), m",8.5470085470085479E-3,7.9051150848941979E-7,-19.484424018083171,1.8499937849471429E-6,68.522049425814018,2.7082493467895158E-3,-0.57097781815940241,3.2955264779582359E-4,-117.2446216527303,4.224335907807818E-5,-174.68729642017681,3.1745207036852146E-6,4.6530105474401209,2.6212006354021542E-4,-2.736345262611299,1.5403599491909769E-5,18.91222248795458,8.2894052590506626E-5,156.63849364587219,1.5968769341142514E-4,-63.647335955288,8.0401168790439868E-5,84.826166987958175,5.3142050936785436E-5,-46.840969546241134,5.726839631197426E-5,76.574240555706965,5.9894326627463018E-5,-85.864829450361512,3.0445396973067054E-4,177.96080320390291,1.4627856678185531E-6,-55.802033977402502,2.706609471841365E-4,-88.09314949075349,2.1328128221740155E-4,86.760125466842098,2.9675971642183159E-4,-95.910536981415333,9.9094886777470594E-6,-153.84588187798289,"","","","","","","","","","","","","","","","","","","","",2.7082493467895158E-3,9,{"$f":"INDIRECT(SUBSTITUTE(ADDRESS(1,$BN29,4),\"1\",\"7\"))","v":1.190840197260667E-2}]
[null,20,"ED 2nd flapwise bending-mode DOF of blade 3 (internal DOF index = DOF_BF(3,2)), m",8.5470085470085479E-3,4.7226885086414453E-6,89.913138240598244,2.4124908743326147E-7,166.9336252602574,1.3938076487580674E-4,75.07795678343517,2.1206442421614546E-3,-0.45800702170508001,2.0587505271675095E-3,179.30666453239849,1.8205811101978438E-5,-54.033288579335583,2.6522073088880416E-4,86.628424427294448,4.4911839587375566E-5,-5.725335819761046,6.6668016719504639E-5,-92.663839461030889,1.2031743098003026E-4,18.359607009596189,4.0112862395380732E-5,161.27109867037569,7.4752675073059212E-5,63.357238364412083,1.1970800098821788E-4,-6.9138624153604544,4.1276134816086316E-5,-172.8827505596995,3.1201833523852065E-4,-96.84436562576154,7.0049948895248854E-6,-66.326055638786016,2.8323061042130864E-4,-92.199723759443472,2.9280443327815128E-4,-91.005439375870282,2.0673084270735916E-4,178.3681586255355,1.9632133807958509E-4,88.886177341129994,"","","","","","","","","","","","","","","","","","","","",2.1206442421614546E-3,11,{"$f":"INDIRECT(SUBSTITUTE(ADDRESS(1,$BN30,4),\"1\",\"7\"))","v":3.6064335327527293E-2}]
[null,21,null,{"$f":"1","v":1},"","","","","","","","","","","","","","","","","","","","","","","","","","","","","","","","","","","","","","","","","","","","","","","","","","","","","","","","","","","","",0,{"$error":"#N/A"},{"$f":"INDIRECT(SUBSTITUTE(ADDRESS(1,$BN31,4),\"1\",\"7\"))","v":{"$error":"#N/A"}}]
[null,22,null,{"$f":"1","v":1},"","","","","","","","","","","","","","","","","","","","","","","","","","","","","","","","","","","","","","","","","","","","","","","","","","","","","","","","","","","","",0,{"$error":"#N/A"},{"$f":"INDIRECT(SUBSTITUTE(ADDRESS(1,$BN32,4),\"1\",\"7\"))","v":{"$error":"#N/A"}}]
[null,23,null,{"$f":"1","v":1},"","","","","","","","","","","","","","","","","","","","","","","","","","","","","","","","","","","","","","","","","","","","","","","","","","","","","","","","","","","","",0,{"$error":"#N/A"},{"$f":"INDIRECT(SUBSTITUTE(ADDRESS(1,$BN33,4),\"1\",\"7\"))","v":{"$error":"#N/A"}}]
[null,24,null,{"$f":"1","v":1},"","","","","","","","","","","","","","","","","","","","","","","","","","","","","","","","","","","","","","","","","","","","","","","","","","","","","","","","","","","","",0,{"$error":"#N/A"},{"$f":"INDIRECT(SUBSTITUTE(ADDRESS(1,$BN34,4),\"1\",\"7\"))","v":{"$error":"#N/A"}}]
[null,25,null,{"$f":"1","v":1},"","","","","","","","","","","","","","","","","","","","","","","","","","","","","","","","","","","","","","","","","","","","","","","","","","","","","","","","","","","","",0,{"$error":"#N/A"},{"$f":"INDIRECT(SUBSTITUTE(ADDRESS(1,$BN35,4),\"1\",\"7\"))","v":{"$error":"#N/A"}}]
[null,26,null,{"$f":"1","v":1},"","","","","","","","","","","","","","","","","","","","","","","","","","","","","","","","","","","","","","","","","","","","","","","","","","","","","","","","","","","","",0,{"$error":"#N/A"},{"$f":"INDIRECT(SUBSTITUTE(ADDRESS(1,$BN36,4),\"1\",\"7\"))","v":{"$error":"#N/A"}}]
[null,27,null,{"$f":"1","v":1},"","","","","","","","","","","","","","","","","","","","","","","","","","","","","","","","","","","","","","","","","","","","","","","","","","","","","","","","","","","","",0,{"$error":"#N/A"},{"$f":"INDIRECT(SUBSTITUTE(ADDRESS(1,$BN37,4),\"1\",\"7\"))","v":{"$error":"#N/A"}}]
[null,28,null,{"$f":"1","v":1},"","","","","","","","","","","","","","","","","","","","","","","","","","","","","","","","","","","","","","","","","","","","","","","","","","","","","","","","","","","","",0,{"$error":"#N/A"},{"$f":"INDIRECT(SUBSTITUTE(ADDRESS(1,$BN38,4),\"1\",\"7\"))","v":{"$error":"#N/A"}}]
[null,29,null,{"$f":"1","v":1},"","","","","","","","","","","","","","","","","","","","","","","","","","","","","","","","","","","","","","","","","","","","","","","","","","","","","","","","","","","","",0,{"$error":"#N/A"},{"$f":"INDIRECT(SUBSTITUTE(ADDRESS(1,$BN39,4),\"1\",\"7\"))","v":{"$error":"#N/A"}}]
[null,30,null,{"$f":"1","v":1},"","","","","","","","","","","","","","","","","","","","","","","","","","","","","","","","","","","","","","","","","","","","","","","","","","","","","","","","","","","","",0,{"$error":"#N/A"},{"$f":"INDIRECT(SUBSTITUTE(ADDRESS(1,$BN40,4),\"1\",\"7\"))","v":{"$error":"#N/A"}}]
[null,null,null,null,{"$f":"MAX(E11:E40)","v":0.99880573414480067},null,{"$f":"MAX(G11:G40)","v":0.9987909493753081},null,{"$f":"MAX(I11:I40)","v":0.21192722160623581},null,{"$f":"MAX(K11:K40)","v":0.29121354707812441},null,{"$f":"MAX(M11:M40)","v":0.2931850463412885},null,{"$f":"MAX(O11:O40)","v":0.95288435760191403},null,{"$f":"MAX(Q11:Q40)","v":2.3138593727720998E-3},null,{"$f":"MAX(S11:S40)","v":5.3615146061797804E-3},null,{"$f":"MAX(U11:U40)","v":1.8200647743283479E-3},null,{"$f":"MAX(W11:W40)","v":1.4238451259357017E-3},null,{"$f":"MAX(Y11:Y40)","v":2.0650008876827533E-3},null,{"$f":"MAX(AA11:AA40)","v":1.8493876477931677E-3},null,{"$f":"MAX(AC11:AC40)","v":1.160328602852988E-3},null,{"$f":"MAX(AE11:AE40)","v":1.0758894095312095E-3},null,{"$f":"MAX(AG11:AG40)","v":3.1201833523852065E-4},null,{"$f":"MAX(AI11:AI40)","v":3.9365645951001824E-4},null,{"$f":"MAX(AK11:AK40)","v":2.8323061042130864E-4},null,{"$f":"MAX(AM11:AM40)","v":2.9280443327815128E-4},null,{"$f":"MAX(AO11:AO40)","v":2.9675971642183159E-4},null,{"$f":"MAX(AQ11:AQ40)","v":2.0223955325066235E-4},null,{"$f":"MAX(AS11:AS40)","v":0},null,{"$f":"MAX(AU11:AU40)","v":0},null,{"$f":"MAX(AW11:AW40)","v":0},null,{"$f":"MAX(AY11:AY40)","v":0},null,{"$f":"MAX(BA11:BA40)","v":0},null,{"$f":"MAX(BC11:BC40)","v":0},null,{"$f":"MAX(BE11:BE40)","v":0},null,{"$f":"MAX(BG11:BG40)","v":0},null,{"$f":"MAX(BI11:BI40)","v":0},null,{"$f":"MAX(BK11:BK40)","v":0}]
[null,null,"Green Background = Maximum value of the mode shape magnitude within a row"]
[null,null,"Red Bold Text = Maximum value of the mode shape magnitude within a column"]
[]
[]
[]
[null,null,null,null,{"$f":"D48","v":56},{"$f":"D49","v":55},{"$f":"D50","v":54},{"$f":"D51","v":53},{"$f":"D52","v":52},{"$f":"D53","v":51},{"$f":"D54","v":50},{"$f":"D55","v":49},{"$f":"D56","v":48},{"$f":"D57","v":47},{"$f":"D58","v":46},{"$f":"D59","v":45},{"$f":"D60","v":43},{"$f":"D61","v":44},{"$f":"D62","v":42},{"$f":"D63","v":41},{"$f":"D64","v":40},{"$f":"D65","v":39},{"$f":"D66","v":37},{"$f":"D67","v":38},{"$f":"D68","v":57},{"$f":"D69","v":58},{"$f":"D70","v":59},{"$f":"D71","v":60},{"$f":"D72","v":61},{"$f":"D73","v":62},{"$f":"D74","v":63},{"$f":"D75","v":64},{"$f":"D76","v":65},{"$f":"D77","v":66},{"$f":"E47","v":56},55,54,53,52,51,50,49,48,47,46,45,43,44,42,41,40,39,37,38,57,58,59,60,61,62,63,64,65,66,null,null,{"$f":"CT77+1","v":36},{"$f":"BO47+1","v":37},38,39,40,41,42,43,44,45,46,47,48,49,50,51,52,53,54,55,56,57,58,59,60,61,62,63,64,65,66]
[null,null,null,{"$f":"CS48","v":56},5.9035113246049087E-8,9.1605506027038323E-7,6.21421632451561E-7,4.6431270267913804E-6,6.6655330101373369E-8,1.1003955821850591E-6,2.5633536722439279E-5,9.4212043554742643E-5,5.7287610950988953E-5,2.2646391976267739E-4,1.3546548817326681E-3,1.1322725618623641E-3,1.0757914326860159E-3,5.1202535418153668E-4,1.7742513114627711E-3,0.2931850463412885,0.28567001955985588,4.0159378709625389E-2,0.99880573414480067,2.6012391841415509E-3,null,null,null,null,null,null,null,null,null,null,165.35188397800789,-145.77170911852781,94.106097171792115,175.4955693240158,155.63974557723799,44.474706580921932,-159.40957027662989,-86.220855693254791,-19.822745612023731,85.033811523372094,-46.280559721645282,87.470620951554793,7.5491061379009743,63.082862345774508,2.9415632178922881,-91.637237390701387,89.284759146487261,145.33993579669249,0,32.386692113799427,null,null,null,null,null,null,null,null,null,null,3.2765373108109487E-2,4.8144049510167042,4.8169913332783683,{"$f":"IF(MIN(BO$48:BO$77)=$BP$47,BO48,IF(BO48=MIN(BO$48:BO$77),BP$47,IF(BO48=\"\",$CT48,BO48)))","v":4.8169913332783683},4.8169913332783683,4.8169913332783683,4.8169913332783683,4.8169913332783683,4.8169913332783683,4.8169913332783683,4.8169913332783683,4.8169913332783683,4.8169913332783683,4.8169913332783683,4.8169913332783683,4.8169913332783683,4.8169913332783683,4.8169913332783683,4.8169913332783683,4.8169913332783683,4.8169913332783683,4.8169913332783683,56,56,56,56,56,56,56,56,56,56,56,{"$f":"CEILING(MAX(BO48:BO77),1)+1","v":6}]
[null,null,null,55,1.263495273450714E-7,2.162723723964572E-7,1.938876019112342E-5,2.3411209934365941E-7,8.2987696736071073E-8,1.975461596470967E-7,4.2222869065835812E-5,2.930600259667017E-5,6.676432363628916E-4,1.4862906150254489E-4,2.888092215103004E-4,3.308229350816241E-4,1.7917786365503671E-4,5.3615146061797804E-3,1.2742446792114269E-5,0.27595134208715,0.29121354707812441,8.7098085406138115E-2,4.1901908180475853E-3,0.9987909493753081,null,null,null,null,null,null,null,null,null,null,79.504007844725194,-81.695755069206882,23.277867142420479,-49.486776055788617,144.06373531241729,-51.224545664683269,-89.809064022609078,11.271038327353541,-93.378962452105284,-150.99389552504761,-115.0267279475254,153.05675082192221,-88.363882857960704,106.1375627600619,26.458956066132188,-14.98817644865016,-7.7987345107727339,39.682327124007593,-89.99861559777878,0,null,null,null,null,null,null,null,null,null,null,0.10297546588834119,2.7141335119571921,2.7286392413069378,{"$f":"IF(MIN(BO$48:BO$77)=$BP$47,BO49,IF(BO49=MIN(BO$48:BO$77),BP$47,IF(BO49=\"\",$CT49,BO49)))","v":2.7286392413069378},2.7286392413069378,2.7286392413069378,2.7286392413069378,2.7286392413069378,2.7286392413069378,2.7286392413069378,2.7286392413069378,2.7286392413069378,2.7286392413069378,2.7286392413069378,2.7286392413069378,2.7286392413069378,2.7286392413069378,2.7286392413069378,2.7286392413069378,2.7286392413069378,2.7286392413069378,55,55,55,55,55,55,55,55,55,55,55,55,{"$f":"CT48+1","v":7}]
[null,null,null,54,1.966540184360298E-8,2.1318710231552061E-7,1.7499459404302599E-7,9.9589948114882537E-7,2.4669586654620819E-8,2.1403711605861301E-7,2.33275029243062E-5,4.4396597119451652E-6,3.5296000157760709E-6,2.2629110716992448E-5,2.1553657506021409E-5,7.0402602888059335E-5,3.231973085328402E-5,3.4968636598450903E-5,0.95288435760191403,1.077365206924007E-2,1.02512758468654E-2,1.5773005704176159E-3,1.40285872928127E-4,8.896177552340395E-7,null,null,null,null,null,null,null,null,null,null,-7.3429366252624257,41.199822076860642,-95.285707727197462,-2.9514966996312539,48.770584602446952,-126.0182167782431,-1.8787096809703261,121.0650368269344,-112.90277407977911,90.734174988616331,-110.3444304328662,90.389899969081895,5.241591599337152,145.51030637258401,180,-95.277241441074239,85.525292110431778,78.066909647722241,1.0317385769495551,71.227244408756491,null,null,null,null,null,null,null,null,null,null,1.7547326917621162E-2,2.6728681812956729,2.673279776007671,{"$f":"IF(MIN(BO$48:BO$77)=$BP$47,BO50,IF(BO50=MIN(BO$48:BO$77),BP$47,IF(BO50=\"\",$CT50,BO50)))","v":2.673279776007671},2.673279776007671,2.673279776007671,2.673279776007671,2.673279776007671,2.673279776007671,2.673279776007671,2.673279776007671,2.673279776007671,2.673279776007671,2.673279776007671,2.673279776007671,2.673279776007671,2.673279776007671,2.673279776007671,2.673279776007671,2.673279776007671,54,54,54,54,54,54,54,54,54,54,54,54,54,8]
[null,null,null,53,4.744774679724932E-9,8.9453531085575955E-9,8.0530689869360233E-7,9.8447013703486974E-9,3.4821412904754199E-9,8.4534347389021992E-9,2.222716486295494E-6,1.5043149968957341E-6,3.4377407154307448E-5,7.8028192748013485E-6,1.696636593459766E-5,1.9851371641659552E-5,1.1213919846483949E-5,3.1924578479373999E-4,2.6521950551554172E-6,4.7758922303144068E-2,5.002246384148254E-2,6.3515822395978829E-3,7.1509012951355326E-6,5.3770521090979015E-4,null,null,null,null,null,null,null,null,null,null,-100.9870102373809,97.446289054045891,-156.760417045841,130.42006745512609,-37.019750622947662,127.6862489149932,89.935477050576779,-168.4282649170529,86.460889922719375,28.84838250743865,65.221136837075989,-26.372842022463981,91.625228312197223,-73.771806450555715,-140.24215846224499,165.28966835002959,172.63743804677119,-95.231656762752536,-43.423229038377492,-1.2944637463535711,null,null,null,null,null,null,null,null,null,null,3.838299133354045E-2,2.522331827108045,2.5241919003876019,{"$f":"IF(MIN(BO$48:BO$77)=$BP$47,BO51,IF(BO51=MIN(BO$48:BO$77),BP$47,IF(BO51=\"\",$CT51,BO51)))","v":2.5241919003876019},2.5241919003876019,2.5241919003876019,2.5241919003876019,2.5241919003876019,2.5241919003876019,2.5241919003876019,2.5241919003876019,2.5241919003876019,2.5241919003876019,2.5241919003876019,2.5241919003876019,2.5241919003876019,2.5241919003876019,2.5241919003876019,2.5241919003876019,53,53,53,53,53,53,53,53,53,53,53,53,53,53,9]
[null,null,null,52,2.2669318958317769E-9,3.8113983381109158E-8,2.594301322577475E-8,1.9560348991048131E-7,2.8119352289443241E-9,4.7144710366471488E-8,1.303903540319215E-6,4.7275922548681286E-6,3.118471038480009E-6,1.2797453547430571E-5,7.6523540663167285E-5,6.5082660608531214E-5,6.7288019045385315E-5,3.0491496655413441E-5,2.8270762144548111E-4,5.0526910239974153E-2,4.9123049894062562E-2,2.5269246046298239E-3,5.5036256318966427E-4,4.2169426111951504E-6,null,null,null,null,null,null,null,null,null,null,165.11062640549429,-146.57312325437499,94.063474507318617,175.2628492706221,153.80725618336231,43.529154352712553,-160.23058001309451,-86.237293823268558,-20.96613914824799,85.04043231055752,-46.541508380466738,87.049961781869243,7.0532814365176817,63.062242779499172,3.157925831319488,-91.869363388668518,89.327887683036408,-177.48208054198841,178.62184431491281,-36.442021541180267,null,null,null,null,null,null,null,null,null,null,0.12744059989017781,2.4882525743091071,2.5087080667042549,{"$f":"IF(MIN(BO$48:BO$77)=$BP$47,BO52,IF(BO52=MIN(BO$48:BO$77),BP$47,IF(BO52=\"\",$CT52,BO52)))","v":2.5087080667042549},2.5087080667042549,2.5087080667042549,2.5087080667042549,2.5087080667042549,2.5087080667042549,2.5087080667042549,2.5087080667042549,2.5087080667042549,2.5087080667042549,2.5087080667042549,2.5087080667042549,2.5087080667042549,2.5087080667042549,2.5087080667042549,52,52,52,52,52,52,52,52,52,52,52,52,52,52,52,10]
[null,null,null,51,1.1502769423600171E-8,2.1458152735062662E-9,2.373395023971529E-8,2.2331942452180568E-9,8.2912271546912757E-11,4.1800237824268649E-9,1.0862878027839281E-7,8.5726226441667694E-7,1.2049558035923809E-6,5.0484694248078029E-7,3.2144221833480071E-6,1.626547035147657E-6,7.7968763878078829E-6,1.6259887184572781E-6,1.043260242973412E-5,6.6403695162376558E-4,4.4608940480303037E-3,0.21192722160623581,7.1872376937852343E-5,1.6647870615042829E-4,null,null,null,null,null,null,null,null,null,null,-102.58702596113611,-172.6224914209173,16.9834702485552,-71.082303036728845,-134.1675299139186,-86.146509994606703,-22.192750198640461,2.585589934308707,88.725859030923004,17.02581596261231,-124.5206649075529,30.68594428947301,89.781553596665162,-103.4898335944107,-123.3336202794892,-129.49189794351599,5.0534396630642782,-104.5132524763237,-105.8906638026273,-31.814781744722861,null,null,null,null,null,null,null,null,null,null,0.11917281198583481,2.253655055014014,2.269830943644441,{"$f":"IF(MIN(BO$48:BO$77)=$BP$47,BO53,IF(BO53=MIN(BO$48:BO$77),BP$47,IF(BO53=\"\",$CT53,BO53)))","v":2.269830943644441},2.269830943644441,2.269830943644441,2.269830943644441,2.269830943644441,2.269830943644441,2.269830943644441,2.269830943644441,2.269830943644441,2.269830943644441,2.269830943644441,2.269830943644441,2.269830943644441,2.269830943644441,51,51,51,51,51,51,51,51,51,51,51,51,51,51,51,51,11]
[null,null,null,50,4.122806401025052E-7,2.730554343605265E-6,1.3925485949632481E-6,1.8109327044188181E-5,3.9230959950114321E-6,6.5512773753875202E-6,5.1978082551430434E-4,1.5946188568871031E-3,1.660588082772565E-3,6.6524700227281689E-3,2.252876489215655E-2,1.8650081897926211E-2,1.773137477941171E-2,8.9443391392127914E-3,2.5341901188314151E-4,0.23884474931649541,0.23461974806164851,3.016536699383043E-2,8.6675202513888483E-4,2.214390002802541E-5,null,null,null,null,null,null,null,null,null,null,142.81883153373411,1.719162805683023,-35.760430454082652,-12.098920338689251,-93.126197324089361,-153.16716861443021,16.831533688048069,94.21040061519966,150.78715326032849,-92.674413475671727,133.71877167562309,-92.48914048917878,-172.4368982672562,-113.8943236025025,156.7034662900077,-90.371157288630002,90.258411540944863,-179.9854108193442,174.6017629845245,-73.051150177369877,null,null,null,null,null,null,null,null,null,null,2.2571154459651299E-2,0.87647199643215246,0.87669534417825457,{"$f":"IF(MIN(BO$48:BO$77)=$BP$47,BO54,IF(BO54=MIN(BO$48:BO$77),BP$47,IF(BO54=\"\",$CT54,BO54)))","v":0.87669534417825457},0.87669534417825457,0.87669534417825457,0.87669534417825457,0.87669534417825457,0.87669534417825457,0.87669534417825457,0.87669534417825457,0.87669534417825457,0.87669534417825457,0.87669534417825457,0.87669534417825457,0.87669534417825457,50,50,50,50,50,50,50,50,50,50,50,50,50,50,50,50,50,12]
[null,null,null,49,6.001327500625639E-5,3.8256862648541698E-6,7.8530391573537493E-5,3.582401324819498E-6,2.7072722334285599E-7,6.0245219126654659E-6,1.5776306190207539E-3,7.6190503730607045E-4,1.0877247199839251E-2,2.3954401514197552E-3,6.0868998348824538E-3,6.7497552023143888E-3,2.819994139228343E-3,8.883257488603144E-2,1.450430142774562E-5,0.22542659039205709,0.23958213998165531,4.138731906086443E-2,2.5579490243283499E-5,8.2814612363556791E-4,null,null,null,null,null,null,null,null,null,null,-100.3083312234603,-161.90264861737199,18.620952512921381,-59.527711068912538,130.73089963116331,-70.87452943148277,-90.424166750152679,15.19680654159634,-93.800289628274868,-149.81637130656549,-113.3804201854159,159.03380711327489,-88.677276536103847,106.36901510057371,11.12577583985327,166.62703039654451,173.52382461852599,-95.272380889585591,-63.985183092726679,-4.6876181121341416,null,null,null,null,null,null,null,null,null,null,1.9959028453202621E-2,0.80790955287688937,0.80807052153403203,{"$f":"IF(MIN(BO$48:BO$77)=$BP$47,BO55,IF(BO55=MIN(BO$48:BO$77),BP$47,IF(BO55=\"\",$CT55,BO55)))","v":0.80807052153403203},0.80807052153403203,0.80807052153403203,0.80807052153403203,0.80807052153403203,0.80807052153403203,0.80807052153403203,0.80807052153403203,0.80807052153403203,0.80807052153403203,0.80807052153403203,0.80807052153403203,49,49,49,49,49,49,49,49,49,49,49,49,49,49,49,49,49,49,13]
[null,null,null,48,7.0207241324055006E-7,7.1409454983916496E-6,5.1711325213450626E-6,3.3043054860286102E-5,4.6813407083318591E-7,6.9465674716932321E-6,2.4978555310734571E-5,7.7465742948721117E-5,1.2830379880623331E-5,6.9474178782227191E-7,6.2436283913109788E-5,2.3963818399339729E-5,1.601346859646506E-4,3.9910259612546761E-5,5.4074043246960813E-5,5.1314795285201044E-4,4.4263542859744029E-4,4.3366831362032828E-4,2.227544557998964E-6,2.8845062561917972E-7,null,null,null,null,null,null,null,null,null,null,-15.419122126573329,39.869098464388429,-96.805525913300045,-2.6370952451893519,-1.9325646767724549,-127.6329880858151,25.521437360091529,96.030372680752706,-175.75491499413681,101.60206785279949,157.05434554111491,14.27975428904637,3.2105278314212931,67.93793592866254,0.68512495021811937,-91.867408002899154,88.879426085353572,-2.8994032143610911E-2,174.16424822309671,73.189688443754775,null,null,null,null,null,null,null,null,null,null,2.67823724664863E-2,0.69298959513294744,0.69323826807030886,{"$f":"IF(MIN(BO$48:BO$77)=$BP$47,BO56,IF(BO56=MIN(BO$48:BO$77),BP$47,IF(BO56=\"\",$CT56,BO56)))","v":0.69323826807030886},0.69323826807030886,0.69323826807030886,0.69323826807030886,0.69323826807030886,0.69323826807030886,0.69323826807030886,0.69323826807030886,0.69323826807030886,0.69323826807030886,0.69323826807030886,48,48,48,48,48,48,48,48,48,48,48,48,48,48,48,48,48,48,48,14]
[null,null,null,47,3.5471053626437781E-6,1.664263262334581E-6,1.4538020789643861E-4,1.7575790245716641E-6,5.868017170818431E-7,1.111681303059821E-6,1.9257168090201001E-5,1.698765443455018E-5,3.4863118584949949E-4,5.4963171268807271E-5,2.4392319557890891E-5,3.8885438464804338E-5,2.302780122124842E-5,4.0007269393486521E-4,2.5737033108626191E-7,4.7831245832899948E-4,4.2916869697177712E-4,7.5740184490565813E-5,5.4761278540234549E-8,2.2377049713767981E-6,null,null,null,null,null,null,null,null,null,null,80.053384797500442,-70.814858160708226,23.748110710062619,-41.622641787697937,151.33370882018241,-42.529979350763178,-82.576707833985395,12.220414572776489,-88.95323274939436,-146.37975858668989,74.039861992844052,-12.59792068724291,90.885052924369447,-73.651192900356961,-78.141385528408591,166.99647645282391,172.3563969922341,-96.289269782155117,49.709962422356341,-4.6385214114683464,null,null,null,null,null,null,null,null,null,null,2.6943375608735859E-2,0.62877340491186429,0.62900175685619653,{"$f":"IF(MIN(BO$48:BO$77)=$BP$47,BO57,IF(BO57=MIN(BO$48:BO$77),BP$47,IF(BO57=\"\",$CT57,BO57)))","v":0.62900175685619653},0.62900175685619653,0.62900175685619653,0.62900175685619653,0.62900175685619653,0.62900175685619653,0.62900175685619653,0.62900175685619653,0.62900175685619653,0.62900175685619653,47,47,47,47,47,47,47,47,47,47,47,47,47,47,47,47,47,47,47,47,15]
[null,null,null,46,1.00289654182134E-5,5.9462916464570635E-7,3.679499668528608E-6,5.1250909546292333E-7,2.094439632777349E-8,7.9119471573403519E-7,2.9241783996640378E-6,2.0453336570652081E-5,2.9402025315992071E-5,8.8513563626379026E-6,2.6780217820995539E-5,1.405620344521875E-5,4.2685629776078918E-5,3.699503771097959E-5,7.2716243674396524E-7,4.099238727046614E-5,2.4731631943888612E-4,3.2904138623945109E-5,2.4963505068174378E-7,5.0439590989741465E-7,null,null,null,null,null,null,null,null,null,null,79.644382126221132,15.055401147833109,-166.62134836401049,113.21900924366869,89.475614580621439,105.6668413386224,174.7305133816798,-175.87474928582631,-89.398546501522119,-159.1457501157268,56.337276733441293,-154.29054006942661,-87.781766346002144,98.128353904748749,93.431882864690209,130.72312880724391,176.35784251852559,-89.957285979748832,-87.796489810444939,-4.7361507204095563,null,null,null,null,null,null,null,null,null,null,2.6647045036058831E-2,0.48892293137570841,0.4890966074050081,{"$f":"IF(MIN(BO$48:BO$77)=$BP$47,BO58,IF(BO58=MIN(BO$48:BO$77),BP$47,IF(BO58=\"\",$CT58,BO58)))","v":0.4890966074050081},0.4890966074050081,0.4890966074050081,0.4890966074050081,0.4890966074050081,0.4890966074050081,0.4890966074050081,0.4890966074050081,0.4890966074050081,46,46,46,46,46,46,46,46,46,46,46,46,46,46,46,46,46,46,46,46,46,16]
[null,null,null,45,1.002400486674475E-4,3.4004084829452529E-4,5.4719224394917786E-3,1.157642983523315E-3,4.3427914611094923E-2,1.708249342125369E-4,1.519262592270951E-3,3.0892958291457591E-3,4.3597286232325443E-2,0.24160510385888209,6.0885414605491711E-2,4.3679869900884759E-2,2.109748206660628E-2,4.674391718673699E-2,5.2225684563942231E-3,0.30651319895795393,0.22104302978712961,1.9619369779300781E-2,9.5444516557118117E-4,7.6916430503602622E-5,null,null,null,null,null,null,null,null,null,null,-78.951359838490504,91.197955984829761,-93.105461585802928,88.757743763577793,82.688730132962164,50.264362989323708,114.0297991397844,-95.290807001608826,14.998957218663749,88.456071452019614,137.29943258752891,-97.616226705981049,-169.73917234597531,159.61926456959591,1.5246535605538021,-93.364769593763427,92.547207903487404,-170.57086485323049,174.500078663843,79.563131662601677,null,null,null,null,null,null,null,null,null,null,3.0274314568392389E-2,0.46177441564225719,0.46198617722285279,{"$f":"IF(MIN(BO$48:BO$77)=$BP$47,BO59,IF(BO59=MIN(BO$48:BO$77),BP$47,IF(BO59=\"\",$CT59,BO59)))","v":0.46198617722285279},0.46198617722285279,0.46198617722285279,0.46198617722285279,0.46198617722285279,0.46198617722285279,0.46198617722285279,0.46198617722285279,45,45,45,45,45,45,45,45,45,45,45,45,45,45,45,45,45,45,45,45,45,45,17]
[null,null,null,43,1.0996180824554009E-3,3.2946380593646962E-2,2.3711508926106451E-2,2.9788463910178579E-2,1.6228165735696949E-4,3.3420388500067427E-2,2.1783879753285731E-2,0.13575844653379959,1.343143191061307E-2,2.028450928690805E-3,0.12509216804717771,8.9890723483242341E-2,0.26975201500426738,5.5893340796897721E-2,7.210563728317817E-4,2.8733810397726739E-2,0.120175545057101,0.91130369104938214,2.6671653592020731E-4,5.9502861076808741E-4,null,null,null,null,null,null,null,null,null,null,23.673066993181191,83.740282799653116,-93.172760836254312,89.263936149821731,115.3987123137685,-2.4435364737676522,24.36321143356372,-91.143644032998438,7.5849429516682756,100.3647541622323,-28.493288414630442,86.843557778496205,178.45612901887779,179.27370110198109,-167.9115520355671,-171.08299584486809,89.616057240238447,180,162.57539994162639,-96.039185824309428,null,null,null,null,null,null,null,null,null,null,2.809159369819739E-2,0.37955912243394491,0.37970897332390813,{"$f":"IF(MIN(BO$48:BO$77)=$BP$47,BO60,IF(BO60=MIN(BO$48:BO$77),BP$47,IF(BO60=\"\",$CT60,BO60)))","v":0.37970897332390813},0.37970897332390813,0.37970897332390813,0.37970897332390813,0.37970897332390813,0.37970897332390813,43,43,43,43,43,43,43,43,43,43,43,43,43,43,43,43,43,43,43,43,43,43,43,43,18]
[null,null,null,44,2.3662027730327492E-2,2.2677630901744929E-2,3.2788131212204023E-2,3.1121406693444001E-2,7.7016863882557274E-4,3.4261710847956733E-2,2.1007989337986949E-2,0.13474178630475231,5.2888808856327392E-3,2.1349376970525781E-2,0.13954355744749511,9.9669219824867011E-2,0.27072154661433567,4.4269966818172947E-2,5.1309323206443396E-3,0.69529932941209693,0.7143138402709972,5.2076233362526508E-2,1.58897045534478E-3,7.8112190195712533E-5,null,null,null,null,null,null,null,null,null,null,-91.877653660854236,-1.7525095496438261,86.704439419120504,87.780205981792122,113.9929270875882,83.046037727367249,-69.638561995180993,178.51395980941501,-150.42056916346749,-178.3912005945181,60.028828596154213,176.9337067477324,-91.609741523997215,-89.132177178008121,76.140839020039706,0,180,-97.94809669735335,-89.311516962599782,-15.62735923578129,null,null,null,null,null,null,null,null,null,null,9.3101850501836423E-3,0.42518206520975321,0.42520049370191132,{"$f":"IF(MIN(BO$48:BO$77)=$BP$47,BO61,IF(BO61=MIN(BO$48:BO$77),BP$47,IF(BO61=\"\",$CT61,BO61)))","v":0.42520049370191132},0.42520049370191132,0.42520049370191132,0.42520049370191132,0.42520049370191132,0.42520049370191132,0.42520049370191132,44,44,44,44,44,44,44,44,44,44,44,44,44,44,44,44,44,44,44,44,44,44,44,19]
[null,null,null,42,5.2529889966005793E-4,7.1913029145178811E-5,5.4544265518232096E-3,4.8743014542307053E-5,2.5421008615926639E-5,2.2086935882355081E-5,8.2416235281027699E-3,5.226019681086231E-3,0.21637835479180059,3.115261126989103E-2,1.8355877067733051E-2,1.779190717972249E-2,2.9252221051515588E-3,0.16342184501592419,3.2330767649676502E-4,3.6545819861507289E-2,3.1424456740064603E-2,3.499440549283609E-3,5.8528723689403508E-5,1.8446550217113999E-5,null,null,null,null,null,null,null,null,null,null,-99.814400152800914,128.99011554942001,-155.09708391884419,146.44344072363339,15.84925102356233,-167.25824807154549,-90.078659986590935,9.5145839157661243,-91.534700417255991,177.1347845491932,81.092674308436543,-27.208566289972801,113.2492030521023,-76.354626935326792,3.554054344826203,-41.767002402859532,20.92626074462332,85.841784879996297,172.88053293815079,163.02262090981449,null,null,null,null,null,null,null,null,null,null,5.6299327214648616E-3,5.0576475854506198E-2,5.0577277413152592E-2,{"$f":"IF(MIN(BO$48:BO$77)=$BP$47,BO62,IF(BO62=MIN(BO$48:BO$77),BP$47,IF(BO62=\"\",$CT62,BO62)))","v":5.0577277413152592E-2},5.0577277413152592E-2,5.0577277413152592E-2,5.0577277413152592E-2,5.0577277413152592E-2,42,42,42,42,42,42,42,42,42,42,42,42,42,42,42,42,42,42,42,42,42,42,42,42,42,20]
[null,null,null,41,2.262389504351544E-4,5.9354236429038769E-5,3.7355136598600969E-4,1.5605327164537681E-4,3.8249601352831984E-6,1.449851325455349E-5,0.1258790609151515,1.5335781808049899E-2,5.0562104212304067E-3,9.876884223810764E-3,0.16658987973447709,0.19958693028180599,1.8980145280677679E-2,0.2259240943358938,8.1937493371401495E-4,0.14373642451917251,0.14286811124321119,5.7475400174608178E-2,2.0914522740225042E-5,5.0869603497330702E-4,null,null,null,null,null,null,null,null,null,null,78.986135386795084,53.020213139875388,-152.54010155521399,21.507416510784729,42.145924979966559,-108.52389698239,-91.293341722133604,-6.710701505259232,81.371195341371177,10.763828549914731,-91.526943958342159,178.7207437702842,-122.5658829083774,-90.533442016469152,73.719423577144681,-13.25775477214779,-4.2921646073857396,152.59834510292151,163.14567710126701,179.12886715261399,null,null,null,null,null,null,null,null,null,null,2.2634983734451809E-2,3.6213458546980548E-2,3.62227389599327E-2,{"$f":"IF(MIN(BO$48:BO$77)=$BP$47,BO63,IF(BO63=MIN(BO$48:BO$77),BP$47,IF(BO63=\"\",$CT63,BO63)))","v":3.62227389599327E-2},3.62227389599327E-2,3.62227389599327E-2,3.62227389599327E-2,41,41,41,41,41,41,41,41,41,41,41,41,41,41,41,41,41,41,41,41,41,41,41,41,41,41,21]
[null,null,null,40,2.2831576888064409E-4,5.2746298887054388E-5,1.344966009217937E-4,2.8080087110448222E-4,5.3531557490664414E-6,5.4866980126247069E-5,0.12245889196554351,1.5423641656591471E-2,2.7366991747229681E-2,2.8931946662923299E-3,0.16601327945019231,0.21294757859641669,1.7232330077495861E-2,0.17233568930929649,1.4809237989425539E-2,5.0039538255420853E-2,4.7650867118557143E-2,5.3247363207932262E-3,1.111838940575052E-4,4.3056927609931607E-6,null,null,null,null,null,null,null,null,null,null,-95.63456660631627,37.376998674808434,28.40734829454631,-1.5058477941649739,36.017033361719228,-114.6825401734021,178.69315397033361,-94.301421882325783,2.2495130904303751,-102.27362133937839,0.34583763262632777,-91.734855530320132,-39.227475700333081,-6.5712995786983033,179.0271187180231,-23.248927382984881,149.25794033087331,-31.35653093609389,-124.03835745693181,144.0370005783322,null,null,null,null,null,null,null,null,null,null,2.362798723007567E-2,3.6054266891404577E-2,3.6064335327527293E-2,{"$f":"IF(MIN(BO$48:BO$77)=$BP$47,BO64,IF(BO64=MIN(BO$48:BO$77),BP$47,IF(BO64=\"\",$CT64,BO64)))","v":3.6064335327527293E-2},3.6064335327527293E-2,3.6064335327527293E-2,40,40,40,40,40,40,40,40,40,40,40,40,40,40,40,40,40,40,40,40,40,40,40,40,40,40,40,22]
[null,null,null,39,1.7916067889178991E-4,3.6146401531009058E-4,6.2016609943557422E-3,1.226717505160863E-3,4.6057805762672127E-2,1.794267420350874E-4,1.4603785040273711E-3,1.87251876186184E-3,1.1349582115685611E-2,1.004129495424363E-2,1.3392225703567519E-2,1.0966929072282999E-2,6.243318782020996E-3,1.180447526288218E-2,2.041359389306116E-3,0.1227557198948518,8.3650745225460274E-2,7.9810040060945275E-3,3.741727230990652E-4,3.5841025674579417E-5,null,null,null,null,null,null,null,null,null,null,91.763479731940805,-87.094334867648584,80.470730662317365,-89.877854883731786,-97.321719284480594,-127.4250229835217,-134.3823147333085,-76.493241085290748,-76.058287018010603,-106.246419793681,-44.597140396542677,80.38235827702087,8.7533501326930416,-6.4285003165227366,-178.4847981463156,86.925886928691057,-88.059782937657303,9.1757997113807228,-5.5209829271554796,-97.673298514433625,null,null,null,null,null,null,null,null,null,null,0.25272751015346928,1.152182542252604E-2,1.190840197260667E-2,{"$f":"IF(MIN(BO$48:BO$77)=$BP$47,BO65,IF(BO65=MIN(BO$48:BO$77),BP$47,IF(BO65=\"\",$CT65,BO65)))","v":1.190840197260667E-2},1.190840197260667E-2,39,39,39,39,39,39,39,39,39,39,39,39,39,39,39,39,39,39,39,39,39,39,39,39,39,39,39,39,23]
[null,null,null,37,1.1594101752964059E-3,3.472088682135429E-2,2.495391001943598E-2,3.1667330820543967E-2,1.7114592313477071E-4,3.5621114458488451E-2,7.0076362154131728E-3,6.7004023685009878E-3,6.2176199596038952E-3,9.4069367484814637E-3,1.8683460129136738E-2,9.6986041530892735E-3,3.06680474342052E-2,1.8022211405534429E-3,3.7141892233117008E-4,4.9424730121351464E-3,3.8557659792111357E-2,0.31686517357437333,9.2489846493262111E-5,2.1644927283881571E-4,null,null,null,null,null,null,null,null,null,null,-153.84588187798289,-95.910536981415333,86.760125466842098,-88.09314949075349,-55.802033977402502,177.96080320390291,-85.864829450361512,76.574240555706965,-46.840969546241134,84.826166987958175,-63.647335955288,156.63849364587219,-2.736345262611299,18.91222248795458,4.6530105474401209,-174.68729642017681,-117.2446216527303,-0.57097781815940241,-19.484424018083171,68.522049425814018,null,null,null,null,null,null,null,null,null,null,3.8706897204926732E-2,7.7424326345439569E-3,7.7482391086825461E-3,{"$f":"IF(MIN(BO$48:BO$77)=$BP$47,BO66,IF(BO66=MIN(BO$48:BO$77),BP$47,IF(BO66=\"\",$CT66,BO66)))","v":37},37,37,37,37,37,37,37,37,37,37,37,37,37,37,37,37,37,37,37,37,37,37,37,37,37,37,37,37,37,24]
[null,null,null,38,2.2969596555311451E-2,2.4187508596761019E-2,3.4258118693543699E-2,3.3137981419293111E-2,8.1958440207441146E-4,3.6506145222906912E-2,4.8293077734820984E-3,1.400583611562149E-2,8.7460629835479278E-3,4.6932049002595452E-3,1.4077139424663539E-2,7.8001579561820427E-3,3.1030825513990081E-2,5.2546852317229406E-3,2.130079898931477E-3,0.24087381167859859,0.24811537633289019,1.6307549490469388E-2,5.5255455551104908E-4,2.822614322969159E-5,null,null,null,null,null,null,null,null,null,null,88.886177341129994,178.3681586255355,-91.005439375870282,-92.199723759443472,-66.326055638786016,-96.84436562576154,-172.8827505596995,-6.9138624153604544,63.357238364412083,161.27109867037569,18.359607009596189,-92.663839461030889,86.628424427294448,-5.725335819761046,-54.033288579335583,179.30666453239849,-0.45800702170508001,75.07795678343517,89.913138240598244,166.9336252602574,null,null,null,null,null,null,null,null,null,null,2.216921611563432E-2,7.8177689930430949E-3,7.8196908171259735E-3,{"$f":"IF(MIN(BO$48:BO$77)=$BP$47,BO67,IF(BO67=MIN(BO$48:BO$77),BP$47,IF(BO67=\"\",$CT67,BO67)))","v":7.8196908171259735E-3},38,38,38,38,38,38,38,38,38,38,38,38,38,38,38,38,38,38,38,38,38,38,38,38,38,38,38,38,38,25]
[null,null,null,57,null,null,null,null,null,null,null,null,null,null,null,null,null,null,null,null,null,null,null,null,null,null,null,null,null,null,null,null,null,null,null,null,null,null,null,null,null,null,null,null,null,null,null,null,null,null,null,null,null,null,null,null,null,null,null,null,null,null,null,null,null,null,null,{"$f":"IF(MIN(BO$48:BO$77)=$BP$47,BO68,IF(BO68=MIN(BO$48:BO$77),BP$47,IF(BO68=\"\",$CT68,BO68)))","v":26},26,26,26,26,26,26,26,26,26,26,26,26,26,26,26,26,26,26,26,57,57,57,57,57,57,57,57,57,57,26]
[null,null,null,58,null,null,null,null,null,null,null,null,null,null,null,null,null,null,null,null,null,null,null,null,null,null,null,null,null,null,null,null,null,null,null,null,null,null,null,null,null,null,null,null,null,null,null,null,null,null,null,null,null,null,null,null,null,null,null,null,null,null,null,null,null,null,null,{"$f":"IF(MIN(BO$48:BO$77)=$BP$47,BO69,IF(BO69=MIN(BO$48:BO$77),BP$47,IF(BO69=\"\",$CT69,BO69)))","v":27},27,27,27,27,27,27,27,27,27,27,27,27,27,27,27,27,27,27,27,27,58,58,58,58,58,58,58,58,58,27]
[null,null,null,59,null,null,null,null,null,null,null,null,null,null,null,null,null,null,null,null,null,null,null,null,null,null,null,null,null,null,null,null,null,null,null,null,null,null,null,null,null,null,null,null,null,null,null,null,null,null,null,null,null,null,null,null,null,null,null,null,null,null,null,null,null,null,null,{"$f":"IF(MIN(BO$48:BO$77)=$BP$47,BO70,IF(BO70=MIN(BO$48:BO$77),BP$47,IF(BO70=\"\",$CT70,BO70)))","v":28},28,28,28,28,28,28,28,28,28,28,28,28,28,28,28,28,28,28,28,28,28,59,59,59,59,59,59,59,59,28]
[null,null,null,60,null,null,null,null,null,null,null,null,null,null,null,null,null,null,null,null,null,null,null,null,null,null,null,null,null,null,null,null,null,null,null,null,null,null,null,null,null,null,null,null,null,null,null,null,null,null,null,null,null,null,null,null,null,null,null,null,null,null,null,null,null,null,null,{"$f":"IF(MIN(BO$48:BO$77)=$BP$47,BO71,IF(BO71=MIN(BO$48:BO$77),BP$47,IF(BO71=\"\",$CT71,BO71)))","v":29},29,29,29,29,29,29,29,29,29,29,29,29,29,29,29,29,29,29,29,29,29,29,60,60,60,60,60,60,60,29]
[null,null,null,61,null,null,null,null,null,null,null,null,null,null,null,null,null,null,null,null,null,null,null,null,null,null,null,null,null,null,null,null,null,null,null,null,null,null,null,null,null,null,null,null,null,null,null,null,null,null,null,null,null,null,null,null,null,null,null,null,null,null,null,null,null,null,null,{"$f":"IF(MIN(BO$48:BO$77)=$BP$47,BO72,IF(BO72=MIN(BO$48:BO$77),BP$47,IF(BO72=\"\",$CT72,BO72)))","v":30},30,30,30,30,30,30,30,30,30,30,30,30,30,30,30,30,30,30,30,30,30,30,30,61,61,61,61,61,61,30]
[null,null,null,62,null,null,null,null,null,null,null,null,null,null,null,null,null,null,null,null,null,null,null,null,null,null,null,null,null,null,null,null,null,null,null,null,null,null,null,null,null,null,null,null,null,null,null,null,null,null,null,null,null,null,null,null,null,null,null,null,null,null,null,null,null,null,null,{"$f":"IF(MIN(BO$48:BO$77)=$BP$47,BO73,IF(BO73=MIN(BO$48:BO$77),BP$47,IF(BO73=\"\",$CT73,BO73)))","v":31},31,31,31,31,31,31,31,31,31,31,31,31,31,31,31,31,31,31,31,31,31,31,31,31,62,62,62,62,62,31]
[null,null,null,63,null,null,null,null,null,null,null,null,null,null,null,null,null,null,null,null,null,null,null,null,null,null,null,null,null,null,null,null,null,null,null,null,null,null,null,null,null,null,null,null,null,null,null,null,null,null,null,null,null,null,null,null,null,null,null,null,null,null,null,null,null,null,null,{"$f":"IF(MIN(BO$48:BO$77)=$BP$47,BO74,IF(BO74=MIN(BO$48:BO$77),BP$47,IF(BO74=\"\",$CT74,BO74)))","v":32},32,32,32,32,32,32,32,32,32,32,32,32,32,32,32,32,32,32,32,32,32,32,32,32,32,63,63,63,63,32]
[null,null,null,64,null,null,null,null,null,null,null,null,null,null,null,null,null,null,null,null,null,null,null,null,null,null,null,null,null,null,null,null,null,null,null,null,null,null,null,null,null,null,null,null,null,null,null,null,null,null,null,null,null,null,null,null,null,null,null,null,null,null,null,null,null,null,null,{"$f":"IF(MIN(BO$48:BO$77)=$BP$47,BO75,IF(BO75=MIN(BO$48:BO$77),BP$47,IF(BO75=\"\",$CT75,BO75)))","v":33},33,33,33,33,33,33,33,33,33,33,33,33,33,33,33,33,33,33,33,33,33,33,33,33,33,33,64,64,64,33]
[null,null,null,65,null,null,null,null,null,null,null,null,null,null,null,null,null,null,null,null,null,null,null,null,null,null,null,null,null,null,null,null,null,null,null,null,null,null,null,null,null,null,null,null,null,null,null,null,null,null,null,null,null,null,null,null,null,null,null,null,null,null,null,null,null,null,null,{"$f":"IF(MIN(BO$48:BO$77)=$BP$47,BO76,IF(BO76=MIN(BO$48:BO$77),BP$47,IF(BO76=\"\",$CT76,BO76)))","v":34},34,34,34,34,34,34,34,34,34,34,34,34,34,34,34,34,34,34,34,34,34,34,34,34,34,34,34,65,65,34]
[null,null,null,66,null,null,null,null,null,null,null,null,null,null,null,null,null,null,null,null,null,null,null,null,null,null,null,null,null,null,null,null,null,null,null,null,null,null,null,null,null,null,null,null,null,null,null,null,null,null,null,null,null,null,null,null,null,null,null,null,null,null,null,null,null,null,null,{"$f":"IF(MIN(BO$48:BO$77)=$BP$47,BO77,IF(BO77=MIN(BO$48:BO$77),BP$47,IF(BO77=\"\",$CT77,BO77)))","v":35},35,35,35,35,35,35,35,35,35,35,35,35,35,35,35,35,35,35,35,35,35,35,35,35,35,35,35,35,66,35]

{"sheet":"14 RPM","index":8,"n_rows":77,"n_cols":98,"rows_kept":77,"cut":false,"hidden":false,"merged":[[8,56,8,57],[8,58,8,59],[8,60,8,61],[8,62,8,63],[8,44,8,45],[8,46,8,47],[8,48,8,49],[8,50,8,51],[8,52,8,53],[8,54,8,55],[8,32,8,33],[8,34,8,35],[8,36,8,37],[8,38,8,39],[8,40,8,41],[8,42,8,43],[8,20,8,21],[8,22,8,23],[8,24,8,25],[8,26,8,27],[8,28,8,29],[8,30,8,31],[7,62,7,63],[8,2,8,3],[8,4,8,5],[8,6,8,7],[8,8,8,9],[8,10,8,11],[8,12,8,13],[8,14,8,15],[8,16,8,17],[8,18,8,19],[7,50,7,51],[7,52,7,53],[7,54,7,55],[7,56,7,57],[7,58,7,59],[7,60,7,61],[7,38,7,39],[7,40,7,41],[7,42,7,43],[7,44,7,45],[7,46,7,47],[7,48,7,49],[7,26,7,27],[7,28,7,29],[7,30,7,31],[7,32,7,33],[7,34,7,35],[7,36,7,37],[7,14,7,15],[7,16,7,17],[7,18,7,19],[7,20,7,21],[7,22,7,23],[7,24,7,25],[6,56,6,57],[6,58,6,59],[6,60,6,61],[6,62,6,63],[7,2,7,3],[7,4,7,5],[7,6,7,7],[7,8,7,9],[7,10,7,11],[7,12,7,13],[6,44,6,45],[6,46,6,47],[6,48,6,49],[6,50,6,51],[6,52,6,53],[6,54,6,55],[6,32,6,33],[6,34,6,35],[6,36,6,37],[6,38,6,39],[6,40,6,41],[6,42,6,43],[6,20,6,21],[6,22,6,23],[6,24,6,25],[6,26,6,27],[6,28,6,29],[6,30,6,31],[5,62,5,63],[6,2,6,3],[6,4,6,5],[6,6,6,7],[6,8,6,9],[6,10,6,11],[6,12,6,13],[6,14,6,15],[6,16,6,17],[6,18,6,19],[5,50,5,51],[5,52,5,53],[5,54,5,55],[5,56,5,57],[5,58,5,59],[5,60,5,61],[5,38,5,39],[5,40,5,41],[5,42,5,43],[5,44,5,45],[5,2,5,3],[5,4,5,5],[5,6,5,7],[5,8,5,9],[5,10,5,11],[5,12,5,13],[5,46,5,47],[5,48,5,49],[5,26,5,27],[5,28,5,29],[5,30,5,31],[5,32,5,33],[5,34,5,35],[5,36,5,37],[5,14,5,15],[5,16,5,17],[5,18,5,19],[5,20,5,21],[5,22,5,23],[5,24,5,25]]}
["This worksheet is used to sort the mode shapes and frequencies and to help you determine which modes are which for up to 30 modes (up to 30 DOFs)."]
["To use this spreadsheet, paste the appropriate data output from MBC3 into the six gray cells marked with comments (DescStates, MBC_ModeShapeMagnitude, MBC_ModeShapePhaseDeg_MBC_DampingRatio, MBC_DampedFrequencyHz, MBC_NaturalFrequencyHz).  The Scaling should be calculated according to the comment, but is not output by MBC3.  Do not change any other cell!"]
["NOTE: This spreadsheet doesn't work if any natural (undamped) frequency is 0.0 or if any natural (undamped) frequency is in duplicate--to avoid the resulting error, in the cells where the frequencies are pasted-in, change the error-causing frequency (or frequencies) by a very small amount!"]
[null,null,null,"BladeLength",117,"TowerHt",144.495]
[null,null,"Mode Shapes and Frequencies"]
[null,null,"Mode Number",null,1,null,{"$f":"E6+1","v":2},null,{"$f":"G6+1","v":3},null,{"$f":"I6+1","v":4},null,{"$f":"K6+1","v":5},null,{"$f":"M6+1","v":6},null,{"$f":"O6+1","v":7},null,{"$f":"Q6+1","v":8},null,{"$f":"S6+1","v":9},null,{"$f":"U6+1","v":10},null,{"$f":"W6+1","v":11},null,{"$f":"Y6+1","v":12},null,{"$f":"AA6+1","v":13},null,{"$f":"AC6+1","v":14},null,{"$f":"AE6+1","v":15},null,{"$f":"AG6+1","v":16},null,{"$f":"AI6+1","v":17},null,{"$f":"AK6+1","v":18},null,{"$f":"AM6+1","v":19},null,{"$f":"AO6+1","v":20},null,{"$f":"AQ6+1","v":21},null,{"$f":"AS6+1","v":22},null,{"$f":"AU6+1","v":23},null,{"$f":"AW6+1","v":24},null,{"$f":"AY6+1","v":25},null,{"$f":"BA6+1","v":26},null,{"$f":"BC6+1","v":27},null,{"$f":"BE6+1","v":28},null,{"$f":"BG6+1","v":29},null,{"$f":"BI6+1","v":30}]
[null,null,"Natural (Undamped) Frequencies (Hz)",null,{"$f":"IF(VLOOKUP(E$6+$BO$47,$D$48:$BO$77,64,FALSE)=\"\",\"\",VLOOKUP(E$6+$BO$47,$D$48:$BO$77,64,FALSE))","v":7.7491269849453894E-3},null,{"$f":"IF(VLOOKUP(G$6+$BO$47,$D$48:$BO$77,64,FALSE)=\"\",\"\",VLOOKUP(G$6+$BO$47,$D$48:$BO$77,64,FALSE))","v":7.8185205536453889E-3},null,{"$f":"IF(VLOOKUP(I$6+$BO$47,$D$48:$BO$77,64,FALSE)=\"\",\"\",VLOOKUP(I$6+$BO$47,$D$48:$BO$77,64,FALSE))","v":1.190350511136487E-2},null,{"$f":"IF(VLOOKUP(K$6+$BO$47,$D$48:$BO$77,64,FALSE)=\"\",\"\",VLOOKUP(K$6+$BO$47,$D$48:$BO$77,64,FALSE))","v":3.6054406586347253E-2},null,{"$f":"IF(VLOOKUP(M$6+$BO$47,$D$48:$BO$77,64,FALSE)=\"\",\"\",VLOOKUP(M$6+$BO$47,$D$48:$BO$77,64,FALSE))","v":3.6238238953591052E-2},null,{"$f":"IF(VLOOKUP(O$6+$BO$47,$D$48:$BO$77,64,FALSE)=\"\",\"\",VLOOKUP(O$6+$BO$47,$D$48:$BO$77,64,FALSE))","v":5.0577261686948073E-2},null,{"$f":"IF(VLOOKUP(Q$6+$BO$47,$D$48:$BO$77,64,FALSE)=\"\",\"\",VLOOKUP(Q$6+$BO$47,$D$48:$BO$77,64,FALSE))","v":0.36794047402374069},null,{"$f":"IF(VLOOKUP(S$6+$BO$47,$D$48:$BO$77,64,FALSE)=\"\",\"\",VLOOKUP(S$6+$BO$47,$D$48:$BO$77,64,FALSE))","v":0.42314648558624129},null,{"$f":"IF(VLOOKUP(U$6+$BO$47,$D$48:$BO$77,64,FALSE)=\"\",\"\",VLOOKUP(U$6+$BO$47,$D$48:$BO$77,64,FALSE))","v":0.44232833027582319},null,{"$f":"IF(VLOOKUP(W$6+$BO$47,$D$48:$BO$77,64,FALSE)=\"\",\"\",VLOOKUP(W$6+$BO$47,$D$48:$BO$77,64,FALSE))","v":0.48290079716754081},null,{"$f":"IF(VLOOKUP(Y$6+$BO$47,$D$48:$BO$77,64,FALSE)=\"\",\"\",VLOOKUP(Y$6+$BO$47,$D$48:$BO$77,64,FALSE))","v":0.64706979032297862},null,{"$f":"IF(VLOOKUP(AA$6+$BO$47,$D$48:$BO$77,64,FALSE)=\"\",\"\",VLOOKUP(AA$6+$BO$47,$D$48:$BO$77,64,FALSE))","v":0.69968034938871071},null,{"$f":"IF(VLOOKUP(AC$6+$BO$47,$D$48:$BO$77,64,FALSE)=\"\",\"\",VLOOKUP(AC$6+$BO$47,$D$48:$BO$77,64,FALSE))","v":0.85869646231995767},null,{"$f":"IF(VLOOKUP(AE$6+$BO$47,$D$48:$BO$77,64,FALSE)=\"\",\"\",VLOOKUP(AE$6+$BO$47,$D$48:$BO$77,64,FALSE))","v":0.91731641558967547},null,{"$f":"IF(VLOOKUP(AG$6+$BO$47,$D$48:$BO$77,64,FALSE)=\"\",\"\",VLOOKUP(AG$6+$BO$47,$D$48:$BO$77,64,FALSE))","v":2.2577367381075009},null,{"$f":"IF(VLOOKUP(AI$6+$BO$47,$D$48:$BO$77,64,FALSE)=\"\",\"\",VLOOKUP(AI$6+$BO$47,$D$48:$BO$77,64,FALSE))","v":2.5296991894071881},null,{"$f":"IF(VLOOKUP(AK$6+$BO$47,$D$48:$BO$77,64,FALSE)=\"\",\"\",VLOOKUP(AK$6+$BO$47,$D$48:$BO$77,64,FALSE))","v":2.5307610208398659},null,{"$f":"IF(VLOOKUP(AM$6+$BO$47,$D$48:$BO$77,64,FALSE)=\"\",\"\",VLOOKUP(AM$6+$BO$47,$D$48:$BO$77,64,FALSE))","v":2.6744065994297501},null,{"$f":"IF(VLOOKUP(AO$6+$BO$47,$D$48:$BO$77,64,FALSE)=\"\",\"\",VLOOKUP(AO$6+$BO$47,$D$48:$BO$77,64,FALSE))","v":2.7801223976829981},null,{"$f":"IF(VLOOKUP(AQ$6+$BO$47,$D$48:$BO$77,64,FALSE)=\"\",\"\",VLOOKUP(AQ$6+$BO$47,$D$48:$BO$77,64,FALSE))","v":4.8203522406032828},null,{"$f":"IF(VLOOKUP(AS$6+$BO$47,$D$48:$BO$77,64,FALSE)=\"\",\"\",VLOOKUP(AS$6+$BO$47,$D$48:$BO$77,64,FALSE))","v":""},null,{"$f":"IF(VLOOKUP(AU$6+$BO$47,$D$48:$BO$77,64,FALSE)=\"\",\"\",VLOOKUP(AU$6+$BO$47,$D$48:$BO$77,64,FALSE))","v":""},null,{"$f":"IF(VLOOKUP(AW$6+$BO$47,$D$48:$BO$77,64,FALSE)=\"\",\"\",VLOOKUP(AW$6+$BO$47,$D$48:$BO$77,64,FALSE))","v":""},null,{"$f":"IF(VLOOKUP(AY$6+$BO$47,$D$48:$BO$77,64,FALSE)=\"\",\"\",VLOOKUP(AY$6+$BO$47,$D$48:$BO$77,64,FALSE))","v":""},null,{"$f":"IF(VLOOKUP(BA$6+$BO$47,$D$48:$BO$77,64,FALSE)=\"\",\"\",VLOOKUP(BA$6+$BO$47,$D$48:$BO$77,64,FALSE))","v":""},null,{"$f":"IF(VLOOKUP(BC$6+$BO$47,$D$48:$BO$77,64,FALSE)=\"\",\"\",VLOOKUP(BC$6+$BO$47,$D$48:$BO$77,64,FALSE))","v":""},null,{"$f":"IF(VLOOKUP(BE$6+$BO$47,$D$48:$BO$77,64,FALSE)=\"\",\"\",VLOOKUP(BE$6+$BO$47,$D$48:$BO$77,64,FALSE))","v":""},null,{"$f":"IF(VLOOKUP(BG$6+$BO$47,$D$48:$BO$77,64,FALSE)=\"\",\"\",VLOOKUP(BG$6+$BO$47,$D$48:$BO$77,64,FALSE))","v":""},null,{"$f":"IF(VLOOKUP(BI$6+$BO$47,$D$48:$BO$77,64,FALSE)=\"\",\"\",VLOOKUP(BI$6+$BO$47,$D$48:$BO$77,64,FALSE))","v":""},null,{"$f":"IF(VLOOKUP(BK$6+$BO$47,$D$48:$BO$77,64,FALSE)=\"\",\"\",VLOOKUP(BK$6+$BO$47,$D$48:$BO$77,64,FALSE))","v":""}]
[null,null,"Damped Frequencies (Hz)",null,{"$f":"IF(VLOOKUP(E$6+$BO$47,$D$48:$BO$77,63,FALSE)=\"\",\"\",VLOOKUP(E$6+$BO$47,$D$48:$BO$77,63,FALSE))","v":7.7438502296375824E-3},null,{"$f":"IF(VLOOKUP(G$6+$BO$47,$D$48:$BO$77,63,FALSE)=\"\",\"\",VLOOKUP(G$6+$BO$47,$D$48:$BO$77,63,FALSE))","v":7.8165991874583549E-3},null,{"$f":"IF(VLOOKUP(I$6+$BO$47,$D$48:$BO$77,63,FALSE)=\"\",\"\",VLOOKUP(I$6+$BO$47,$D$48:$BO$77,63,FALSE))","v":1.151791986186588E-2},null,{"$f":"IF(VLOOKUP(K$6+$BO$47,$D$48:$BO$77,63,FALSE)=\"\",\"\",VLOOKUP(K$6+$BO$47,$D$48:$BO$77,63,FALSE))","v":3.6044119652200161E-2},null,{"$f":"IF(VLOOKUP(M$6+$BO$47,$D$48:$BO$77,63,FALSE)=\"\",\"\",VLOOKUP(M$6+$BO$47,$D$48:$BO$77,63,FALSE))","v":3.6229020873723358E-2},null,{"$f":"IF(VLOOKUP(O$6+$BO$47,$D$48:$BO$77,63,FALSE)=\"\",\"\",VLOOKUP(O$6+$BO$47,$D$48:$BO$77,63,FALSE))","v":5.0576460173386233E-2},null,{"$f":"IF(VLOOKUP(Q$6+$BO$47,$D$48:$BO$77,63,FALSE)=\"\",\"\",VLOOKUP(Q$6+$BO$47,$D$48:$BO$77,63,FALSE))","v":0.36776241649306829},null,{"$f":"IF(VLOOKUP(S$6+$BO$47,$D$48:$BO$77,63,FALSE)=\"\",\"\",VLOOKUP(S$6+$BO$47,$D$48:$BO$77,63,FALSE))","v":0.42308928557218273},null,{"$f":"IF(VLOOKUP(U$6+$BO$47,$D$48:$BO$77,63,FALSE)=\"\",\"\",VLOOKUP(U$6+$BO$47,$D$48:$BO$77,63,FALSE))","v":0.4421219995285372},null,{"$f":"IF(VLOOKUP(W$6+$BO$47,$D$48:$BO$77,63,FALSE)=\"\",\"\",VLOOKUP(W$6+$BO$47,$D$48:$BO$77,63,FALSE))","v":0.48280419092265081},null,{"$f":"IF(VLOOKUP(Y$6+$BO$47,$D$48:$BO$77,63,FALSE)=\"\",\"\",VLOOKUP(Y$6+$BO$47,$D$48:$BO$77,63,FALSE))","v":0.64684653247798263},null,{"$f":"IF(VLOOKUP(AA$6+$BO$47,$D$48:$BO$77,63,FALSE)=\"\",\"\",VLOOKUP(AA$6+$BO$47,$D$48:$BO$77,63,FALSE))","v":0.69943380720120063},null,{"$f":"IF(VLOOKUP(AC$6+$BO$47,$D$48:$BO$77,63,FALSE)=\"\",\"\",VLOOKUP(AC$6+$BO$47,$D$48:$BO$77,63,FALSE))","v":0.85854583845222809},null,{"$f":"IF(VLOOKUP(AE$6+$BO$47,$D$48:$BO$77,63,FALSE)=\"\",\"\",VLOOKUP(AE$6+$BO$47,$D$48:$BO$77,63,FALSE))","v":0.91710348991820212},null,{"$f":"IF(VLOOKUP(AG$6+$BO$47,$D$48:$BO$77,63,FALSE)=\"\",\"\",VLOOKUP(AG$6+$BO$47,$D$48:$BO$77,63,FALSE))","v":2.2414582270789629},null,{"$f":"IF(VLOOKUP(AI$6+$BO$47,$D$48:$BO$77,63,FALSE)=\"\",\"\",VLOOKUP(AI$6+$BO$47,$D$48:$BO$77,63,FALSE))","v":2.5281623806164082},null,{"$f":"IF(VLOOKUP(AK$6+$BO$47,$D$48:$BO$77,63,FALSE)=\"\",\"\",VLOOKUP(AK$6+$BO$47,$D$48:$BO$77,63,FALSE))","v":2.5105008756740941},null,{"$f":"IF(VLOOKUP(AM$6+$BO$47,$D$48:$BO$77,63,FALSE)=\"\",\"\",VLOOKUP(AM$6+$BO$47,$D$48:$BO$77,63,FALSE))","v":2.6739984436644022},null,{"$f":"IF(VLOOKUP(AO$6+$BO$47,$D$48:$BO$77,63,FALSE)=\"\",\"\",VLOOKUP(AO$6+$BO$47,$D$48:$BO$77,63,FALSE))","v":2.7650442376140858},null,{"$f":"IF(VLOOKUP(AQ$6+$BO$47,$D$48:$BO$77,63,FALSE)=\"\",\"\",VLOOKUP(AQ$6+$BO$47,$D$48:$BO$77,63,FALSE))","v":4.8177543353580239},null,{"$f":"IF(VLOOKUP(AS$6+$BO$47,$D$48:$BO$77,63,FALSE)=\"\",\"\",VLOOKUP(AS$6+$BO$47,$D$48:$BO$77,63,FALSE))","v":""},null,{"$f":"IF(VLOOKUP(AU$6+$BO$47,$D$48:$BO$77,63,FALSE)=\"\",\"\",VLOOKUP(AU$6+$BO$47,$D$48:$BO$77,63,FALSE))","v":""},null,{"$f":"IF(VLOOKUP(AW$6+$BO$47,$D$48:$BO$77,63,FALSE)=\"\",\"\",VLOOKUP(AW$6+$BO$47,$D$48:$BO$77,63,FALSE))","v":""},null,{"$f":"IF(VLOOKUP(AY$6+$BO$47,$D$48:$BO$77,63,FALSE)=\"\",\"\",VLOOKUP(AY$6+$BO$47,$D$48:$BO$77,63,FALSE))","v":""},null,{"$f":"IF(VLOOKUP(BA$6+$BO$47,$D$48:$BO$77,63,FALSE)=\"\",\"\",VLOOKUP(BA$6+$BO$47,$D$48:$BO$77,63,FALSE))","v":""},null,{"$f":"IF(VLOOKUP(BC$6+$BO$47,$D$48:$BO$77,63,FALSE)=\"\",\"\",VLOOKUP(BC$6+$BO$47,$D$48:$BO$77,63,FALSE))","v":""},null,{"$f":"IF(VLOOKUP(BE$6+$BO$47,$D$48:$BO$77,63,FALSE)=\"\",\"\",VLOOKUP(BE$6+$BO$47,$D$48:$BO$77,63,FALSE))","v":""},null,{"$f":"IF(VLOOKUP(BG$6+$BO$47,$D$48:$BO$77,63,FALSE)=\"\",\"\",VLOOKUP(BG$6+$BO$47,$D$48:$BO$77,63,FALSE))","v":""},null,{"$f":"IF(VLOOKUP(BI$6+$BO$47,$D$48:$BO$77,63,FALSE)=\"\",\"\",VLOOKUP(BI$6+$BO$47,$D$48:$BO$77,63,FALSE))","v":""},null,{"$f":"IF(VLOOKUP(BK$6+$BO$47,$D$48:$BO$77,63,FALSE)=\"\",\"\",VLOOKUP(BK$6+$BO$47,$D$48:$BO$77,63,FALSE))","v":""}]
[null,null,"Damping Ratio (-)",null,{"$f":"IF(VLOOKUP(E$6+$BO$47,$D$48:$BO$77,62,FALSE)=\"\",\"\",VLOOKUP(E$6+$BO$47,$D$48:$BO$77,62,FALSE))","v":3.6897601931476447E-2},null,{"$f":"IF(VLOOKUP(G$6+$BO$47,$D$48:$BO$77,62,FALSE)=\"\",\"\",VLOOKUP(G$6+$BO$47,$D$48:$BO$77,62,FALSE))","v":2.216823391497659E-2},null,{"$f":"IF(VLOOKUP(I$6+$BO$47,$D$48:$BO$77,62,FALSE)=\"\",\"\",VLOOKUP(I$6+$BO$47,$D$48:$BO$77,62,FALSE))","v":0.25245966419425492},null,{"$f":"IF(VLOOKUP(K$6+$BO$47,$D$48:$BO$77,62,FALSE)=\"\",\"\",VLOOKUP(K$6+$BO$47,$D$48:$BO$77,62,FALSE))","v":2.388624164731027E-2},null,{"$f":"IF(VLOOKUP(M$6+$BO$47,$D$48:$BO$77,62,FALSE)=\"\",\"\",VLOOKUP(M$6+$BO$47,$D$48:$BO$77,62,FALSE))","v":2.2554025590004068E-2},null,{"$f":"IF(VLOOKUP(O$6+$BO$47,$D$48:$BO$77,62,FALSE)=\"\",\"\",VLOOKUP(O$6+$BO$47,$D$48:$BO$77,62,FALSE))","v":5.6297752648182819E-3},null,{"$f":"IF(VLOOKUP(Q$6+$BO$47,$D$48:$BO$77,62,FALSE)=\"\",\"\",VLOOKUP(Q$6+$BO$47,$D$48:$BO$77,62,FALSE))","v":3.1106692835838799E-2},null,{"$f":"IF(VLOOKUP(S$6+$BO$47,$D$48:$BO$77,62,FALSE)=\"\",\"\",VLOOKUP(S$6+$BO$47,$D$48:$BO$77,62,FALSE))","v":1.6441938493390991E-2},null,{"$f":"IF(VLOOKUP(U$6+$BO$47,$D$48:$BO$77,62,FALSE)=\"\",\"\",VLOOKUP(U$6+$BO$47,$D$48:$BO$77,62,FALSE))","v":3.0540345344950301E-2},null,{"$f":"IF(VLOOKUP(W$6+$BO$47,$D$48:$BO$77,62,FALSE)=\"\",\"\",VLOOKUP(W$6+$BO$47,$D$48:$BO$77,62,FALSE))","v":2.000170030003021E-2},null,{"$f":"IF(VLOOKUP(Y$6+$BO$47,$D$48:$BO$77,62,FALSE)=\"\",\"\",VLOOKUP(Y$6+$BO$47,$D$48:$BO$77,62,FALSE))","v":2.6266689211406222E-2},null,{"$f":"IF(VLOOKUP(AA$6+$BO$47,$D$48:$BO$77,62,FALSE)=\"\",\"\",VLOOKUP(AA$6+$BO$47,$D$48:$BO$77,62,FALSE))","v":2.6544376038421889E-2},null,{"$f":"IF(VLOOKUP(AC$6+$BO$47,$D$48:$BO$77,62,FALSE)=\"\",\"\",VLOOKUP(AC$6+$BO$47,$D$48:$BO$77,62,FALSE))","v":1.872936325672642E-2},null,{"$f":"IF(VLOOKUP(AE$6+$BO$47,$D$48:$BO$77,62,FALSE)=\"\",\"\",VLOOKUP(AE$6+$BO$47,$D$48:$BO$77,62,FALSE))","v":2.1544887194368471E-2},null,{"$f":"IF(VLOOKUP(AG$6+$BO$47,$D$48:$BO$77,62,FALSE)=\"\",\"\",VLOOKUP(AG$6+$BO$47,$D$48:$BO$77,62,FALSE))","v":0.1198674994503976},null,{"$f":"IF(VLOOKUP(AI$6+$BO$47,$D$48:$BO$77,62,FALSE)=\"\",\"\",VLOOKUP(AI$6+$BO$47,$D$48:$BO$77,62,FALSE))","v":3.4851743243324358E-2},null,{"$f":"IF(VLOOKUP(AK$6+$BO$47,$D$48:$BO$77,62,FALSE)=\"\",\"\",VLOOKUP(AK$6+$BO$47,$D$48:$BO$77,62,FALSE))","v":0.12628151095284151},null,{"$f":"IF(VLOOKUP(AM$6+$BO$47,$D$48:$BO$77,62,FALSE)=\"\",\"\",VLOOKUP(AM$6+$BO$47,$D$48:$BO$77,62,FALSE))","v":1.7470191972240319E-2},null,{"$f":"IF(VLOOKUP(AO$6+$BO$47,$D$48:$BO$77,62,FALSE)=\"\",\"\",VLOOKUP(AO$6+$BO$47,$D$48:$BO$77,62,FALSE))","v":0.1040081948436289},null,{"$f":"IF(VLOOKUP(AQ$6+$BO$47,$D$48:$BO$77,62,FALSE)=\"\",\"\",VLOOKUP(AQ$6+$BO$47,$D$48:$BO$77,62,FALSE))","v":3.2826814473983008E-2},null,{"$f":"IF(VLOOKUP(AS$6+$BO$47,$D$48:$BO$77,62,FALSE)=\"\",\"\",VLOOKUP(AS$6+$BO$47,$D$48:$BO$77,62,FALSE))","v":""},null,{"$f":"IF(VLOOKUP(AU$6+$BO$47,$D$48:$BO$77,62,FALSE)=\"\",\"\",VLOOKUP(AU$6+$BO$47,$D$48:$BO$77,62,FALSE))","v":""},null,{"$f":"IF(VLOOKUP(AW$6+$BO$47,$D$48:$BO$77,62,FALSE)=\"\",\"\",VLOOKUP(AW$6+$BO$47,$D$48:$BO$77,62,FALSE))","v":""},null,{"$f":"IF(VLOOKUP(AY$6+$BO$47,$D$48:$BO$77,62,FALSE)=\"\",\"\",VLOOKUP(AY$6+$BO$47,$D$48:$BO$77,62,FALSE))","v":""},null,{"$f":"IF(VLOOKUP(BA$6+$BO$47,$D$48:$BO$77,62,FALSE)=\"\",\"\",VLOOKUP(BA$6+$BO$47,$D$48:$BO$77,62,FALSE))","v":""},null,{"$f":"IF(VLOOKUP(BC$6+$BO$47,$D$48:$BO$77,62,FALSE)=\"\",\"\",VLOOKUP(BC$6+$BO$47,$D$48:$BO$77,62,FALSE))","v":""},null,{"$f":"IF(VLOOKUP(BE$6+$BO$47,$D$48:$BO$77,62,FALSE)=\"\",\"\",VLOOKUP(BE$6+$BO$47,$D$48:$BO$77,62,FALSE))","v":""},null,{"$f":"IF(VLOOKUP(BG$6+$BO$47,$D$48:$BO$77,62,FALSE)=\"\",\"\",VLOOKUP(BG$6+$BO$47,$D$48:$BO$77,62,FALSE))","v":""},null,{"$f":"IF(VLOOKUP(BI$6+$BO$47,$D$48:$BO$77,62,FALSE)=\"\",\"\",VLOOKUP(BI$6+$BO$47,$D$48:$BO$77,62,FALSE))","v":""},null,{"$f":"IF(VLOOKUP(BK$6+$BO$47,$D$48:$BO$77,62,FALSE)=\"\",\"\",VLOOKUP(BK$6+$BO$47,$D$48:$BO$77,62,FALSE))","v":""}]
[null,null,"States","Scaling","Magnitude (rad)","Phase (deg)","Magnitude (rad)","Phase (deg)","Magnitude (rad)","Phase (deg)","Magnitude (rad)","Phase (deg)","Magnitude (rad)","Phase (deg)","Magnitude (rad)","Phase (deg)","Magnitude (rad)","Phase (deg)","Magnitude (rad)","Phase (deg)","Magnitude (rad)","Phase (deg)","Magnitude (rad)","Phase (deg)","Magnitude (rad)","Phase (deg)","Magnitude (rad)","Phase (deg)","Magnitude (rad)","Phase (deg)","Magnitude (rad)","Phase (deg)","Magnitude (rad)","Phase (deg)","Magnitude (rad)","Phase (deg)","Magnitude (rad)","Phase (deg)","Magnitude (rad)","Phase (deg)","Magnitude (rad)","Phase (deg)","Magnitude (rad)","Phase (deg)","Magnitude (rad)","Phase (deg)","Magnitude (rad)","Phase (deg)","Magnitude (rad)","Phase (deg)","Magnitude (rad)","Phase (deg)","Magnitude (rad)","Phase (deg)","Magnitude (rad)","Phase (deg)","Magnitude (rad)","Phase (deg)","Magnitude (rad)","Phase (deg)","Magnitude (rad)","Phase (deg)","Magnitude (rad)","Phase (deg)"]
[null,1,"ED Platform horizontal surge translation DOF (internal DOF index = DOF_Sg), m",1,{"$f":"IF(HLOOKUP(E$6+$BO$47,$E$47:$AH$77,$B11+1,FALSE)=\"\",\"\",HLOOKUP(E$6+$BO$47,$E$47:$AH$77,$B11+1,FALSE)*$D11)","v":0.99879987860652664},{"$f":"IF(HLOOKUP(E$6+$BO$47,$AI$47:$BL$77,$B11+1,FALSE)=\"\",\"\",HLOOKUP(E$6+$BO$47,$AI$47:$BL$77,$B11+1,FALSE))","v":0},{"$f":"IF(HLOOKUP(G$6+$BO$47,$E$47:$AH$77,$B11+1,FALSE)=\"\",\"\",HLOOKUP(G$6+$BO$47,$E$47:$AH$77,$B11+1,FALSE)*$D11)","v":3.0395300755773698E-3},{"$f":"IF(HLOOKUP(G$6+$BO$47,$AI$47:$BL$77,$B11+1,FALSE)=\"\",\"\",HLOOKUP(G$6+$BO$47,$AI$47:$BL$77,$B11+1,FALSE))","v":-152.1602773029725},{"$f":"IF(HLOOKUP(I$6+$BO$47,$E$47:$AH$77,$B11+1,FALSE)=\"\",\"\",HLOOKUP(I$6+$BO$47,$E$47:$AH$77,$B11+1,FALSE)*$D11)","v":4.0436685712407813E-2},{"$f":"IF(HLOOKUP(I$6+$BO$47,$AI$47:$BL$77,$B11+1,FALSE)=\"\",\"\",HLOOKUP(I$6+$BO$47,$AI$47:$BL$77,$B11+1,FALSE))","v":-34.247583920070873},{"$f":"IF(HLOOKUP(K$6+$BO$47,$E$47:$AH$77,$B11+1,FALSE)=\"\",\"\",HLOOKUP(K$6+$BO$47,$E$47:$AH$77,$B11+1,FALSE)*$D11)","v":0.25904831062751671},{"$f":"IF(HLOOKUP(K$6+$BO$47,$AI$47:$BL$77,$B11+1,FALSE)=\"\",\"\",HLOOKUP(K$6+$BO$47,$AI$47:$BL$77,$B11+1,FALSE))","v":-90.718309613751558},{"$f":"IF(HLOOKUP(M$6+$BO$47,$E$47:$AH$77,$B11+1,FALSE)=\"\",\"\",HLOOKUP(M$6+$BO$47,$E$47:$AH$77,$B11+1,FALSE)*$D11)","v":0.26498139997769088},{"$f":"IF(HLOOKUP(M$6+$BO$47,$AI$47:$BL$77,$B11+1,FALSE)=\"\",\"\",HLOOKUP(M$6+$BO$47,$AI$47:$BL$77,$B11+1,FALSE))","v":-91.631168326274249},{"$f":"IF(HLOOKUP(O$6+$BO$47,$E$47:$AH$77,$B11+1,FALSE)=\"\",\"\",HLOOKUP(O$6+$BO$47,$E$47:$AH$77,$B11+1,FALSE)*$D11)","v":1.7672955976378859E-3},{"$f":"IF(HLOOKUP(O$6+$BO$47,$AI$47:$BL$77,$B11+1,FALSE)=\"\",\"\",HLOOKUP(O$6+$BO$47,$AI$47:$BL$77,$B11+1,FALSE))","v":2.9220441080841528},{"$f":"IF(HLOOKUP(Q$6+$BO$47,$E$47:$AH$77,$B11+1,FALSE)=\"\",\"\",HLOOKUP(Q$6+$BO$47,$E$47:$AH$77,$B11+1,FALSE)*$D11)","v":9.4650739124623633E-4},{"$f":"IF(HLOOKUP(Q$6+$BO$47,$AI$47:$BL$77,$B11+1,FALSE)=\"\",\"\",HLOOKUP(Q$6+$BO$47,$AI$47:$BL$77,$B11+1,FALSE))","v":-172.73876058511121},{"$f":"IF(HLOOKUP(S$6+$BO$47,$E$47:$AH$77,$B11+1,FALSE)=\"\",\"\",HLOOKUP(S$6+$BO$47,$E$47:$AH$77,$B11+1,FALSE)*$D11)","v":4.6132812804589339E-4},{"$f":"IF(HLOOKUP(S$6+$BO$47,$AI$47:$BL$77,$B11+1,FALSE)=\"\",\"\",HLOOKUP(S$6+$BO$47,$AI$47:$BL$77,$B11+1,FALSE))","v":-60.280940055556613},{"$f":"IF(HLOOKUP(U$6+$BO$47,$E$47:$AH$77,$B11+1,FALSE)=\"\",\"\",HLOOKUP(U$6+$BO$47,$E$47:$AH$77,$B11+1,FALSE)*$D11)","v":8.0273660486642297E-4},{"$f":"IF(HLOOKUP(U$6+$BO$47,$AI$47:$BL$77,$B11+1,FALSE)=\"\",\"\",HLOOKUP(U$6+$BO$47,$AI$47:$BL$77,$B11+1,FALSE))","v":76.051553634275294},{"$f":"IF(HLOOKUP(W$6+$BO$47,$E$47:$AH$77,$B11+1,FALSE)=\"\",\"\",HLOOKUP(W$6+$BO$47,$E$47:$AH$77,$B11+1,FALSE)*$D11)","v":2.0124667869658689E-3},{"$f":"IF(HLOOKUP(W$6+$BO$47,$AI$47:$BL$77,$B11+1,FALSE)=\"\",\"\",HLOOKUP(W$6+$BO$47,$AI$47:$BL$77,$B11+1,FALSE))","v":165.9648724660897},{"$f":"IF(HLOOKUP(Y$6+$BO$47,$E$47:$AH$77,$B11+1,FALSE)=\"\",\"\",HLOOKUP(Y$6+$BO$47,$E$47:$AH$77,$B11+1,FALSE)*$D11)","v":1.8957947489201831E-4},{"$f":"IF(HLOOKUP(Y$6+$BO$47,$AI$47:$BL$77,$B11+1,FALSE)=\"\",\"\",HLOOKUP(Y$6+$BO$47,$AI$47:$BL$77,$B11+1,FALSE))","v":86.035763398275193},{"$f":"IF(HLOOKUP(AA$6+$BO$47,$E$47:$AH$77,$B11+1,FALSE)=\"\",\"\",HLOOKUP(AA$6+$BO$47,$E$47:$AH$77,$B11+1,FALSE)*$D11)","v":6.0404845438353453E-5},{"$f":"IF(HLOOKUP(AA$6+$BO$47,$AI$47:$BL$77,$B11+1,FALSE)=\"\",\"\",HLOOKUP(AA$6+$BO$47,$AI$47:$BL$77,$B11+1,FALSE))","v":-22.245239815528741},{"$f":"IF(HLOOKUP(AC$6+$BO$47,$E$47:$AH$77,$B11+1,FALSE)=\"\",\"\",HLOOKUP(AC$6+$BO$47,$E$47:$AH$77,$B11+1,FALSE)*$D11)","v":7.6362106808410489E-5},{"$f":"IF(HLOOKUP(AC$6+$BO$47,$AI$47:$BL$77,$B11+1,FALSE)=\"\",\"\",HLOOKUP(AC$6+$BO$47,$AI$47:$BL$77,$B11+1,FALSE))","v":5.345623820718842},{"$f":"IF(HLOOKUP(AE$6+$BO$47,$E$47:$AH$77,$B11+1,FALSE)=\"\",\"\",HLOOKUP(AE$6+$BO$47,$E$47:$AH$77,$B11+1,FALSE)*$D11)","v":2.0996654886247831E-5},{"$f":"IF(HLOOKUP(AE$6+$BO$47,$AI$47:$BL$77,$B11+1,FALSE)=\"\",\"\",HLOOKUP(AE$6+$BO$47,$AI$47:$BL$77,$B11+1,FALSE))","v":-155.37190173024399},{"$f":"IF(HLOOKUP(AG$6+$BO$47,$E$47:$AH$77,$B11+1,FALSE)=\"\",\"\",HLOOKUP(AG$6+$BO$47,$E$47:$AH$77,$B11+1,FALSE)*$D11)","v":1.1076038550641271E-6},{"$f":"IF(HLOOKUP(AG$6+$BO$47,$AI$47:$BL$77,$B11+1,FALSE)=\"\",\"\",HLOOKUP(AG$6+$BO$47,$AI$47:$BL$77,$B11+1,FALSE))","v":42.093819501221432},{"$f":"IF(HLOOKUP(AI$6+$BO$47,$E$47:$AH$77,$B11+1,FALSE)=\"\",\"\",HLOOKUP(AI$6+$BO$47,$E$47:$AH$77,$B11+1,FALSE)*$D11)","v":5.111158834228553E-6},{"$f":"IF(HLOOKUP(AI$6+$BO$47,$AI$47:$BL$77,$B11+1,FALSE)=\"\",\"\",HLOOKUP(AI$6+$BO$47,$AI$47:$BL$77,$B11+1,FALSE))","v":169.67983252712909},{"$f":"IF(HLOOKUP(AK$6+$BO$47,$E$47:$AH$77,$B11+1,FALSE)=\"\",\"\",HLOOKUP(AK$6+$BO$47,$E$47:$AH$77,$B11+1,FALSE)*$D11)","v":6.6113926146773447E-8},{"$f":"IF(HLOOKUP(AK$6+$BO$47,$AI$47:$BL$77,$B11+1,FALSE)=\"\",\"\",HLOOKUP(AK$6+$BO$47,$AI$47:$BL$77,$B11+1,FALSE))","v":159.44072059991549},{"$f":"IF(HLOOKUP(AM$6+$BO$47,$E$47:$AH$77,$B11+1,FALSE)=\"\",\"\",HLOOKUP(AM$6+$BO$47,$E$47:$AH$77,$B11+1,FALSE)*$D11)","v":5.9337005601064182E-7},{"$f":"IF(HLOOKUP(AM$6+$BO$47,$AI$47:$BL$77,$B11+1,FALSE)=\"\",\"\",HLOOKUP(AM$6+$BO$47,$AI$47:$BL$77,$B11+1,FALSE))","v":-72.51039887665334},{"$f":"IF(HLOOKUP(AO$6+$BO$47,$E$47:$AH$77,$B11+1,FALSE)=\"\",\"\",HLOOKUP(AO$6+$BO$47,$E$47:$AH$77,$B11+1,FALSE)*$D11)","v":7.650848465950601E-7},{"$f":"IF(HLOOKUP(AO$6+$BO$47,$AI$47:$BL$77,$B11+1,FALSE)=\"\",\"\",HLOOKUP(AO$6+$BO$47,$AI$47:$BL$77,$B11+1,FALSE))","v":-139.8745232722959},{"$f":"IF(HLOOKUP(AQ$6+$BO$47,$E$47:$AH$77,$B11+1,FALSE)=\"\",\"\",HLOOKUP(AQ$6+$BO$47,$E$47:$AH$77,$B11+1,FALSE)*$D11)","v":6.8407554331542999E-8},{"$f":"IF(HLOOKUP(AQ$6+$BO$47,$AI$47:$BL$77,$B11+1,FALSE)=\"\",\"\",HLOOKUP(AQ$6+$BO$47,$AI$47:$BL$77,$B11+1,FALSE))","v":165.5429984151578},{"$f":"IF(HLOOKUP(AS$6+$BO$47,$E$47:$AH$77,$B11+1,FALSE)=\"\",\"\",HLOOKUP(AS$6+$BO$47,$E$47:$AH$77,$B11+1,FALSE)*$D11)","v":""},{"$f":"IF(HLOOKUP(AS$6+$BO$47,$AI$47:$BL$77,$B11+1,FALSE)=\"\",\"\",HLOOKUP(AS$6+$BO$47,$AI$47:$BL$77,$B11+1,FALSE))","v":""},{"$f":"IF(HLOOKUP(AU$6+$BO$47,$E$47:$AH$77,$B11+1,FALSE)=\"\",\"\",HLOOKUP(AU$6+$BO$47,$E$47:$AH$77,$B11+1,FALSE)*$D11)","v":""},{"$f":"IF(HLOOKUP(AU$6+$BO$47,$AI$47:$BL$77,$B11+1,FALSE)=\"\",\"\",HLOOKUP(AU$6+$BO$47,$AI$47:$BL$77,$B11+1,FALSE))","v":""},{"$f":"IF(HLOOKUP(AW$6+$BO$47,$E$47:$AH$77,$B11+1,FALSE)=\"\",\"\",HLOOKUP(AW$6+$BO$47,$E$47:$AH$77,$B11+1,FALSE)*$D11)","v":""},{"$f":"IF(HLOOKUP(AW$6+$BO$47,$AI$47:$BL$77,$B11+1,FALSE)=\"\",\"\",HLOOKUP(AW$6+$BO$47,$AI$47:$BL$77,$B11+1,FALSE))","v":""},{"$f":"IF(HLOOKUP(AY$6+$BO$47,$E$47:$AH$77,$B11+1,FALSE)=\"\",\"\",HLOOKUP(AY$6+$BO$47,$E$47:$AH$77,$B11+1,FALSE)*$D11)","v":""},{"$f":"IF(HLOOKUP(AY$6+$BO$47,$AI$47:$BL$77,$B11+1,FALSE)=\"\",\"\",HLOOKUP(AY$6+$BO$47,$AI$47:$BL$77,$B11+1,FALSE))","v":""},{"$f":"IF(HLOOKUP(BA$6+$BO$47,$E$47:$AH$77,$B11+1,FALSE)=\"\",\"\",HLOOKUP(BA$6+$BO$47,$E$47:$AH$77,$B11+1,FALSE)*$D11)","v":""},{"$f":"IF(HLOOKUP(BA$6+$BO$47,$AI$47:$BL$77,$B11+1,FALSE)=\"\",\"\",HLOOKUP(BA$6+$BO$47,$AI$47:$BL$77,$B11+1,FALSE))","v":""},{"$f":"IF(HLOOKUP(BC$6+$BO$47,$E$47:$AH$77,$B11+1,FALSE)=\"\",\"\",HLOOKUP(BC$6+$BO$47,$E$47:$AH$77,$B11+1,FALSE)*$D11)","v":""},{"$f":"IF(HLOOKUP(BC$6+$BO$47,$AI$47:$BL$77,$B11+1,FALSE)=\"\",\"\",HLOOKUP(BC$6+$BO$47,$AI$47:$BL$77,$B11+1,FALSE))","v":""},{"$f":"IF(HLOOKUP(BE$6+$BO$47,$E$47:$AH$77,$B11+1,FALSE)=\"\",\"\",HLOOKUP(BE$6+$BO$47,$E$47:$AH$77,$B11+1,FALSE)*$D11)","v":""},{"$f":"IF(HLOOKUP(BE$6+$BO$47,$AI$47:$BL$77,$B11+1,FALSE)=\"\",\"\",HLOOKUP(BE$6+$BO$47,$AI$47:$BL$77,$B11+1,FALSE))","v":""},{"$f":"IF(HLOOKUP(BG$6+$BO$47,$E$47:$AH$77,$B11+1,FALSE)=\"\",\"\",HLOOKUP(BG$6+$BO$47,$E$47:$AH$77,$B11+1,FALSE)*$D11)","v":""},{"$f":"IF(HLOOKUP(BG$6+$BO$47,$AI$47:$BL$77,$B11+1,FALSE)=\"\",\"\",HLOOKUP(BG$6+$BO$47,$AI$47:$BL$77,$B11+1,FALSE))","v":""},{"$f":"IF(HLOOKUP(BI$6+$BO$47,$E$47:$AH$77,$B11+1,FALSE)=\"\",\"\",HLOOKUP(BI$6+$BO$47,$E$47:$AH$77,$B11+1,FALSE)*$D11)","v":""},{"$f":"IF(HLOOKUP(BI$6+$BO$47,$AI$47:$BL$77,$B11+1,FALSE)=\"\",\"\",HLOOKUP(BI$6+$BO$47,$AI$47:$BL$77,$B11+1,FALSE))","v":""},{"$f":"IF(HLOOKUP(BK$6+$BO$47,$E$47:$AH$77,$B11+1,FALSE)=\"\",\"\",HLOOKUP(BK$6+$BO$47,$E$47:$AH$77,$B11+1,FALSE)*$D11)","v":""},{"$f":"IF(HLOOKUP(BK$6+$BO$47,$AI$47:$BL$77,$B11+1,FALSE)=\"\",\"\",HLOOKUP(BK$6+$BO$47,$AI$47:$BL$77,$B11+1,FALSE))","v":""},{"$f":"MAX(E11,G11,I11,K11,M11,O11,Q11,S11,U11,W11,Y11,AA11,AC11,AE11,AG11,AI11,AK11,AM11,AO11,AQ11,AS11,AU11,AW11,AY11,BA11,BC11,BE11,BG11,BI11,BK11)","v":0.99879987860652664},{"$f":"MATCH($BM11,E11:BK11,0)+4","v":5},{"$f":"INDIRECT(SUBSTITUTE(ADDRESS(1,$BN11,4),\"1\",\"7\"))","v":7.7491269849453894E-3}]
[null,{"$f":"B11+1","v":2},"ED Platform horizontal sway translation DOF (internal DOF index = DOF_Sw), m",1,5.2583949059000238E-3,-91.835446513586859,0.99879001513278398,180,7.2858073770737081E-2,-136.02951161485279,0.26709135004153489,171.8457840002342,0.25158854728537022,-16.23118423706352,1.418708693463641E-5,27.429364728135489,1.3851067718442369E-4,90.072775694095171,2.962601188740296E-3,-57.67847202814945,1.0054592782724771E-3,137.72442114799841,2.9788404878766688E-4,93.004296787239099,1.735304191100809E-4,-153.0471601197257,6.4636092734072094E-4,-93.595951836371924,2.359894863426236E-5,102.0783809869211,3.4572818611645213E-5,-89.491079100946834,1.992896407226515E-7,-51.760077316178197,2.4582299175740591E-7,-41.39391780417526,8.6745325742187554E-8,146.106974653767,1.9875640007194599E-5,-161.3714166369804,2.0419690317712211E-7,-72.629653087734098,1.2561476197929461E-7,79.450589916252412,"","","","","","","","","","","","","","","","","","","","",0.99879001513278398,7,{"$f":"INDIRECT(SUBSTITUTE(ADDRESS(1,$BN12,4),\"1\",\"7\"))","v":7.8185205536453889E-3}]
[null,3,"ED Platform vertical heave translation DOF (internal DOF index = DOF_Hv), m",1,1.362196584872413E-4,1.2535715788270121,9.5032877086447251E-7,-116.20990463452149,1.4565774087737791E-3,-101.7095396265006,9.2968004335669957E-3,-95.839825203060812,9.7684608762161531E-3,-96.67180564530679,0.95287568939589518,180,2.7153290572745321E-5,-175.16919128885581,5.5124513347326083E-5,-17.856607136442982,6.9296763757042211E-5,86.094109486106746,3.5545370804823288E-5,151.34526624416549,2.0815980899365269E-5,91.790843464425521,3.758377467709612E-6,-81.488243944835361,5.4098295531847949E-6,-153.81588766818811,2.2132497348825088E-5,-2.0170020478505628,2.132282661556923E-7,-128.22235756742791,1.096956318083762E-6,-9.0209834057302665,2.527381035911113E-8,49.462202444689119,1.6196556602396589E-7,93.988823640019874,1.814386023586604E-7,47.422550669130217,2.2819117442570941E-8,-8.1247501774842625,"","","","","","","","","","","","","","","","","","","","",0.95287568939589518,15,{"$f":"INDIRECT(SUBSTITUTE(ADDRESS(1,$BN13,4),\"1\",\"7\"))","v":5.0577261686948073E-2}]
[null,4,"ED Platform roll tilt rotation DOF (internal DOF index = DOF_R), rad",1,7.940897519818596E-6,-48.086898893953602,5.3798449756407797E-4,178.72071052019919,5.4521833229353453E-3,85.768878615569903,4.5844483696099732E-2,-7.7154385102152121,4.3561717578827278E-2,164.03721578230329,2.982482946232148E-6,-138.98213175629459,8.84204919104562E-6,-89.852718944269483,1.7633886741007471E-4,122.40798959880971,5.9881675966365589E-5,-42.092779357466917,1.7398187603281649E-5,-86.850656348495193,9.0576716007599851E-6,26.78388592248491,3.3216659495056379E-5,86.250507786670369,1.2061320491402499E-6,-77.601304263916319,1.812770364431791E-6,90.240906118489647,8.5394171014898997E-9,127.1223623909985,1.034816556851758E-8,138.53195608512399,3.6346134394596051E-9,-34.967819181327947,8.2549701839651514E-7,18.590910028312958,8.4182604637822774E-9,106.4950943122527,4.7064666546578622E-9,-101.0396453276072,"","","","","","","","","","","","","","","","","","","","",4.5844483696099732E-2,11,{"$f":"INDIRECT(SUBSTITUTE(ADDRESS(1,$BN14,4),\"1\",\"7\"))","v":3.6054406586347253E-2}]
[null,5,"ED Platform pitch tilt rotation DOF (internal DOF index = DOF_P), rad",1,5.5005189086844333E-4,178.65006845162341,4.3166007410272774E-6,140.5523599792327,2.540593332538376E-3,2.6650641537772328,4.4537372198827023E-2,-90.625892367416441,4.5673614362813572E-2,-91.853403937592375,2.8227700145374852E-4,3.153096670796145,6.0115526988938317E-5,-173.33448558923899,2.7443584817288981E-5,-60.627240298540258,4.686503883309789E-5,75.569734210286185,1.142051262326209E-4,165.80534025268591,1.068375381903722E-5,86.055124599630261,3.312291036958096E-6,-23.25552073485817,3.79173181616955E-6,5.3475186992610579,1.061291698237805E-6,-156.3818767253351,4.7482519428791753E-8,41.142211463806063,2.151938176039992E-7,169.47937905698799,2.7824468927424359E-9,157.61935969542071,2.4761091173810279E-8,-72.543049441138706,3.173001235682966E-8,-140.6810825009812,2.6256636357217862E-9,165.29219633459269,"","","","","","","","","","","","","","","","","","","","",4.5673614362813572E-2,13,{"$f":"INDIRECT(SUBSTITUTE(ADDRESS(1,$BN15,4),\"1\",\"7\"))","v":3.6238238953591052E-2}]
[null,6,"ED Platform yaw rotation DOF (internal DOF index = DOF_Y), rad",1,8.3514622863636862E-5,-106.6928009267229,1.5873920224546021E-4,148.08717142279801,0.1824839922704391,75.569959165720817,4.4293095989987796E-3,-174.87850571214281,9.1329865285134666E-4,-142.69959087235571,1.173782450433825E-5,-120.8012285904714,8.462119732075113E-6,-90.236234445430867,1.31654533720567E-6,73.505669902533228,5.8411136187920778E-7,64.905221829076282,3.7719863537729709E-6,87.938947133183476,4.8036815292347108E-7,20.350560039609562,1.169417029948811E-6,88.206650379528014,7.2258472486573569E-7,93.932290360110272,1.007102444129958E-7,-6.3481432010934,4.2925760173392918E-9,-86.161881465438029,2.2430612690127529E-9,-64.009124369486116,7.4357005128912414E-11,-139.09990644631489,2.412156811159499E-8,-167.2522798730877,2.1339951908818049E-9,-175.21082991279249,1.141820733068645E-8,-102.6705552785731,"","","","","","","","","","","","","","","","","","","","",0.1824839922704391,9,{"$f":"INDIRECT(SUBSTITUTE(ADDRESS(1,$BN16,4),\"1\",\"7\"))","v":1.190350511136487E-2}]
[null,7,"ED 1st tower fore-aft bending mode DOF (internal DOF index = DOF_TFA1), m",6.9206546939340457E-3,6.0016029352763424E-6,174.75959630481739,1.7128320897113849E-7,105.8246530671409,2.0978025264996235E-4,0.1139770039007082,1.4730848962015398E-3,-89.701841963393676,1.4924751595695911E-3,-90.328088751790958,1.9073961998699075E-6,158.5838441368092,1.0771302968214782E-4,7.3354801430801118,5.5111147125686452E-5,119.4553620118752,9.1521726800704168E-5,-103.56337733918291,2.3207531022813809E-4,-14.097857251142949,4.0369575631331439E-5,-91.63283609422507,1.3071510533629772E-5,150.08109825008091,8.8306938664916226E-6,-174.2030915952933,2.9815002611786966E-6,19.24052895544062,4.6256537488455588E-8,-155.36967089930991,1.3644168239443925E-7,-17.097669224119532,2.6720579819900086E-8,-92.938245831818222,1.2024748013283256E-8,155.15595300333749,1.4440301652014276E-8,3.7842457696623928,3.2114862467556004E-9,146.1190987348684,"","","","","","","","","","","","","","","","","","","","",1.4924751595695911E-3,13,{"$f":"INDIRECT(SUBSTITUTE(ADDRESS(1,$BN17,4),\"1\",\"7\"))","v":3.6238238953591052E-2}]
[null,8,"ED 1st tower side-to-side bending mode DOF (internal DOF index = DOF_TSS1), m",6.9206546939340457E-3,2.0096927811710107E-7,-67.697470867071232,5.7301112487611156E-6,175.3902547998081,2.4292719214849578E-4,86.022173255903013,1.5212468121731E-3,-6.8444200479333928,1.4212515366260824E-3,165.36971473971329,1.1561853523057102E-7,11.669667682001309,1.5184054904948708E-5,89.968890379309258,3.3526236236313805E-4,-56.59892814193519,1.2548580470518548E-4,141.2938523710622,4.0983940328170388E-5,92.325092084366801,1.9460988680349721E-5,-152.40941945805801,7.2813422375754932E-5,-94.016595148802878,4.7347744346934042E-6,106.0524726112335,9.6516944549738743E-6,-90.400423615956072,4.2574974733631131E-8,-70.924318799355376,2.6019399447161922E-8,-50.283511857497579,2.0127770273691727E-9,130.2969840192643,5.5980327970088001E-7,-165.77560674684531,2.6830767014674497E-8,-164.39459857915409,4.1285252880732617E-7,-100.3824242673944,"","","","","","","","","","","","","","","","","","","","",1.5212468121731E-3,11,{"$f":"INDIRECT(SUBSTITUTE(ADDRESS(1,$BN18,4),\"1\",\"7\"))","v":3.6054406586347253E-2}]
[null,9,"ED 2nd tower fore-aft bending mode DOF (internal DOF index = DOF_TFA2), m",6.9206546939340457E-3,1.5153272617586996E-8,174.46084770661241,2.2145682363913275E-9,-103.3592043113168,3.0132309017412961E-6,179.98916985046449,2.759469822785709E-6,-91.327643350982157,3.2538167889666594E-6,-91.868381279420248,3.7348362881423489E-7,0.66076990536680291,1.0883958934444097E-6,-176.79493533926251,2.5653065902870996E-7,-66.055515683807684,2.5021200889384125E-7,51.79653267520375,4.4117448241369442E-7,8.3464137666545017,2.3998957753155022E-9,-121.29296402788719,7.3107895836901968E-8,-176.38763244422469,5.1736035856717156E-7,-172.7127414695218,1.6015216807379355E-7,29.714088496940398,4.8057428578605826E-8,-129.92894251034559,2.5222134390060341E-7,-8.6913503777475345,3.2985169406008718E-9,1.41458209093941,3.2372506400387229E-8,93.301886003933816,4.2073648014187303E-8,45.725377525376523,5.6275882284748433E-9,-15.102613340581041,"","","","","","","","","","","","","","","","","","","","",3.2538167889666594E-6,13,{"$f":"INDIRECT(SUBSTITUTE(ADDRESS(1,$BN19,4),\"1\",\"7\"))","v":3.6238238953591052E-2}]
[null,10,"ED 2nd tower side-to-side bending mode DOF (internal DOF index = DOF_TSS2), m",6.9206546939340457E-3,4.1872261680788775E-10,52.844428838019098,1.5490199660440442E-8,175.42039303200309,4.4230856209497364E-7,84.902526975510625,2.6881158672639785E-6,-8.1244360784843721,3.0530982783122561E-6,165.99634818925711,2.0833270205486437E-9,-78.323024107989113,1.4345846645737594E-7,-89.535411086739074,1.4874796619633557E-6,123.68026227714959,5.9113317103887255E-7,-35.450596780245668,1.3360513137507091E-7,-82.639061134872009,4.9314932844147631E-7,-148.3992347576945,2.4126801332148025E-6,-89.30226098794256,1.0556944592303712E-7,102.8386916024197,1.1878596236571429E-7,-81.998087491444565,7.678724043558102E-9,-43.157478746093062,1.3220187763492356E-8,-35.009239613083963,4.2825685708595909E-9,153.26739964889421,1.0317929441854706E-6,-160.91072808008141,1.1264542866101062E-8,-61.690772009558472,2.4413348363166455E-8,79.966432990005131,"","","","","","","","","","","","","","","","","","","","",3.0530982783122561E-6,13,{"$f":"INDIRECT(SUBSTITUTE(ADDRESS(1,$BN20,4),\"1\",\"7\"))","v":3.6238238953591052E-2}]
[null,11,"ED Nacelle yaw DOF (internal DOF index = DOF_Yaw), rad",1,2.9120864635587738E-7,-88.11386030365243,5.059683244526114E-7,175.3438863903144,2.8983151280604749E-5,91.711527862592007,2.4128454529077001E-4,-3.6020631448115128,3.2103933532539717E-5,105.3681495122006,8.4752517603534128E-7,93.417219236252379,4.3258822661303572E-5,92.483932596033199,2.094182440150027E-5,-74.803233961222659,5.670340897188487E-6,-175.0497129808569,3.0949015856615782E-5,-91.871607502519197,9.1595744133555308E-6,-156.6133191616359,2.8651932404218519E-5,-89.830831166680625,1.950995682807836E-5,-84.612463162773423,3.1751246154892E-6,-172.03164963197031,8.0511972413529626E-7,105.7611888075149,5.2458152248608184E-7,120.0774405805102,1.8324926189622639E-8,88.791341498415321,3.8537024846572664E-6,9.7322608853536607,6.1996343977858319E-7,12.91212143523663,9.9666800839776104E-6,79.568370219879299,"","","","","","","","","","","","","","","","","","","","",2.4128454529077001E-4,11,{"$f":"INDIRECT(SUBSTITUTE(ADDRESS(1,$BN21,4),\"1\",\"7\"))","v":3.6054406586347253E-2}]
[null,12,"ED 1st flapwise bending-mode DOF of blade 1 (internal DOF index = DOF_BF(1,1)), m",8.5470085470085479E-3,7.9340393415689758E-6,174.67735577360841,7.2967490374834354E-7,-99.422304723972644,1.6320523152523139E-4,10.508128008395881,1.6216541344917018E-3,-87.096554093486773,2.3464671304202181E-3,-93.726362231748752,4.3217241725892703E-5,1.5276473277628211,1.3753538470200405E-4,10.3007880123291,1.6003281844128285E-4,9.9215839259203058,2.4043032883511712E-4,-124.9172812960341,6.7834954506226449E-4,-12.90555256963796,1.9991042902129516E-3,88.494856456363465,4.8118394104909498E-4,3.5836189376082181,1.9991983583748617E-5,-5.7452984157481977,1.1562994934722898E-5,110.70245702789759,1.1914250397667035E-6,64.479294007019263,1.0540410726177301E-5,87.138494828141376,3.6795561092046005E-4,82.756392199476196,4.9941435064340824E-5,86.111003480279933,2.6171951458513882E-6,99.081515855754191,8.670733389887463E-7,-76.654678395921692,"","","","","","","","","","","","","","","","","","","","",2.3464671304202181E-3,13,{"$f":"INDIRECT(SUBSTITUTE(ADDRESS(1,$BN22,4),\"1\",\"7\"))","v":3.6238238953591052E-2}]
[null,13,"ED 1st flapwise bending-mode DOF of blade 2 (internal DOF index = DOF_BF(2,1)), m",8.5470085470085479E-3,2.9369458515510947E-6,160.80400082389349,5.6951609285052685E-6,86.56544337075141,7.8051725687512457E-3,0,9.8042449131627274E-4,-91.849725393787651,2.9422609429659562E-4,165.783240898744,4.6656105321978435E-6,-158.21992012159569,2.3384774618045077E-3,-1.9070016983821549,2.7224847304612652E-4,-18.822604149128239,3.4038244112965811E-4,64.625458830414757,1.4909527795226821E-3,179.04804521391449,2.3868005449469397E-5,92.582843652340145,8.7348890717187187E-5,10.536987787518109,1.0795713551046216E-3,-0.80062460620531517,2.2514831734957258E-4,12.39492293278467,2.878704730939262E-4,-3.5152762032133449,2.3323509937640566E-4,80.308980959719051,1.3655140429235694E-6,104.2241455039776,2.197177154976232E-4,88.930236229587891,2.718758252892068E-4,83.758731456208167,1.0920656162498138E-5,21.796172428310388,"","","","","","","","","","","","","","","","","","","","",7.8051725687512457E-3,9,{"$f":"INDIRECT(SUBSTITUTE(ADDRESS(1,$BN23,4),\"1\",\"7\"))","v":1.190350511136487E-2}]
[null,14,"ED 1st flapwise bending-mode DOF of blade 3 (internal DOF index = DOF_BF(3,1)), m",8.5470085470085479E-3,1.580403784520995E-5,-89.476006833249798,7.4455094200016523E-7,162.91647520010341,4.3929493735987284E-4,78.418389378677972,6.4150966329320604E-3,0,6.2834104184041522E-3,0,5.0774307109706439E-5,77.499340767110382,2.3854143269188173E-3,88.217430230132365,2.3346541448827644E-4,72.116112446950083,3.422361373700596E-4,153.05974701202359,1.5369824547016985E-3,-91.146089437895782,1.296291694509095E-4,-178.04986555079239,3.5652029223103128E-5,179.72688503311889,1.0828957193577265E-3,-91.073176216892293,2.2202277373086797E-4,-81.459843914595893,2.9367575051860557E-4,83.004550197020421,2.8408958581301313E-4,87.970892380517327,6.3786008491671554E-6,123.91627681764891,2.6572266772487E-4,-93.567797267865885,1.9652145972972411E-4,-4.356845779856477,2.0197154459975018E-4,-91.881175886540817,"","","","","","","","","","","","","","","","","","","","",6.4150966329320604E-3,11,{"$f":"INDIRECT(SUBSTITUTE(ADDRESS(1,$BN24,4),\"1\",\"7\"))","v":3.6054406586347253E-2}]
[null,15,"ED 1st edgewise bending-mode DOF of blade 1 (internal DOF index = DOF_BE(1,1)), m",8.5470085470085479E-3,4.7575673314219076E-7,172.7369719783724,1.5362487912176926E-7,-17.799813529541652,2.4359704888631688E-5,-91.716010242683538,2.3890932825390644E-4,-160.75964183283111,2.7918986388819096E-4,-42.143155538552513,2.6268302111358582E-6,3.7905021620297572,1.6100968159820087E-5,-67.289758993739795,7.3321469306155134E-4,122.0704101581458,3.1617268984998224E-4,-39.627125767473132,1.3854148284096155E-4,-68.215353963857481,3.3902652386725055E-4,-175.97161651390769,1.8137047617041028E-3,-91.521059376544073,3.4341148497395304E-5,100.2629987029452,5.7251856017068994E-5,-90.008308245365541,1.8426388392702217E-7,-165.88481311615831,4.5680748256817043E-7,152.45766439846349,2.3348590602081568E-7,14.46252621010227,4.7839376120249143E-5,20.219664838664389,6.4229557785068485E-7,137.24393065710279,4.4653297625415425E-6,-99.889808156628249,"","","","","","","","","","","","","","","","","","","","",1.8137047617041028E-3,27,{"$f":"INDIRECT(SUBSTITUTE(ADDRESS(1,$BN25,4),\"1\",\"7\"))","v":0.69968034938871071}]
[null,16,"ED 1st edgewise bending-mode DOF of blade 2 (internal DOF index = DOF_BE(2,1)), m",8.5470085470085479E-3,2.0438023352060146E-7,167.37523368057731,4.4013314266107853E-6,-0.45373150792217343,4.7599306106166486E-4,-23.89891684559246,1.1227633221588191E-3,175.23002462788361,1.1484001028792934E-3,-14.029520727781749,8.5539276633289059E-6,72.695461761900418,2.2379387506393873E-4,71.248233966954288,2.1080429175356933E-3,89.057903866769337,1.9254468092907079E-3,-179.9110632534674,1.0063586577690369E-3,117.2691505409398,6.8710599316107969E-5,12.98789916039706,3.2267815660894967E-5,81.813086132876904,1.6704646042476899E-4,89.624645988529281,1.0188723011500967E-3,-91.234526626426828,1.3461897715360121E-7,-107.4664050409375,1.4679241579339576E-6,16.137070869801679,3.4059690764441553E-8,43.627118148956853,3.2330140562275736E-6,22.929092493579841,4.5936758346247219E-7,55.942125944673727,1.8948590311261446E-6,78.708126573782849,"","","","","","","","","","","","","","","","","","","","",2.1080429175356933E-3,19,{"$f":"INDIRECT(SUBSTITUTE(ADDRESS(1,$BN26,4),\"1\",\"7\"))","v":0.42314648558624129}]
[null,17,"ED 1st edgewise bending-mode DOF of blade 3 (internal DOF index = DOF_BE(3,1)), m",8.5470085470085479E-3,1.0540109273611394E-6,-120.0003811717349,5.4166763941435469E-8,-38.845894774190768,5.6192903573864703E-5,155.89899148348809,4.0749853697997606E-4,-27.916890706145409,4.3750595888395448E-4,-19.82249169711579,1.2878799293750823E-4,178.82978531952139,2.0979495339615249E-4,157.88781832271499,1.9318574347774343E-3,174.38943198812271,2.0539413637036524E-3,-91.750105022596799,9.6528624512585135E-4,-149.40494097179791,3.5457737947667752E-5,-88.267899184838342,1.9602970085127823E-4,2.8035601565524719,1.6629122144690882E-4,0.92196612706970427,9.9453993357527786E-4,178.74450019343129,4.6339526621500826E-7,-116.030562283968,2.6528299144573911E-6,-7.2071798007045649,4.683465341183366E-8,36.259623902513233,1.2987498922089214E-6,-152.4262580730078,3.6581364967300703E-7,43.269586539692902,1.943061321451872E-6,-95.002588597940118,"","","","","","","","","","","","","","","","","","","","",2.0539413637036524E-3,21,{"$f":"INDIRECT(SUBSTITUTE(ADDRESS(1,$BN27,4),\"1\",\"7\"))","v":0.44232833027582319}]
[null,18,"ED 2nd flapwise bending-mode DOF of blade 1 (internal DOF index = DOF_BF(1,2)), m",8.5470085470085479E-3,3.2933809852100799E-6,-5.3447287769901717,3.6984730184053694E-7,83.223725138508428,7.4337492187420042E-5,-169.71275486665891,6.4084552321292179E-4,92.40223174044803,1.00266895318263E-3,86.449849182656749,1.7886520509750181E-5,-178.47244610168971,4.7164741530414442E-5,-171.32458028263099,5.3293294943211652E-5,-148.55363621274,7.6865603551381077E-5,56.165138638532383,1.7890847916263592E-4,165.6690026297909,1.542904287391649E-4,-101.14194597523669,8.3210628832501354E-5,-81.326353407527634,1.263169118154218E-5,16.803640349004951,1.1580381947100616E-5,-131.663878899727,1.2644903142807575E-6,-112.6454456811778,1.1185762920166668E-5,-91.398685683885773,3.9024675894463551E-4,-97.254767438696547,5.6060802761031621E-5,-100.3390450562314,2.7948437204778745E-6,-78.961409140108842,1.5323973777618634E-6,93.090386150569785,"","","","","","","","","","","","","","","","","","","","",1.00266895318263E-3,13,{"$f":"INDIRECT(SUBSTITUTE(ADDRESS(1,$BN28,4),\"1\",\"7\"))","v":3.6238238953591052E-2}]
[null,19,"ED 2nd flapwise bending-mode DOF of blade 2 (internal DOF index = DOF_BF(2,2)), m",8.5470085470085479E-3,1.0760690939714934E-6,-21.31971492046074,2.1304485197918914E-6,-106.55212601026059,2.8544232134391713E-3,179.54128573417,3.2471703683236352E-4,62.692857369527879,4.9973472773014799E-5,-94.720244689817108,2.6619517556371815E-6,9.3321836441956485,3.238316317488459E-4,175.87300546410461,4.6497712457619158E-5,97.85186996923629,8.7715051456802221E-5,-174.97065659750109,1.3257897441814164E-4,144.23445504093351,6.5373343952413682E-5,86.298359903929423,5.736884950756535E-5,-45.256447089330727,9.0697491490349059E-5,170.46831471121979,5.2809899910491505E-5,-88.685928614239373,3.0686707788816261E-4,176.87963773264659,2.4743459331209243E-4,-96.49458339917102,1.3899189856289336E-6,-66.698131148997319,2.3155598136368328E-4,-91.203901600342476,2.8659728288859182E-4,-95.970027440375631,1.1467447141304608E-5,-155.9644061623008,"","","","","","","","","","","","","","","","","","","","",2.8544232134391713E-3,9,{"$f":"INDIRECT(SUBSTITUTE(ADDRESS(1,$BN29,4),\"1\",\"7\"))","v":1.190350511136487E-2}]
[null,20,"ED 2nd flapwise bending-mode DOF of blade 3 (internal DOF index = DOF_BF(3,2)), m",8.5470085470085479E-3,5.778189957533374E-6,89.891639609921057,2.7498392322461909E-7,-14.992563841221751,1.4583723957398181E-4,-110.4032181507411,2.3413765351181183E-3,179.66541179926679,2.2916011371141663E-3,179.41964795351331,2.0687749423256966E-5,-60.889032972207431,3.4174584997182585E-4,-93.997778814005855,6.4411648983858926E-5,-171.15592528586879,7.8695463221567418E-5,-78.672364613757793,1.1780525257731394E-4,-132.45747612626181,3.8225125995869283E-5,162.9435650611116,7.62651743297121E-5,61.092720294199118,1.4950840943494566E-4,84.231313271189407,3.2816732668568866E-5,177.0905155122768,3.1294129408735832E-4,-96.884455660822113,3.0239027696315828E-4,-91.997262262858172,6.776748095690538E-6,-56.431096825536613,2.7812742142792752E-4,88.998980808524536,2.096103755383667E-4,175.7649110084119,1.9615204065202138E-4,88.886583864023876,"","","","","","","","","","","","","","","","","","","","",2.3413765351181183E-3,11,{"$f":"INDIRECT(SUBSTITUTE(ADDRESS(1,$BN30,4),\"1\",\"7\"))","v":3.6054406586347253E-2}]
[null,21,null,{"$f":"1","v":1},"","","","","","","","","","","","","","","","","","","","","","","","","","","","","","","","","","","","","","","","","","","","","","","","","","","","","","","","","","","","",0,{"$error":"#N/A"},{"$f":"INDIRECT(SUBSTITUTE(ADDRESS(1,$BN31,4),\"1\",\"7\"))","v":{"$error":"#N/A"}}]
[null,22,null,{"$f":"1","v":1},"","","","","","","","","","","","","","","","","","","","","","","","","","","","","","","","","","","","","","","","","","","","","","","","","","","","","","","","","","","","",0,{"$error":"#N/A"},{"$f":"INDIRECT(SUBSTITUTE(ADDRESS(1,$BN32,4),\"1\",\"7\"))","v":{"$error":"#N/A"}}]
[null,23,null,{"$f":"1","v":1},"","","","","","","","","","","","","","","","","","","","","","","","","","","","","","","","","","","","","","","","","","","","","","","","","","","","","","","","","","","","",0,{"$error":"#N/A"},{"$f":"INDIRECT(SUBSTITUTE(ADDRESS(1,$BN33,4),\"1\",\"7\"))","v":{"$error":"#N/A"}}]
[null,24,null,{"$f":"1","v":1},"","","","","","","","","","","","","","","","","","","","","","","","","","","","","","","","","","","","","","","","","","","","","","","","","","","","","","","","","","","","",0,{"$error":"#N/A"},{"$f":"INDIRECT(SUBSTITUTE(ADDRESS(1,$BN34,4),\"1\",\"7\"))","v":{"$error":"#N/A"}}]
[null,25,null,{"$f":"1","v":1},"","","","","","","","","","","","","","","","","","","","","","","","","","","","","","","","","","","","","","","","","","","","","","","","","","","","","","","","","","","","",0,{"$error":"#N/A"},{"$f":"INDIRECT(SUBSTITUTE(ADDRESS(1,$BN35,4),\"1\",\"7\"))","v":{"$error":"#N/A"}}]
[null,26,null,{"$f":"1","v":1},"","","","","","","","","","","","","","","","","","","","","","","","","","","","","","","","","","","","","","","","","","","","","","","","","","","","","","","","","","","","",0,{"$error":"#N/A"},{"$f":"INDIRECT(SUBSTITUTE(ADDRESS(1,$BN36,4),\"1\",\"7\"))","v":{"$error":"#N/A"}}]
[null,27,null,{"$f":"1","v":1},"","","","","","","","","","","","","","","","","","","","","","","","","","","","","","","","","","","","","","","","","","","","","","","","","","","","","","","","","","","","",0,{"$error":"#N/A"},{"$f":"INDIRECT(SUBSTITUTE(ADDRESS(1,$BN37,4),\"1\",\"7\"))","v":{"$error":"#N/A"}}]
[null,28,null,{"$f":"1","v":1},"","","","","","","","","","","","","","","","","","","","","","","","","","","","","","","","","","","","","","","","","","","","","","","","","","","","","","","","","","","","",0,{"$error":"#N/A"},{"$f":"INDIRECT(SUBSTITUTE(ADDRESS(1,$BN38,4),\"1\",\"7\"))","v":{"$error":"#N/A"}}]
[null,29,null,{"$f":"1","v":1},"","","","","","","","","","","","","","","","","","","","","","","","","","","","","","","","","","","","","","","","","","","","","","","","","","","","","","","","","","","","",0,{"$error":"#N/A"},{"$f":"INDIRECT(SUBSTITUTE(ADDRESS(1,$BN39,4),\"1\",\"7\"))","v":{"$error":"#N/A"}}]
[null,30,null,{"$f":"1","v":1},"","","","","","","","","","","","","","","","","","","","","","","","","","","","","","","","","","","","","","","","","","","","","","","","","","","","","","","","","","","","",0,{"$error":"#N/A"},{"$f":"INDIRECT(SUBSTITUTE(ADDRESS(1,$BN40,4),\"1\",\"7\"))","v":{"$error":"#N/A"}}]
[null,null,null,null,{"$f":"MAX(E11:E40)","v":0.99879987860652664},null,{"$f":"MAX(G11:G40)","v":0.99879001513278398},null,{"$f":"MAX(I11:I40)","v":0.1824839922704391},null,{"$f":"MAX(K11:K40)","v":0.26709135004153489},null,{"$f":"MAX(M11:M40)","v":0.26498139997769088},null,{"$f":"MAX(O11:O40)","v":0.95287568939589518},null,{"$f":"MAX(Q11:Q40)","v":2.3854143269188173E-3},null,{"$f":"MAX(S11:S40)","v":2.962601188740296E-3},null,{"$f":"MAX(U11:U40)","v":2.0539413637036524E-3},null,{"$f":"MAX(W11:W40)","v":2.0124667869658689E-3},null,{"$f":"MAX(Y11:Y40)","v":1.9991042902129516E-3},null,{"$f":"MAX(AA11:AA40)","v":1.8137047617041028E-3},null,{"$f":"MAX(AC11:AC40)","v":1.0828957193577265E-3},null,{"$f":"MAX(AE11:AE40)","v":1.0188723011500967E-3},null,{"$f":"MAX(AG11:AG40)","v":3.1294129408735832E-4},null,{"$f":"MAX(AI11:AI40)","v":3.0239027696315828E-4},null,{"$f":"MAX(AK11:AK40)","v":3.9024675894463551E-4},null,{"$f":"MAX(AM11:AM40)","v":2.7812742142792752E-4},null,{"$f":"MAX(AO11:AO40)","v":2.8659728288859182E-4},null,{"$f":"MAX(AQ11:AQ40)","v":2.0197154459975018E-4},null,{"$f":"MAX(AS11:AS40)","v":0},null,{"$f":"MAX(AU11:AU40)","v":0},null,{"$f":"MAX(AW11:AW40)","v":0},null,{"$f":"MAX(AY11:AY40)","v":0},null,{"$f":"MAX(BA11:BA40)","v":0},null,{"$f":"MAX(BC11:BC40)","v":0},null,{"$f":"MAX(BE11:BE40)","v":0},null,{"$f":"MAX(BG11:BG40)","v":0},null,{"$f":"MAX(BI11:BI40)","v":0},null,{"$f":"MAX(BK11:BK40)","v":0}]
[null,null,"Green Background = Maximum value of the mode shape magnitude within a row"]
[null,null,"Red Bold Text = Maximum value of the mode shape magnitude within a column"]
[]
[]
[]
[null,null,null,null,{"$f":"D48","v":56},{"$f":"D49","v":55},{"$f":"D50","v":54},{"$f":"D51","v":52},{"$f":"D52","v":53},{"$f":"D53","v":51},{"$f":"D54","v":50},{"$f":"D55","v":49},{"$f":"D56","v":48},{"$f":"D57","v":47},{"$f":"D58","v":46},{"$f":"D59","v":45},{"$f":"D60","v":44},{"$f":"D61","v":43},{"$f":"D62","v":42},{"$f":"D63","v":41},{"$f":"D64","v":40},{"$f":"D65","v":39},{"$f":"D66","v":37},{"$f":"D67","v":38},{"$f":"D68","v":57},{"$f":"D69","v":58},{"$f":"D70","v":59},{"$f":"D71","v":60},{"$f":"D72","v":61},{"$f":"D73","v":62},{"$f":"D74","v":63},{"$f":"D75","v":64},{"$f":"D76","v":65},{"$f":"D77","v":66},{"$f":"E47","v":56},55,54,52,53,51,50,49,48,47,46,45,44,43,42,41,40,39,37,38,57,58,59,60,61,62,63,64,65,66,null,null,{"$f":"CT77+1","v":36},{"$f":"BO47+1","v":37},38,39,40,41,42,43,44,45,46,47,48,49,50,51,52,53,54,55,56,57,58,59,60,61,62,63,64,65,66]
[null,null,null,{"$f":"CS48","v":56},6.8407554331542999E-8,7.650848465950601E-7,5.9337005601064182E-7,5.111158834228553E-6,6.6113926146773447E-8,1.1076038550641271E-6,2.0996654886247831E-5,7.6362106808410489E-5,6.0404845438353453E-5,1.8957947489201831E-4,2.0124667869658689E-3,8.0273660486642297E-4,4.6132812804589339E-4,9.4650739124623633E-4,1.7672955976378859E-3,0.26498139997769088,0.25904831062751671,4.0436685712407813E-2,0.99879987860652664,3.0395300755773698E-3,null,null,null,null,null,null,null,null,null,null,165.5429984151578,-139.8745232722959,-72.51039887665334,169.67983252712909,159.44072059991549,42.093819501221432,-155.37190173024399,5.345623820718842,-22.245239815528741,86.035763398275193,165.9648724660897,76.051553634275294,-60.280940055556613,-172.73876058511121,2.9220441080841528,-91.631168326274249,-90.718309613751558,-34.247583920070873,0,-152.1602773029725,null,null,null,null,null,null,null,null,null,null,3.2826814473983008E-2,4.8177543353580239,4.8203522406032828,{"$f":"IF(MIN(BO$48:BO$77)=$BP$47,BO48,IF(BO48=MIN(BO$48:BO$77),BP$47,IF(BO48=\"\",$CT48,BO48)))","v":4.8203522406032828},4.8203522406032828,4.8203522406032828,4.8203522406032828,4.8203522406032828,4.8203522406032828,4.8203522406032828,4.8203522406032828,4.8203522406032828,4.8203522406032828,4.8203522406032828,4.8203522406032828,4.8203522406032828,4.8203522406032828,4.8203522406032828,4.8203522406032828,4.8203522406032828,4.8203522406032828,4.8203522406032828,56,56,56,56,56,56,56,56,56,56,56,{"$f":"CEILING(MAX(BO48:BO77),1)+1","v":6}]
[null,null,null,55,1.2561476197929461E-7,2.0419690317712211E-7,1.9875640007194599E-5,2.4582299175740591E-7,8.6745325742187554E-8,1.992896407226515E-7,3.4572818611645213E-5,2.359894863426236E-5,6.4636092734072094E-4,1.735304191100809E-4,2.9788404878766688E-4,1.0054592782724771E-3,2.962601188740296E-3,1.3851067718442369E-4,1.418708693463641E-5,0.25158854728537022,0.26709135004153489,7.2858073770737081E-2,5.2583949059000238E-3,0.99879001513278398,null,null,null,null,null,null,null,null,null,null,79.450589916252412,-72.629653087734098,-161.3714166369804,-41.39391780417526,146.106974653767,-51.760077316178197,-89.491079100946834,102.0783809869211,-93.595951836371924,-153.0471601197257,93.004296787239099,137.72442114799841,-57.67847202814945,90.072775694095171,27.429364728135489,-16.23118423706352,171.8457840002342,-136.02951161485279,-91.835446513586859,180,null,null,null,null,null,null,null,null,null,null,0.1040081948436289,2.7650442376140858,2.7801223976829981,{"$f":"IF(MIN(BO$48:BO$77)=$BP$47,BO49,IF(BO49=MIN(BO$48:BO$77),BP$47,IF(BO49=\"\",$CT49,BO49)))","v":2.7801223976829981},2.7801223976829981,2.7801223976829981,2.7801223976829981,2.7801223976829981,2.7801223976829981,2.7801223976829981,2.7801223976829981,2.7801223976829981,2.7801223976829981,2.7801223976829981,2.7801223976829981,2.7801223976829981,2.7801223976829981,2.7801223976829981,2.7801223976829981,2.7801223976829981,2.7801223976829981,55,55,55,55,55,55,55,55,55,55,55,55,{"$f":"CT48+1","v":7}]
[null,null,null,54,2.2819117442570941E-8,1.814386023586604E-7,1.6196556602396589E-7,1.096956318083762E-6,2.527381035911113E-8,2.132282661556923E-7,2.2132497348825088E-5,5.4098295531847949E-6,3.758377467709612E-6,2.0815980899365269E-5,3.5545370804823288E-5,6.9296763757042211E-5,5.5124513347326083E-5,2.7153290572745321E-5,0.95287568939589518,9.7684608762161531E-3,9.2968004335669957E-3,1.4565774087737791E-3,1.362196584872413E-4,9.5032877086447251E-7,null,null,null,null,null,null,null,null,null,null,-8.1247501774842625,47.422550669130217,93.988823640019874,-9.0209834057302665,49.462202444689119,-128.22235756742791,-2.0170020478505628,-153.81588766818811,-81.488243944835361,91.790843464425521,151.34526624416549,86.094109486106746,-17.856607136442982,-175.16919128885581,180,-96.67180564530679,-95.839825203060812,-101.7095396265006,1.2535715788270121,-116.20990463452149,null,null,null,null,null,null,null,null,null,null,1.7470191972240319E-2,2.6739984436644022,2.6744065994297501,{"$f":"IF(MIN(BO$48:BO$77)=$BP$47,BO50,IF(BO50=MIN(BO$48:BO$77),BP$47,IF(BO50=\"\",$CT50,BO50)))","v":2.6744065994297501},2.6744065994297501,2.6744065994297501,2.6744065994297501,2.6744065994297501,2.6744065994297501,2.6744065994297501,2.6744065994297501,2.6744065994297501,2.6744065994297501,2.6744065994297501,2.6744065994297501,2.6744065994297501,2.6744065994297501,2.6744065994297501,2.6744065994297501,2.6744065994297501,54,54,54,54,54,54,54,54,54,54,54,54,54,8]
[null,null,null,52,4.7064666546578622E-9,8.4182604637822774E-9,8.2549701839651514E-7,1.034816556851758E-8,3.6346134394596051E-9,8.5394171014898997E-9,1.812770364431791E-6,1.2061320491402499E-6,3.3216659495056379E-5,9.0576716007599851E-6,1.7398187603281649E-5,5.9881675966365589E-5,1.7633886741007471E-4,8.84204919104562E-6,2.982482946232148E-6,4.3561717578827278E-2,4.5844483696099732E-2,5.4521833229353453E-3,7.940897519818596E-6,5.3798449756407797E-4,null,null,null,null,null,null,null,null,null,null,-101.0396453276072,106.4950943122527,18.590910028312958,138.53195608512399,-34.967819181327947,127.1223623909985,90.240906118489647,-77.601304263916319,86.250507786670369,26.78388592248491,-86.850656348495193,-42.092779357466917,122.40798959880971,-89.852718944269483,-138.98213175629459,164.03721578230329,-7.7154385102152121,85.768878615569903,-48.086898893953602,178.72071052019919,null,null,null,null,null,null,null,null,null,null,3.4851743243324358E-2,2.5281623806164082,2.5296991894071881,{"$f":"IF(MIN(BO$48:BO$77)=$BP$47,BO51,IF(BO51=MIN(BO$48:BO$77),BP$47,IF(BO51=\"\",$CT51,BO51)))","v":2.5296991894071881},2.5296991894071881,2.5296991894071881,2.5296991894071881,2.5296991894071881,2.5296991894071881,2.5296991894071881,2.5296991894071881,2.5296991894071881,2.5296991894071881,2.5296991894071881,2.5296991894071881,2.5296991894071881,2.5296991894071881,2.5296991894071881,52,52,52,52,52,52,52,52,52,52,52,52,52,52,52,9]
[null,null,null,53,2.6256636357217862E-9,3.173001235682966E-8,2.4761091173810279E-8,2.151938176039992E-7,2.7824468927424359E-9,4.7482519428791753E-8,1.061291698237805E-6,3.79173181616955E-6,3.312291036958096E-6,1.068375381903722E-5,1.142051262326209E-4,4.686503883309789E-5,2.7443584817288981E-5,6.0115526988938317E-5,2.8227700145374852E-4,4.5673614362813572E-2,4.4537372198827023E-2,2.540593332538376E-3,5.5005189086844333E-4,4.3166007410272774E-6,null,null,null,null,null,null,null,null,null,null,165.29219633459269,-140.6810825009812,-72.543049441138706,169.47937905698799,157.61935969542071,41.142211463806063,-156.3818767253351,5.3475186992610579,-23.25552073485817,86.055124599630261,165.80534025268591,75.569734210286185,-60.627240298540258,-173.33448558923899,3.153096670796145,-91.853403937592375,-90.625892367416441,2.6650641537772328,178.65006845162341,140.5523599792327,null,null,null,null,null,null,null,null,null,null,0.12628151095284151,2.5105008756740941,2.5307610208398659,{"$f":"IF(MIN(BO$48:BO$77)=$BP$47,BO52,IF(BO52=MIN(BO$48:BO$77),BP$47,IF(BO52=\"\",$CT52,BO52)))","v":2.5307610208398659},2.5307610208398659,2.5307610208398659,2.5307610208398659,2.5307610208398659,2.5307610208398659,2.5307610208398659,2.5307610208398659,2.5307610208398659,2.5307610208398659,2.5307610208398659,2.5307610208398659,2.5307610208398659,2.5307610208398659,2.5307610208398659,2.5307610208398659,53,53,53,53,53,53,53,53,53,53,53,53,53,53,10]
[null,null,null,51,1.141820733068645E-8,2.1339951908818049E-9,2.412156811159499E-8,2.2430612690127529E-9,7.4357005128912414E-11,4.2925760173392918E-9,1.007102444129958E-7,7.2258472486573569E-7,1.169417029948811E-6,4.8036815292347108E-7,3.7719863537729709E-6,5.8411136187920778E-7,1.31654533720567E-6,8.462119732075113E-6,1.173782450433825E-5,9.1329865285134666E-4,4.4293095989987796E-3,0.1824839922704391,8.3514622863636862E-5,1.5873920224546021E-4,null,null,null,null,null,null,null,null,null,null,-102.6705552785731,-175.21082991279249,-167.2522798730877,-64.009124369486116,-139.09990644631489,-86.161881465438029,-6.3481432010934,93.932290360110272,88.206650379528014,20.350560039609562,87.938947133183476,64.905221829076282,73.505669902533228,-90.236234445430867,-120.8012285904714,-142.69959087235571,-174.87850571214281,75.569959165720817,-106.6928009267229,148.08717142279801,null,null,null,null,null,null,null,null,null,null,0.1198674994503976,2.2414582270789629,2.2577367381075009,{"$f":"IF(MIN(BO$48:BO$77)=$BP$47,BO53,IF(BO53=MIN(BO$48:BO$77),BP$47,IF(BO53=\"\",$CT53,BO53)))","v":2.2577367381075009},2.2577367381075009,2.2577367381075009,2.2577367381075009,2.2577367381075009,2.2577367381075009,2.2577367381075009,2.2577367381075009,2.2577367381075009,2.2577367381075009,2.2577367381075009,2.2577367381075009,2.2577367381075009,2.2577367381075009,51,51,51,51,51,51,51,51,51,51,51,51,51,51,51,51,11]
[null,null,null,50,4.6404370522495052E-7,2.086551387207803E-6,1.7375159641793641E-6,1.97151408975845E-5,3.8609901810764632E-6,6.6838383843943902E-6,4.3081188023901581E-4,1.275991110238707E-3,1.8887679145568341E-3,5.8332018308492363E-3,3.3533721951414817E-2,1.322443191406775E-2,7.963285203926064E-3,1.556399422392195E-2,2.756092139002023E-4,0.2156551981820081,0.2128534020766415,3.0312197606656311E-2,8.6720161613275512E-4,2.474956728028466E-5,null,null,null,null,null,null,null,null,null,null,146.1190987348684,3.7842457696623928,155.15595300333749,-17.097669224119532,-92.938245831818222,-155.36967089930991,19.24052895544062,-174.2030915952933,150.08109825008091,-91.63283609422507,-14.097857251142949,-103.56337733918291,119.4553620118752,7.3354801430801118,158.5838441368092,-90.328088751790958,-89.701841963393676,0.1139770039007082,174.75959630481739,105.8246530671409,null,null,null,null,null,null,null,null,null,null,2.1544887194368471E-2,0.91710348991820212,0.91731641558967547,{"$f":"IF(MIN(BO$48:BO$77)=$BP$47,BO54,IF(BO54=MIN(BO$48:BO$77),BP$47,IF(BO54=\"\",$CT54,BO54)))","v":0.91731641558967547},0.91731641558967547,0.91731641558967547,0.91731641558967547,0.91731641558967547,0.91731641558967547,0.91731641558967547,0.91731641558967547,0.91731641558967547,0.91731641558967547,0.91731641558967547,0.91731641558967547,0.91731641558967547,50,50,50,50,50,50,50,50,50,50,50,50,50,50,50,50,50,12]
[null,null,null,49,5.9655126150014599E-5,3.8769116797853916E-6,8.0888774900378661E-5,3.759673123117662E-6,2.908362165697086E-7,6.1518709741360304E-6,1.39462159027145E-3,6.8415123194102349E-4,1.052117546618471E-2,2.8120155593671331E-3,5.9219744577189808E-3,1.8132071350875779E-2,4.8443735049661638E-2,2.1940200134905638E-3,1.6706300248141361E-5,0.20536374078478581,0.2198125581249521,3.51017646294969E-2,2.9039055841530521E-5,8.279724248897375E-4,null,null,null,null,null,null,null,null,null,null,-100.3824242673944,-164.39459857915409,-165.77560674684531,-50.283511857497579,130.2969840192643,-70.924318799355376,-90.400423615956072,106.0524726112335,-94.016595148802878,-152.40941945805801,92.325092084366801,141.2938523710622,-56.59892814193519,89.968890379309258,11.669667682001309,165.36971473971329,-6.8444200479333928,86.022173255903013,-67.697470867071232,175.3902547998081,null,null,null,null,null,null,null,null,null,null,1.872936325672642E-2,0.85854583845222809,0.85869646231995767,{"$f":"IF(MIN(BO$48:BO$77)=$BP$47,BO55,IF(BO55=MIN(BO$48:BO$77),BP$47,IF(BO55=\"\",$CT55,BO55)))","v":0.85869646231995767},0.85869646231995767,0.85869646231995767,0.85869646231995767,0.85869646231995767,0.85869646231995767,0.85869646231995767,0.85869646231995767,0.85869646231995767,0.85869646231995767,0.85869646231995767,0.85869646231995767,49,49,49,49,49,49,49,49,49,49,49,49,49,49,49,49,49,49,13]
[null,null,null,48,8.1315836107347253E-7,6.0794317698099949E-6,4.6776653123239533E-6,3.6444723086917693E-5,4.7661920533212301E-7,6.9440581424656497E-6,2.3141187525822799E-5,7.4755985011163467E-5,1.056372540895315E-5,3.467729400542135E-7,6.3747506836366779E-5,3.6154384225115591E-5,3.7067397576353447E-5,1.5726776462324999E-4,5.3966516945512877E-5,4.7016025692173748E-4,3.9872959204342108E-4,4.3539679914710863E-4,2.1895721268782331E-6,3.199940373173649E-7,null,null,null,null,null,null,null,null,null,null,-15.102613340581041,45.725377525376523,93.301886003933816,-8.6913503777475345,1.41458209093941,-129.92894251034559,29.714088496940398,-172.7127414695218,-176.38763244422469,-121.29296402788719,8.3464137666545017,51.79653267520375,-66.055515683807684,-176.79493533926251,0.66076990536680291,-91.868381279420248,-91.327643350982157,179.98916985046449,174.46084770661241,-103.3592043113168,null,null,null,null,null,null,null,null,null,null,2.6544376038421889E-2,0.69943380720120063,0.69968034938871071,{"$f":"IF(MIN(BO$48:BO$77)=$BP$47,BO56,IF(BO56=MIN(BO$48:BO$77),BP$47,IF(BO56=\"\",$CT56,BO56)))","v":0.69968034938871071},0.69968034938871071,0.69968034938871071,0.69968034938871071,0.69968034938871071,0.69968034938871071,0.69968034938871071,0.69968034938871071,0.69968034938871071,0.69968034938871071,0.69968034938871071,48,48,48,48,48,48,48,48,48,48,48,48,48,48,48,48,48,48,48,14]
[null,null,null,47,3.5276067717357371E-6,1.627670121437273E-6,1.4908892147007959E-4,1.9102510308858281E-6,6.1880974564635665E-7,1.1095372306739281E-6,1.7163977632033889E-5,1.525425708864925E-5,3.4862021584887291E-4,7.1257612213151131E-5,1.9305273458040872E-5,8.5415787549261897E-5,2.1493337375539509E-4,2.0729031110758539E-5,3.0103033783417631E-7,4.4115743572472948E-4,3.8841930224030861E-4,6.3911375679913222E-5,6.0503324515655745E-8,2.2382563999353418E-6,null,null,null,null,null,null,null,null,null,null,79.966432990005131,-61.690772009558472,-160.91072808008141,-35.009239613083963,153.26739964889421,-43.157478746093062,-81.998087491444565,102.8386916024197,-89.30226098794256,-148.3992347576945,-82.639061134872009,-35.450596780245668,123.68026227714959,-89.535411086739074,-78.323024107989113,165.99634818925711,-8.1244360784843721,84.902526975510625,52.844428838019098,175.42039303200309,null,null,null,null,null,null,null,null,null,null,2.6266689211406222E-2,0.64684653247798263,0.64706979032297862,{"$f":"IF(MIN(BO$48:BO$77)=$BP$47,BO57,IF(BO57=MIN(BO$48:BO$77),BP$47,IF(BO57=\"\",$CT57,BO57)))","v":0.64706979032297862},0.64706979032297862,0.64706979032297862,0.64706979032297862,0.64706979032297862,0.64706979032297862,0.64706979032297862,0.64706979032297862,0.64706979032297862,0.64706979032297862,47,47,47,47,47,47,47,47,47,47,47,47,47,47,47,47,47,47,47,47,15]
[null,null,null,46,9.9666800839776104E-6,6.1996343977858319E-7,3.8537024846572664E-6,5.2458152248608184E-7,1.8324926189622639E-8,8.0511972413529626E-7,3.1751246154892E-6,1.950995682807836E-5,2.8651932404218519E-5,9.1595744133555308E-6,3.0949015856615782E-5,5.670340897188487E-6,2.094182440150027E-5,4.3258822661303572E-5,8.4752517603534128E-7,3.2103933532539717E-5,2.4128454529077001E-4,2.8983151280604749E-5,2.9120864635587738E-7,5.059683244526114E-7,null,null,null,null,null,null,null,null,null,null,79.568370219879299,12.91212143523663,9.7322608853536607,120.0774405805102,88.791341498415321,105.7611888075149,-172.03164963197031,-84.612463162773423,-89.830831166680625,-156.6133191616359,-91.871607502519197,-175.0497129808569,-74.803233961222659,92.483932596033199,93.417219236252379,105.3681495122006,-3.6020631448115128,91.711527862592007,-88.11386030365243,175.3438863903144,null,null,null,null,null,null,null,null,null,null,2.000170030003021E-2,0.48280419092265081,0.48290079716754081,{"$f":"IF(MIN(BO$48:BO$77)=$BP$47,BO58,IF(BO58=MIN(BO$48:BO$77),BP$47,IF(BO58=\"\",$CT58,BO58)))","v":0.48290079716754081},0.48290079716754081,0.48290079716754081,0.48290079716754081,0.48290079716754081,0.48290079716754081,0.48290079716754081,0.48290079716754081,0.48290079716754081,46,46,46,46,46,46,46,46,46,46,46,46,46,46,46,46,46,46,46,46,46,16]
[null,null,null,45,1.0144758066168331E-4,3.0621183206461239E-4,5.8431479025278761E-3,1.2332280549627441E-3,4.3050806477693819E-2,1.393967296527043E-4,1.3528704073625789E-3,2.3390620792985879E-3,5.6298521102744109E-2,0.23389520195491531,7.9366896772284937E-2,2.81303484737087E-2,1.872383975763009E-2,1.609164001013447E-2,5.0564172819294456E-3,0.27453665425916551,0.18973353373552909,1.909501208845207E-2,9.2828260296357013E-4,8.5371963738556183E-5,null,null,null,null,null,null,null,null,null,null,-76.654678395921692,99.081515855754191,86.111003480279933,87.138494828141376,82.756392199476196,64.479294007019263,110.70245702789759,-5.7452984157481977,3.5836189376082181,88.494856456363465,-12.90555256963796,-124.9172812960341,9.9215839259203058,10.3007880123291,1.5276473277628211,-93.726362231748752,-87.096554093486773,10.508128008395881,174.67735577360841,-99.422304723972644,null,null,null,null,null,null,null,null,null,null,3.0540345344950301E-2,0.4421219995285372,0.44232833027582319,{"$f":"IF(MIN(BO$48:BO$77)=$BP$47,BO59,IF(BO59=MIN(BO$48:BO$77),BP$47,IF(BO59=\"\",$CT59,BO59)))","v":0.44232833027582319},0.44232833027582319,0.44232833027582319,0.44232833027582319,0.44232833027582319,0.44232833027582319,0.44232833027582319,0.44232833027582319,45,45,45,45,45,45,45,45,45,45,45,45,45,45,45,45,45,45,45,45,45,45,17]
[null,null,null,44,1.2777167710122819E-3,3.1809471558837191E-2,2.570697271322191E-2,2.7288506627039459E-2,1.597651430220576E-4,3.3680845351989362E-2,2.6342353129899989E-2,0.1263098485472407,1.02198202139109E-2,2.792556637587919E-3,0.17444147520415379,3.9824745612169997E-2,3.1853071346396797E-2,0.27360186303112738,5.4587643226714768E-4,3.4424453032701682E-2,0.11470966548400389,0.91320519054389571,3.4362266463147802E-4,6.6633382863511633E-4,null,null,null,null,null,null,null,null,null,null,21.796172428310388,83.758731456208167,88.930236229587891,80.308980959719051,104.2241455039776,-3.5152762032133449,12.39492293278467,-0.80062460620531517,10.536987787518109,92.582843652340145,179.04804521391449,64.625458830414757,-18.822604149128239,-1.9070016983821549,-158.21992012159569,165.783240898744,-91.849725393787651,0,160.80400082389349,86.56544337075141,null,null,null,null,null,null,null,null,null,null,1.6441938493390991E-2,0.42308928557218273,0.42314648558624129,{"$f":"IF(MIN(BO$48:BO$77)=$BP$47,BO60,IF(BO60=MIN(BO$48:BO$77),BP$47,IF(BO60=\"\",$CT60,BO60)))","v":0.42314648558624129},0.42314648558624129,0.42314648558624129,0.42314648558624129,0.42314648558624129,0.42314648558624129,0.42314648558624129,44,44,44,44,44,44,44,44,44,44,44,44,44,44,44,44,44,44,44,44,44,44,44,18]
[null,null,null,43,2.3630670718170769E-2,2.2993010788377719E-2,3.1089552123809788E-2,3.323848154012253E-2,7.4629629935255709E-4,3.4360062810676849E-2,2.597666452651155E-2,0.12669879916485399,4.1712874191030657E-3,1.5166612825756411E-2,0.1798269472000987,4.004162807229697E-2,2.7315453495128341E-2,0.27909347624950159,5.940593931835653E-3,0.73515901895328573,0.75056630605305097,5.1397507671105118E-2,1.8490724278895641E-3,8.7112460214019321E-5,null,null,null,null,null,null,null,null,null,null,-91.881175886540817,-4.356845779856477,-93.567797267865885,87.970892380517327,123.91627681764891,83.004550197020421,-81.459843914595893,-91.073176216892293,179.72688503311889,-178.04986555079239,-91.146089437895782,153.05974701202359,72.116112446950083,88.217430230132365,77.499340767110382,0,0,78.418389378677972,-89.476006833249798,162.91647520010341,null,null,null,null,null,null,null,null,null,null,3.1106692835838799E-2,0.36776241649306829,0.36794047402374069,{"$f":"IF(MIN(BO$48:BO$77)=$BP$47,BO61,IF(BO61=MIN(BO$48:BO$77),BP$47,IF(BO61=\"\",$CT61,BO61)))","v":0.36794047402374069},0.36794047402374069,0.36794047402374069,0.36794047402374069,0.36794047402374069,0.36794047402374069,43,43,43,43,43,43,43,43,43,43,43,43,43,43,43,43,43,43,43,43,43,43,43,43,19]
[null,null,null,42,5.2244358221736041E-4,7.5148582608530124E-5,5.5972070060691494E-3,5.3446475460475932E-5,2.7317851004435431E-5,2.1558874419461591E-5,6.6984671539970717E-3,4.0179143741952503E-3,0.21220345711937999,3.9666103292468308E-2,1.6209353492392501E-2,3.6992204712447921E-2,8.5786119088201496E-2,1.88381327469895E-3,3.0733913470289538E-4,3.266521407491834E-2,2.7952391405707051E-2,2.8500854719699072E-3,5.5663537777636312E-5,1.7974110857247001E-5,null,null,null,null,null,null,null,null,null,null,-99.889808156628249,137.24393065710279,20.219664838664389,152.45766439846349,14.46252621010227,-165.88481311615831,-90.008308245365541,100.2629987029452,-91.521059376544073,-175.97161651390769,-68.215353963857481,-39.627125767473132,122.0704101581458,-67.289758993739795,3.7905021620297572,-42.143155538552513,-160.75964183283111,-91.716010242683538,172.7369719783724,-17.799813529541652,null,null,null,null,null,null,null,null,null,null,5.6297752648182819E-3,5.0576460173386233E-2,5.0577261686948073E-2,{"$f":"IF(MIN(BO$48:BO$77)=$BP$47,BO62,IF(BO62=MIN(BO$48:BO$77),BP$47,IF(BO62=\"\",$CT62,BO62)))","v":5.0577261686948073E-2},5.0577261686948073E-2,5.0577261686948073E-2,5.0577261686948073E-2,5.0577261686948073E-2,42,42,42,42,42,42,42,42,42,42,42,42,42,42,42,42,42,42,42,42,42,42,42,42,42,20]
[null,null,null,41,2.2169850664175889E-4,5.374600726510924E-5,3.7826264457862607E-4,1.7174712647827301E-4,3.9849838194396616E-6,1.5750420326971339E-5,0.11920805923456131,1.9544435869697969E-2,3.7753344323247112E-3,8.0391401199846318E-3,0.11774396295897729,0.22527727668701281,0.24664102135167609,2.618388338248083E-2,1.000809536609482E-3,0.1343628120368773,0.13136330869258181,5.5691188144214782E-2,2.3912487321910368E-5,5.1495577691346183E-4,null,null,null,null,null,null,null,null,null,null,78.708126573782849,55.942125944673727,22.929092493579841,16.137070869801679,43.627118148956853,-107.4664050409375,-91.234526626426828,89.624645988529281,81.813086132876904,12.98789916039706,117.2691505409398,-179.9110632534674,89.057903866769337,71.248233966954288,72.695461761900418,-14.029520727781749,175.23002462788361,-23.89891684559246,167.37523368057731,-0.45373150792217343,null,null,null,null,null,null,null,null,null,null,2.2554025590004068E-2,3.6229020873723358E-2,3.6238238953591052E-2,{"$f":"IF(MIN(BO$48:BO$77)=$BP$47,BO63,IF(BO63=MIN(BO$48:BO$77),BP$47,IF(BO63=\"\",$CT63,BO63)))","v":3.6238238953591052E-2},3.6238238953591052E-2,3.6238238953591052E-2,3.6238238953591052E-2,41,41,41,41,41,41,41,41,41,41,41,41,41,41,41,41,41,41,41,41,41,41,41,41,41,41,21]
[null,null,null,40,2.2733817460986899E-4,4.2800197011741817E-5,1.5195373738844379E-4,3.1038109999151472E-4,5.4796544491845376E-6,5.4217246147155961E-5,0.1163611722283075,1.945607290928833E-2,2.293547499959955E-2,4.1485553398771264E-3,0.1129384906797246,0.24031113955332731,0.2260273198689598,2.454600954734984E-2,1.5068195173688461E-2,5.118819718942267E-2,4.7677328826657192E-2,6.5745697181421696E-3,1.233192785012533E-4,6.3375113811479491E-6,null,null,null,null,null,null,null,null,null,null,-95.002588597940118,43.269586539692902,-152.4262580730078,-7.2071798007045649,36.259623902513233,-116.030562283968,178.74450019343129,0.92196612706970427,2.8035601565524719,-88.267899184838342,-149.40494097179791,-91.750105022596799,174.38943198812271,157.88781832271499,178.82978531952139,-19.82249169711579,-27.916890706145409,155.89899148348809,-120.0003811717349,-38.845894774190768,null,null,null,null,null,null,null,null,null,null,2.388624164731027E-2,3.6044119652200161E-2,3.6054406586347253E-2,{"$f":"IF(MIN(BO$48:BO$77)=$BP$47,BO64,IF(BO64=MIN(BO$48:BO$77),BP$47,IF(BO64=\"\",$CT64,BO64)))","v":3.6054406586347253E-2},3.6054406586347253E-2,3.6054406586347253E-2,40,40,40,40,40,40,40,40,40,40,40,40,40,40,40,40,40,40,40,40,40,40,40,40,40,40,40,22]
[null,null,null,39,1.7929049319813801E-4,3.2699671529591129E-4,6.5591139230406987E-3,1.3087342616595E-3,4.5658870796522352E-2,1.479453667708486E-4,1.354904687810772E-3,1.4779078682404349E-3,9.7356435734026574E-3,1.805198016248229E-2,2.0932292062028401E-2,8.9932756155115846E-3,6.2353155083557628E-3,5.5182747590584889E-3,2.0927228996407712E-3,0.1173122675223677,7.4978926215911845E-2,8.6974865859281436E-3,3.8532557526957932E-4,4.3272134315342819E-5,null,null,null,null,null,null,null,null,null,null,93.090386150569785,-78.961409140108842,-100.3390450562314,-91.398685683885773,-97.254767438696547,-112.6454456811778,-131.663878899727,16.803640349004951,-81.326353407527634,-101.14194597523669,165.6690026297909,56.165138638532383,-148.55363621274,-171.32458028263099,-178.47244610168971,86.449849182656749,92.40223174044803,-169.71275486665891,-5.3447287769901717,83.223725138508428,null,null,null,null,null,null,null,null,null,null,0.25245966419425492,1.151791986186588E-2,1.190350511136487E-2,{"$f":"IF(MIN(BO$48:BO$77)=$BP$47,BO65,IF(BO65=MIN(BO$48:BO$77),BP$47,IF(BO65=\"\",$CT65,BO65)))","v":1.190350511136487E-2},1.190350511136487E-2,39,39,39,39,39,39,39,39,39,39,39,39,39,39,39,39,39,39,39,39,39,39,39,39,39,39,39,39,23]
[null,null,null,37,1.341691315532639E-3,3.3531882097965239E-2,2.7092049819550941E-2,2.8949847417514812E-2,1.6262052131858521E-4,3.5903448112915022E-2,6.1787582895275056E-3,1.0611606504370839E-2,6.7121553923851452E-3,7.6486812424323997E-3,1.551174000692257E-2,1.026266102044586E-2,5.4402323575414406E-3,3.7888300914614967E-2,3.1144835540955018E-4,5.8468963144427313E-3,3.7991893309386529E-2,0.333967515972383,1.2590008399466471E-4,2.4926247681565129E-4,null,null,null,null,null,null,null,null,null,null,-155.9644061623008,-95.970027440375631,-91.203901600342476,-96.49458339917102,-66.698131148997319,176.87963773264659,-88.685928614239373,170.46831471121979,-45.256447089330727,86.298359903929423,144.23445504093351,-174.97065659750109,97.85186996923629,175.87300546410461,9.3321836441956485,-94.720244689817108,62.692857369527879,179.54128573417,-21.31971492046074,-106.55212601026059,null,null,null,null,null,null,null,null,null,null,3.6897601931476447E-2,7.7438502296375824E-3,7.7491269849453894E-3,{"$f":"IF(MIN(BO$48:BO$77)=$BP$47,BO66,IF(BO66=MIN(BO$48:BO$77),BP$47,IF(BO66=\"\",$CT66,BO66)))","v":37},37,37,37,37,37,37,37,37,37,37,37,37,37,37,37,37,37,37,37,37,37,37,37,37,37,37,37,37,37,24]
[null,null,null,38,2.2949788756286501E-2,2.45244139379889E-2,3.2540908307067518E-2,3.5379662404689517E-2,7.928795271957929E-4,3.6614131408220917E-2,3.8395577222225569E-3,1.7492483903888641E-2,8.9230253965763145E-3,4.4723397415167053E-3,1.3783214551545729E-2,9.2073691969233873E-3,7.5361629311114934E-3,3.9984264446703617E-2,2.4204666825210649E-3,0.26811733304235741,0.27394105460881979,1.7062957030155871E-2,6.760482250314047E-4,3.2173119017280432E-5,null,null,null,null,null,null,null,null,null,null,88.886583864023876,175.7649110084119,88.998980808524536,-91.997262262858172,-56.431096825536613,-96.884455660822113,177.0905155122768,84.231313271189407,61.092720294199118,162.9435650611116,-132.45747612626181,-78.672364613757793,-171.15592528586879,-93.997778814005855,-60.889032972207431,179.41964795351331,179.66541179926679,-110.4032181507411,89.891639609921057,-14.992563841221751,null,null,null,null,null,null,null,null,null,null,2.216823391497659E-2,7.8165991874583549E-3,7.8185205536453889E-3,{"$f":"IF(MIN(BO$48:BO$77)=$BP$47,BO67,IF(BO67=MIN(BO$48:BO$77),BP$47,IF(BO67=\"\",$CT67,BO67)))","v":7.8185205536453889E-3},38,38,38,38,38,38,38,38,38,38,38,38,38,38,38,38,38,38,38,38,38,38,38,38,38,38,38,38,38,25]
[null,null,null,57,null,null,null,null,null,null,null,null,null,null,null,null,null,null,null,null,null,null,null,null,null,null,null,null,null,null,null,null,null,null,null,null,null,null,null,null,null,null,null,null,null,null,null,null,null,null,null,null,null,null,null,null,null,null,null,null,null,null,null,null,null,null,null,{"$f":"IF(MIN(BO$48:BO$77)=$BP$47,BO68,IF(BO68=MIN(BO$48:BO$77),BP$47,IF(BO68=\"\",$CT68,BO68)))","v":26},26,26,26,26,26,26,26,26,26,26,26,26,26,26,26,26,26,26,26,57,57,57,57,57,57,57,57,57,57,26]
[null,null,null,58,null,null,null,null,null,null,null,null,null,null,null,null,null,null,null,null,null,null,null,null,null,null,null,null,null,null,null,null,null,null,null,null,null,null,null,null,null,null,null,null,null,null,null,null,null,null,null,null,null,null,null,null,null,null,null,null,null,null,null,null,null,null,null,{"$f":"IF(MIN(BO$48:BO$77)=$BP$47,BO69,IF(BO69=MIN(BO$48:BO$77),BP$47,IF(BO69=\"\",$CT69,BO69)))","v":27},27,27,27,27,27,27,27,27,27,27,27,27,27,27,27,27,27,27,27,27,58,58,58,58,58,58,58,58,58,27]
[null,null,null,59,null,null,null,null,null,null,null,null,null,null,null,null,null,null,null,null,null,null,null,null,null,null,null,null,null,null,null,null,null,null,null,null,null,null,null,null,null,null,null,null,null,null,null,null,null,null,null,null,null,null,null,null,null,null,null,null,null,null,null,null,null,null,null,{"$f":"IF(MIN(BO$48:BO$77)=$BP$47,BO70,IF(BO70=MIN(BO$48:BO$77),BP$47,IF(BO70=\"\",$CT70,BO70)))","v":28},28,28,28,28,28,28,28,28,28,28,28,28,28,28,28,28,28,28,28,28,28,59,59,59,59,59,59,59,59,28]
[null,null,null,60,null,null,null,null,null,null,null,null,null,null,null,null,null,null,null,null,null,null,null,null,null,null,null,null,null,null,null,null,null,null,null,null,null,null,null,null,null,null,null,null,null,null,null,null,null,null,null,null,null,null,null,null,null,null,null,null,null,null,null,null,null,null,null,{"$f":"IF(MIN(BO$48:BO$77)=$BP$47,BO71,IF(BO71=MIN(BO$48:BO$77),BP$47,IF(BO71=\"\",$CT71,BO71)))","v":29},29,29,29,29,29,29,29,29,29,29,29,29,29,29,29,29,29,29,29,29,29,29,60,60,60,60,60,60,60,29]
[null,null,null,61,null,null,null,null,null,null,null,null,null,null,null,null,null,null,null,null,null,null,null,null,null,null,null,null,null,null,null,null,null,null,null,null,null,null,null,null,null,null,null,null,null,null,null,null,null,null,null,null,null,null,null,null,null,null,null,null,null,null,null,null,null,null,null,{"$f":"IF(MIN(BO$48:BO$77)=$BP$47,BO72,IF(BO72=MIN(BO$48:BO$77),BP$47,IF(BO72=\"\",$CT72,BO72)))","v":30},30,30,30,30,30,30,30,30,30,30,30,30,30,30,30,30,30,30,30,30,30,30,30,61,61,61,61,61,61,30]
[null,null,null,62,null,null,null,null,null,null,null,null,null,null,null,null,null,null,null,null,null,null,null,null,null,null,null,null,null,null,null,null,null,null,null,null,null,null,null,null,null,null,null,null,null,null,null,null,null,null,null,null,null,null,null,null,null,null,null,null,null,null,null,null,null,null,null,{"$f":"IF(MIN(BO$48:BO$77)=$BP$47,BO73,IF(BO73=MIN(BO$48:BO$77),BP$47,IF(BO73=\"\",$CT73,BO73)))","v":31},31,31,31,31,31,31,31,31,31,31,31,31,31,31,31,31,31,31,31,31,31,31,31,31,62,62,62,62,62,31]
[null,null,null,63,null,null,null,null,null,null,null,null,null,null,null,null,null,null,null,null,null,null,null,null,null,null,null,null,null,null,null,null,null,null,null,null,null,null,null,null,null,null,null,null,null,null,null,null,null,null,null,null,null,null,null,null,null,null,null,null,null,null,null,null,null,null,null,{"$f":"IF(MIN(BO$48:BO$77)=$BP$47,BO74,IF(BO74=MIN(BO$48:BO$77),BP$47,IF(BO74=\"\",$CT74,BO74)))","v":32},32,32,32,32,32,32,32,32,32,32,32,32,32,32,32,32,32,32,32,32,32,32,32,32,32,63,63,63,63,32]
[null,null,null,64,null,null,null,null,null,null,null,null,null,null,null,null,null,null,null,null,null,null,null,null,null,null,null,null,null,null,null,null,null,null,null,null,null,null,null,null,null,null,null,null,null,null,null,null,null,null,null,null,null,null,null,null,null,null,null,null,null,null,null,null,null,null,null,{"$f":"IF(MIN(BO$48:BO$77)=$BP$47,BO75,IF(BO75=MIN(BO$48:BO$77),BP$47,IF(BO75=\"\",$CT75,BO75)))","v":33},33,33,33,33,33,33,33,33,33,33,33,33,33,33,33,33,33,33,33,33,33,33,33,33,33,33,64,64,64,33]
[null,null,null,65,null,null,null,null,null,null,null,null,null,null,null,null,null,null,null,null,null,null,null,null,null,null,null,null,null,null,null,null,null,null,null,null,null,null,null,null,null,null,null,null,null,null,null,null,null,null,null,null,null,null,null,null,null,null,null,null,null,null,null,null,null,null,null,{"$f":"IF(MIN(BO$48:BO$77)=$BP$47,BO76,IF(BO76=MIN(BO$48:BO$77),BP$47,IF(BO76=\"\",$CT76,BO76)))","v":34},34,34,34,34,34,34,34,34,34,34,34,34,34,34,34,34,34,34,34,34,34,34,34,34,34,34,34,65,65,34]
[null,null,null,66,null,null,null,null,null,null,null,null,null,null,null,null,null,null,null,null,null,null,null,null,null,null,null,null,null,null,null,null,null,null,null,null,null,null,null,null,null,null,null,null,null,null,null,null,null,null,null,null,null,null,null,null,null,null,null,null,null,null,null,null,null,null,null,{"$f":"IF(MIN(BO$48:BO$77)=$BP$47,BO77,IF(BO77=MIN(BO$48:BO$77),BP$47,IF(BO77=\"\",$CT77,BO77)))","v":35},35,35,35,35,35,35,35,35,35,35,35,35,35,35,35,35,35,35,35,35,35,35,35,35,35,35,35,35,66,35]